PDS_VERSION_ID = PDS3
/* FILE DATA ELEMENTS */
RECORD_TYPE = STREAM
/* POINTERS TO DATA OBJECTS */
^COMPRESSED_FILE = "HA758_0000_P23.JP2"
/* IDENTIFICATION DATA ELEMENTS */
DATA_SET_ID = "MEX-M-HRSC-5-REFDR-MAPPROJECTED-V3.0"
DATA_SET_NAME = "MARS EXPRESS HRSC MAP PROJECTED REFDR V3.0"
DETECTOR_ID = MEX_HRSC_P2
EVENT_TYPE = "MARS-REGIONAL-MAPPING-Te-Lc-Pf"
INSTRUMENT_HOST_ID = MEX
INSTRUMENT_HOST_NAME = "MARS EXPRESS"
INSTRUMENT_ID = HRSC
INSTRUMENT_NAME = "HIGH RESOLUTION STEREO CAMERA"
MISSION_NAME = "MARS EXPRESS"
MISSION_PHASE_NAME = ME_Phase_26
PROCESSING_LEVEL_ID = 3
PRODUCT_CREATION_TIME = 2016-10-28T02:48:22.000Z
PRODUCT_ID = "HA758_0000_P23.JP2"
RELEASE_ID = 0110
REVISION_ID = 0000
/* QUALITY DATA ELEMENTS */
DATA_QUALITY_ID = 1
DATA_QUALITY_DESC = "Data calculated based on original SPICE kernels"
/* TIME DATA ELEMENTS */
SPACECRAFT_CLOCK_START_COUNT = "1/0287576340.08260"
SPACECRAFT_CLOCK_STOP_COUNT = "1/0287576735.08190"
START_TIME = 2012-06-12T10:19:18.387Z
STOP_TIME = 2012-06-12T10:23:21.108Z
/* ORBITAL DATA ELEMENTS */
ASCENDING_NODE_LONGITUDE = 12.03
MAXIMUM_RESOLUTION = 74.5
FOOTPRINT_POINT_LATITUDE = (-51.4711,-51.4145,-51.3834,-51.3502, -51.268,-50.8849,-50.63,-50.3718, -50.1119,-49.8549,-49.4591,-49.0608, -48.7953,-48.3899,-48.1194,-47.8492, -47.4354,-47.1598,-46.8804,-46.6, -46.3196,-46.034,-45.7478,-45.3144, -45.0233,-44.7334,-44.4384,-43.9956, -43.6955,-43.3963,-42.9405,-42.6367, -42.3278,-42.0243,-41.7122,-41.3979, -40.9198,-40.4373,-39.9513,-39.6237, -39.2905,-38.9632,-38.6268,-38.2877, -37.95,-37.4351,-36.9154,-36.5662,-36.4 ,-36.4349,-36.4713,-36.4907,-36.5211, -36.7073,-37.0571,-37.4075,-37.7526, -38.0953,-38.4368,-38.7741,-39.278, -39.6127,-39.9442,-40.2729,-40.5927, -40.9181,-41.2371,-41.5548,-41.8697, -42.1838,-42.4938,-42.9543,-43.2614, -43.5655,-43.8658,-44.1667,-44.4636, -44.7593,-45.1982,-45.4897,-45.7792, -46.0657,-46.4948,-46.7767,-47.0591, -47.3394,-47.6155,-48.0277,-48.4381, -48.7139,-48.9841,-49.2505,-49.6453, -50.0388,-50.4329,-50.6978,-50.9532, -51.2097,-51.4663,-51.4711)
FOOTPRINT_POINT_LONGITUDE = (219.205,218.45,218.066,217.677,217.227 ,217.274,217.306,217.336,217.367, 217.402,217.441,217.483,217.509,217.548 ,217.574,217.6,217.637,217.66,217.682, 217.705,217.727,217.748,217.768,217.795 ,217.814,217.833,217.852,217.879, 217.896,217.914,217.938,217.954,217.97, 217.991,218.006,218.019,218.036,218.051 ,218.067,218.078,218.083,218.098, 218.105,218.11,218.121,218.13,218.14, 218.146,218.451,219.026,219.701,220.102 ,220.762,221.024,221.006,220.989,220.97 ,220.952,220.933,220.915,220.886, 220.867,220.848,220.828,220.807,220.787 ,220.766,220.745,220.724,220.703, 220.681,220.648,220.626,220.603,220.58, 220.557,220.534,220.51,220.474,220.449, 220.425,220.4,220.362,220.336,220.311, 220.284,220.258,220.216,220.176,220.15, 220.121,220.093,220.048,220.003,219.959 ,219.93,219.899,219.868,219.837, 219.205)
ORBIT_NUMBER = 10758
ORBITAL_ECCENTRICITY = 0.577
ORBITAL_INCLINATION = 86.89
ORBITAL_SEMIMAJOR_AXIS = 8760.29
PERIAPSIS_ALTITUDE = 327.85
PERIAPSIS_ARGUMENT_ANGLE = 281.64
PERIAPSIS_TIME = 2012-06-12T10:12:51.000Z
SPACECRAFT_ORIENTATION = (0.0,1.0,0.0)
^MEX_ORIENTATION_DESC = "MEX_ORIENTATION_DESC.TXT"
SPACECRAFT_POINTING_MODE = ACROSSTRACK
^MEX_POINTING_DESC = "MEX_POINTING_DESC.TXT"
RIGHT_ASCENSION = -1e+32
DECLINATION = -1e+32
OFFSET_ANGLE = 1.3
SPACECRAFT_SOLAR_DISTANCE = 2.39497e+08
TARGET_NAME = MARS
/* CAMERA DATA ELEMENTS */
DETECTOR_TEMPERATURE = 19.1861
FOCAL_PLANE_TEMPERATURE = 8.7872
INST_CMPRS_NAME = "DISCRETE COSINE TRANSFORMATION (DCT)"
INST_CMPRS_RATIO = 5.63951
INST_CMPRS_QUALITY = 0
INST_CMPRS_QUANTZ_TBL_ID = 0
INSTRUMENT_TEMPERATURE = 12.0496
LENS_TEMPERATURE = 8.7872
MACROPIXEL_SIZE = 4
MISSING_FRAMES = 0
PIXEL_SUBSAMPLING_FLAG = N
SIGNAL_CHAIN_ID = 3
/* RADIOMETRIC DATA ELEMENTS */
BANDWIDTH = 177.0
CENTER_FILTER_WAVELENGTH = 676.5
RADIANCE_OFFSET = 0.55103
RADIANCE_SCALING_FACTOR = 0.0187605
REFLECTANCE_SCALING_FACTOR = 0.000570559
MEX:REFLECTANCE_OFFSET = 0.0167583
/* IMAGE OBJECT DEFINITIONS */
OBJECT = IMAGE
  INTERCHANGE_FORMAT = BINARY
  LINES = 8900
  LINE_SAMPLES = 1720
  SAMPLE_TYPE = UNSIGNED_INTEGER
  SAMPLE_BITS = 8
  BANDS = 1
  BAND_STORAGE_TYPE = BAND_SEQUENTIAL
  MAXIMUM = 255
  MEAN = 107.439
  MINIMUM = 1
  STANDARD_DEVIATION = 21.1259
END_OBJECT = IMAGE
/* MAP OBJECT DEFINITIONS */
OBJECT = IMAGE_MAP_PROJECTION
  ^DATA_SET_MAP_PROJECTION_CATALOG= "DSMAP.CAT"
  A_AXIS_RADIUS = 3396.0
  B_AXIS_RADIUS = 3396.0
  C_AXIS_RADIUS = 3396.0
  CENTER_LATITUDE = 0.0
  CENTER_LONGITUDE = 219.0
  COORDINATE_SYSTEM_NAME = PLANETOGRAPHIC
  COORDINATE_SYSTEM_TYPE = "BODY-FIXED ROTATING"
  EASTERNMOST_LONGITUDE = 221.024
  FIRST_STANDARD_PARALLEL = "N/A"
  LINE_FIRST_PIXEL = 1
  LINE_LAST_PIXEL = 8900
  LINE_PROJECTION_OFFSET = -21580.625
  MAP_PROJECTION_ROTATION = 0.0
  MAP_PROJECTION_TYPE = SINUSOIDAL
  MAP_RESOLUTION = 592.713803866667
  MAP_SCALE = 0.1
  MAXIMUM_LATITUDE = -36.4
  MINIMUM_LATITUDE = -51.4711
  POSITIVE_LONGITUDE_DIRECTION = EAST
  REFERENCE_LATITUDE = "N/A"
  REFERENCE_LONGITUDE = "N/A"
  SAMPLE_FIRST_PIXEL = 1
  SAMPLE_LAST_PIXEL = 1720
  SAMPLE_PROJECTION_OFFSET = 703.625
  SECOND_STANDARD_PARALLEL = "N/A"
  WESTERNMOST_LONGITUDE = 217.227
END_OBJECT = IMAGE_MAP_PROJECTION
/* The JPEG2000 image data file associated with this label. */
OBJECT = COMPRESSED_FILE
  FILE_NAME = "HA758_0000_P23.JP2"
  RECORD_TYPE = UNDEFINED
  FILE_RECORDS = UNK
  ENCODING_TYPE = "JP2"
  INTERCHANGE_FORMAT = BINARY
  UNCOMPRESSED_FILE_NAME = "HA758_0000_P23.IMG"
  REQUIRED_STORAGE_BYTES = "15328640"
  ^DESCRIPTION = "JP2INFO.TXT"
END_OBJECT = COMPRESSED_FILE
END
