PDS_VERSION_ID = PDS3
/* FILE DATA ELEMENTS */
RECORD_TYPE = STREAM
/* POINTERS TO DATA OBJECTS */
^COMPRESSED_FILE = "HA758_0000_RE3.JP2"
/* IDENTIFICATION DATA ELEMENTS */
DATA_SET_ID = "MEX-M-HRSC-5-REFDR-MAPPROJECTED-V3.0"
DATA_SET_NAME = "MARS EXPRESS HRSC MAP PROJECTED REFDR V3.0"
DETECTOR_ID = MEX_HRSC_RED
EVENT_TYPE = "MARS-REGIONAL-MAPPING-Te-Lc-Pf"
INSTRUMENT_HOST_ID = MEX
INSTRUMENT_HOST_NAME = "MARS EXPRESS"
INSTRUMENT_ID = HRSC
INSTRUMENT_NAME = "HIGH RESOLUTION STEREO CAMERA"
MISSION_NAME = "MARS EXPRESS"
MISSION_PHASE_NAME = ME_Phase_26
PROCESSING_LEVEL_ID = 3
PRODUCT_CREATION_TIME = 2016-10-28T02:48:22.000Z
PRODUCT_ID = "HA758_0000_RE3.JP2"
RELEASE_ID = 0110
REVISION_ID = 0000
/* QUALITY DATA ELEMENTS */
DATA_QUALITY_ID = 1
DATA_QUALITY_DESC = "Data calculated based on original SPICE kernels"
/* TIME DATA ELEMENTS */
SPACECRAFT_CLOCK_START_COUNT = "1/0287576340.08260"
SPACECRAFT_CLOCK_STOP_COUNT = "1/0287576735.08190"
START_TIME = 2012-06-12T10:19:10.994Z
STOP_TIME = 2012-06-12T10:23:10.101Z
/* ORBITAL DATA ELEMENTS */
ASCENDING_NODE_LONGITUDE = 12.03
MAXIMUM_RESOLUTION = 74.9
FOOTPRINT_POINT_LATITUDE = (-51.4954,-51.4319,-51.3603,-51.1468, -50.7623,-50.5048,-50.1192,-49.8608, -49.5976,-49.2015,-48.9333,-48.6644, -48.2615,-47.9883,-47.7171,-47.442, -47.164,-46.8841,-46.6058,-46.3225, -46.0373,-45.6067,-45.3164,-45.0264, -44.7334,-44.4398,-44.1448,-43.8455, -43.5467,-43.0922,-42.789,-42.4809, -42.0254,-41.7125,-41.3976,-41.0797, -40.7576,-40.4338,-40.1117,-39.783, -39.286,-38.9569,-38.6199,-38.2807, -37.9423,-37.4261,-37.08,-36.7302, -36.3796,-36.3939,-36.4245,-36.4527, -36.4916,-36.5096,-36.5342,-37.0706, -37.5931,-38.1101,-38.4517,-38.7897, -39.2954,-39.6324,-39.9645,-40.2926, -40.6108,-40.9385,-41.2572,-41.5759, -41.8906,-42.2052,-42.5155,-42.8214, -43.1313,-43.4355,-43.8883,-44.1867, -44.6345,-44.9288,-45.368,-45.6576, -46.0906,-46.5181,-46.803,-47.0836, -47.3633,-47.6426,-47.9173,-48.1877, -48.4688,-48.7404,-49.009,-49.412, -49.8018,-50.196,-50.459,-50.7219, -50.9791,-51.2385,-51.4923,-51.4954)
FOOTPRINT_POINT_LONGITUDE = (219.101,218.35,217.582,217.248,217.296 ,217.327,217.373,217.407,217.436, 217.477,217.503,217.53,217.568,217.594, 217.622,217.645,217.669,217.691,217.714 ,217.736,217.757,217.786,217.805, 217.824,217.844,217.863,217.881,217.899 ,217.916,217.942,217.958,217.974, 218.004,218.019,218.032,218.045,218.054 ,218.065,218.078,218.087,218.099, 218.112,218.12,218.127,218.137,218.147, 218.154,218.16,218.166,218.492,218.924, 219.352,220.014,220.328,220.796,220.984 ,220.958,220.931,220.912,220.894, 220.865,220.846,220.827,220.808,220.787 ,220.767,220.747,220.726,220.705, 220.683,220.662,220.639,220.618,220.595 ,220.561,220.538,220.503,220.479, 220.443,220.419,220.382,220.344,220.318 ,220.293,220.266,220.24,220.213,220.185 ,220.159,220.132,220.104,220.061, 220.016,219.971,219.942,219.913,219.882 ,219.851,219.82,219.101)
ORBIT_NUMBER = 10758
ORBITAL_ECCENTRICITY = 0.577
ORBITAL_INCLINATION = 86.89
ORBITAL_SEMIMAJOR_AXIS = 8760.29
PERIAPSIS_ALTITUDE = 327.85
PERIAPSIS_ARGUMENT_ANGLE = 281.64
PERIAPSIS_TIME = 2012-06-12T10:12:51.000Z
SPACECRAFT_ORIENTATION = (0.0,1.0,0.0)
^MEX_ORIENTATION_DESC = "MEX_ORIENTATION_DESC.TXT"
SPACECRAFT_POINTING_MODE = ACROSSTRACK
^MEX_POINTING_DESC = "MEX_POINTING_DESC.TXT"
RIGHT_ASCENSION = -1e+32
DECLINATION = -1e+32
OFFSET_ANGLE = 1.3
SPACECRAFT_SOLAR_DISTANCE = 2.39497e+08
TARGET_NAME = MARS
/* CAMERA DATA ELEMENTS */
DETECTOR_TEMPERATURE = 19.1861
FOCAL_PLANE_TEMPERATURE = 8.7872
INST_CMPRS_NAME = "DISCRETE COSINE TRANSFORMATION (DCT)"
INST_CMPRS_RATIO = 8.33298
INST_CMPRS_QUALITY = 0
INST_CMPRS_QUANTZ_TBL_ID = 0
INSTRUMENT_TEMPERATURE = 12.0496
LENS_TEMPERATURE = 8.7872
MACROPIXEL_SIZE = 4
MISSING_FRAMES = 0
PIXEL_SUBSAMPLING_FLAG = N
SIGNAL_CHAIN_ID = 2
/* RADIOMETRIC DATA ELEMENTS */
BANDWIDTH = 48.0
CENTER_FILTER_WAVELENGTH = 748.0
RADIANCE_OFFSET = 0.117817
RADIANCE_SCALING_FACTOR = 0.00551131
REFLECTANCE_SCALING_FACTOR = 0.000721407
MEX:REFLECTANCE_OFFSET = 0.0154217
/* IMAGE OBJECT DEFINITIONS */
OBJECT = IMAGE
  INTERCHANGE_FORMAT = BINARY
  LINES = 8900
  LINE_SAMPLES = 1720
  SAMPLE_TYPE = UNSIGNED_INTEGER
  SAMPLE_BITS = 8
  BANDS = 1
  BAND_STORAGE_TYPE = BAND_SEQUENTIAL
  MAXIMUM = 255
  MEAN = 103.28
  MINIMUM = 1
  STANDARD_DEVIATION = 20.2906
END_OBJECT = IMAGE
/* MAP OBJECT DEFINITIONS */
OBJECT = IMAGE_MAP_PROJECTION
  ^DATA_SET_MAP_PROJECTION_CATALOG= "DSMAP.CAT"
  A_AXIS_RADIUS = 3396.0
  B_AXIS_RADIUS = 3396.0
  C_AXIS_RADIUS = 3396.0
  CENTER_LATITUDE = 0.0
  CENTER_LONGITUDE = 219.0
  COORDINATE_SYSTEM_NAME = PLANETOGRAPHIC
  COORDINATE_SYSTEM_TYPE = "BODY-FIXED ROTATING"
  EASTERNMOST_LONGITUDE = 220.984
  FIRST_STANDARD_PARALLEL = "N/A"
  LINE_FIRST_PIXEL = 1
  LINE_LAST_PIXEL = 8900
  LINE_PROJECTION_OFFSET = -21580.625
  MAP_PROJECTION_ROTATION = 0.0
  MAP_PROJECTION_TYPE = SINUSOIDAL
  MAP_RESOLUTION = 592.713803866667
  MAP_SCALE = 0.1
  MAXIMUM_LATITUDE = -36.3796
  MINIMUM_LATITUDE = -51.4954
  POSITIVE_LONGITUDE_DIRECTION = EAST
  REFERENCE_LATITUDE = "N/A"
  REFERENCE_LONGITUDE = "N/A"
  SAMPLE_FIRST_PIXEL = 1
  SAMPLE_LAST_PIXEL = 1720
  SAMPLE_PROJECTION_OFFSET = 703.625
  SECOND_STANDARD_PARALLEL = "N/A"
  WESTERNMOST_LONGITUDE = 217.248
END_OBJECT = IMAGE_MAP_PROJECTION
/* The JPEG2000 image data file associated with this label. */
OBJECT = COMPRESSED_FILE
  FILE_NAME = "HA758_0000_RE3.JP2"
  RECORD_TYPE = UNDEFINED
  FILE_RECORDS = UNK
  ENCODING_TYPE = "JP2"
  INTERCHANGE_FORMAT = BINARY
  UNCOMPRESSED_FILE_NAME = "HA758_0000_RE3.IMG"
  REQUIRED_STORAGE_BYTES = "15328640"
  ^DESCRIPTION = "JP2INFO.TXT"
END_OBJECT = COMPRESSED_FILE
END
