PDS_VERSION_ID = PDS3
/* FILE DATA ELEMENTS */
RECORD_TYPE = STREAM
/* POINTERS TO DATA OBJECTS */
^COMPRESSED_FILE = "HA770_0000_GR3.JP2"
/* IDENTIFICATION DATA ELEMENTS */
DATA_SET_ID = "MEX-M-HRSC-5-REFDR-MAPPROJECTED-V3.0"
DATA_SET_NAME = "MARS EXPRESS HRSC MAP PROJECTED REFDR V3.0"
DETECTOR_ID = MEX_HRSC_GREEN
EVENT_TYPE = "MARS-REGIONAL-MAPPING-Gl-Lc-Pf"
INSTRUMENT_HOST_ID = MEX
INSTRUMENT_HOST_NAME = "MARS EXPRESS"
INSTRUMENT_ID = HRSC
INSTRUMENT_NAME = "HIGH RESOLUTION STEREO CAMERA"
MISSION_NAME = "MARS EXPRESS"
MISSION_PHASE_NAME = ME_Phase_26
PROCESSING_LEVEL_ID = 3
PRODUCT_CREATION_TIME = 2016-10-28T02:48:22.000Z
PRODUCT_ID = "HA770_0000_GR3.JP2"
RELEASE_ID = 0110
REVISION_ID = 0000
/* QUALITY DATA ELEMENTS */
DATA_QUALITY_ID = 1
DATA_QUALITY_DESC = "Data calculated based on original SPICE kernels"
/* TIME DATA ELEMENTS */
SPACECRAFT_CLOCK_START_COUNT = "1/0287878416.08252"
SPACECRAFT_CLOCK_STOP_COUNT = "1/0287878972.49852"
START_TIME = 2012-06-15T22:14:39.264Z
STOP_TIME = 2012-06-15T22:20:55.011Z
/* ORBITAL DATA ELEMENTS */
ASCENDING_NODE_LONGITUDE = 11.8
MAXIMUM_RESOLUTION = 88.5
FOOTPRINT_POINT_LATITUDE = (-48.261,-48.2459,-48.2232,-48.2159, -47.5578,-47.058,-46.3842,-45.6989, -45.3533,-45.0036,-44.651,-44.1173, -43.5787,-43.0322,-42.6655,-42.2946, -41.9206,-41.5438,-41.1646,-40.7816, -40.3946,-40.0044,-39.6113,-39.2152, -38.8154,-38.412,-38.0045,-37.5931, -37.1783,-36.7597,-36.3377,-35.9111, -35.4807,-35.0458,-34.6073,-34.167, -33.7292,-33.2934,-32.86,-32.4287, -31.9995,-31.5725,-31.1479,-30.7254, -30.3051,-29.8864,-29.47,-29.0549, -28.6425,-28.5574,-28.5557,-28.5515, -28.5421,-28.5322,-28.7226,-29.1379, -29.5553,-30.1884,-30.6095,-31.0354, -31.4636,-31.894,-32.3258,-32.7604, -33.1965,-33.6348,-34.0751,-34.5179, -35.1797,-35.6153,-36.047,-36.4748, -36.8985,-37.3182,-37.7341,-38.1461, -38.5549,-38.9597,-39.3613,-39.7589, -40.1527,-40.5431,-40.9302,-41.3146, -41.6957,-42.0722,-42.4472,-42.819, -43.1872,-43.5528,-43.9157,-44.2752, -44.6314,-44.9855,-45.3353,-45.8573, -46.3734,-47.052,-47.7212,-48.261)
FOOTPRINT_POINT_LONGITUDE = (75.0366,74.2271,73.3408,72.6066, 72.6347,72.6544,72.674,72.6953,72.7043, 72.7134,72.7231,72.7359,72.7437,72.753, 72.7571,72.7604,72.7634,72.767,72.7687, 72.7688,72.77,72.7705,72.7694,72.7674, 72.7652,72.7618,72.7582,72.754,72.749, 72.743,72.7355,72.728,72.7191,72.7103, 72.7001,72.6892,72.6769,72.6647,72.6512 ,72.6376,72.6233,72.6087,72.593,72.5769 ,72.5603,72.5444,72.5277,72.5125, 72.4956,72.9765,73.432,74.0264,74.8305, 75.425,76.2346,76.2253,76.2156,76.2071, 76.193,76.1844,76.176,76.1672,76.1567, 76.1469,76.1356,76.1239,76.1114,76.0994 ,76.0799,76.0666,76.0531,76.0398, 76.0263,76.0123,75.9983,75.9835,75.9694 ,75.9548,75.9404,75.9256,75.9102, 75.8941,75.8782,75.8628,75.8465,75.8292 ,75.8141,75.7969,75.7795,75.7639,75.747 ,75.7287,75.7107,75.6913,75.6705, 75.6441,75.6169,75.5779,75.5386, 75.0366)
ORBIT_NUMBER = 10770
ORBITAL_ECCENTRICITY = 0.577
ORBITAL_INCLINATION = 86.89
ORBITAL_SEMIMAJOR_AXIS = 8760.3
PERIAPSIS_ALTITUDE = 327.74
PERIAPSIS_ARGUMENT_ANGLE = 279.61
PERIAPSIS_TIME = 2012-06-15T22:06:06.000Z
SPACECRAFT_ORIENTATION = (0.0,1.0,0.0)
^MEX_ORIENTATION_DESC = "MEX_ORIENTATION_DESC.TXT"
SPACECRAFT_POINTING_MODE = NADIR
^MEX_POINTING_DESC = "MEX_POINTING_DESC.TXT"
RIGHT_ASCENSION = -1e+32
DECLINATION = -1e+32
OFFSET_ANGLE = -1e+32
SPACECRAFT_SOLAR_DISTANCE = 2.38947e+08
TARGET_NAME = MARS
/* CAMERA DATA ELEMENTS */
DETECTOR_TEMPERATURE = 18.3705
FOCAL_PLANE_TEMPERATURE = 9.3989
INST_CMPRS_NAME = "DISCRETE COSINE TRANSFORMATION (DCT)"
INST_CMPRS_RATIO = 13.9129
INST_CMPRS_QUALITY = 0
INST_CMPRS_QUANTZ_TBL_ID = 0
INSTRUMENT_TEMPERATURE = 11.4379
LENS_TEMPERATURE = 8.9911
MACROPIXEL_SIZE = 4
MISSING_FRAMES = 0
PIXEL_SUBSAMPLING_FLAG = N
SIGNAL_CHAIN_ID = 2
/* RADIOMETRIC DATA ELEMENTS */
BANDWIDTH = 88.0
CENTER_FILTER_WAVELENGTH = 538.0
RADIANCE_OFFSET = 1.84723
RADIANCE_SCALING_FACTOR = 0.0094681
REFLECTANCE_SCALING_FACTOR = 0.000465429
MEX:REFLECTANCE_OFFSET = 0.0908056
/* IMAGE OBJECT DEFINITIONS */
OBJECT = IMAGE
  INTERCHANGE_FORMAT = BINARY
  LINES = 11723
  LINE_SAMPLES = 1929
  SAMPLE_TYPE = UNSIGNED_INTEGER
  SAMPLE_BITS = 8
  BANDS = 1
  BAND_STORAGE_TYPE = BAND_SEQUENTIAL
  MAXIMUM = 255
  MEAN = 125.129
  MINIMUM = 1
  STANDARD_DEVIATION = 44.3286
END_OBJECT = IMAGE
/* MAP OBJECT DEFINITIONS */
OBJECT = IMAGE_MAP_PROJECTION
  ^DATA_SET_MAP_PROJECTION_CATALOG= "DSMAP.CAT"
  A_AXIS_RADIUS = 3396.0
  B_AXIS_RADIUS = 3396.0
  C_AXIS_RADIUS = 3396.0
  CENTER_LATITUDE = 0.0
  CENTER_LONGITUDE = 74.0
  COORDINATE_SYSTEM_NAME = PLANETOGRAPHIC
  COORDINATE_SYSTEM_TYPE = "BODY-FIXED ROTATING"
  EASTERNMOST_LONGITUDE = 76.2346
  FIRST_STANDARD_PARALLEL = "N/A"
  LINE_FIRST_PIXEL = 1
  LINE_LAST_PIXEL = 11723
  LINE_PROJECTION_OFFSET = -16902.125
  MAP_PROJECTION_ROTATION = 0.0
  MAP_PROJECTION_TYPE = SINUSOIDAL
  MAP_RESOLUTION = 592.713803866667
  MAP_SCALE = 0.1
  MAXIMUM_LATITUDE = -28.5322
  MINIMUM_LATITUDE = -48.261
  POSITIVE_LONGITUDE_DIRECTION = EAST
  REFERENCE_LATITUDE = "N/A"
  REFERENCE_LONGITUDE = "N/A"
  SAMPLE_FIRST_PIXEL = 1
  SAMPLE_LAST_PIXEL = 1929
  SAMPLE_PROJECTION_OFFSET = 774.375
  SECOND_STANDARD_PARALLEL = "N/A"
  WESTERNMOST_LONGITUDE = 72.4956
END_OBJECT = IMAGE_MAP_PROJECTION
/* The JPEG2000 image data file associated with this label. */
OBJECT = COMPRESSED_FILE
  FILE_NAME = "HA770_0000_GR3.JP2"
  RECORD_TYPE = UNDEFINED
  FILE_RECORDS = UNK
  ENCODING_TYPE = "JP2"
  INTERCHANGE_FORMAT = BINARY
  UNCOMPRESSED_FILE_NAME = "HA770_0000_GR3.IMG"
  REQUIRED_STORAGE_BYTES = "22632957"
  ^DESCRIPTION = "JP2INFO.TXT"
END_OBJECT = COMPRESSED_FILE
END
