PDS_VERSION_ID = PDS3
/* FILE DATA ELEMENTS */
RECORD_TYPE = STREAM
/* POINTERS TO DATA OBJECTS */
^COMPRESSED_FILE = "HA781_0000_BL3.JP2"
/* IDENTIFICATION DATA ELEMENTS */
DATA_SET_ID = "MEX-M-HRSC-5-REFDR-MAPPROJECTED-V3.0"
DATA_SET_NAME = "MARS EXPRESS HRSC MAP PROJECTED REFDR V3.0"
DETECTOR_ID = MEX_HRSC_BLUE
EVENT_TYPE = "MARS-CLOUD-VARIABLE-At"
INSTRUMENT_HOST_ID = MEX
INSTRUMENT_HOST_NAME = "MARS EXPRESS"
INSTRUMENT_ID = HRSC
INSTRUMENT_NAME = "HIGH RESOLUTION STEREO CAMERA"
MISSION_NAME = "MARS EXPRESS"
MISSION_PHASE_NAME = ME_Phase_26
PROCESSING_LEVEL_ID = 3
PRODUCT_CREATION_TIME = 2016-10-28T02:48:22.000Z
PRODUCT_ID = "HA781_0000_BL3.JP2"
RELEASE_ID = 0110
REVISION_ID = 0000
/* QUALITY DATA ELEMENTS */
DATA_QUALITY_ID = 1
DATA_QUALITY_DESC = "Data calculated based on original SPICE kernels"
/* TIME DATA ELEMENTS */
SPACECRAFT_CLOCK_START_COUNT = "1/0288155774.09048"
SPACECRAFT_CLOCK_STOP_COUNT = "1/0288157390.22117"
START_TIME = 2012-06-19T03:17:48.726Z
STOP_TIME = 2012-06-19T03:37:59.500Z
/* ORBITAL DATA ELEMENTS */
ASCENDING_NODE_LONGITUDE = 11.6
MAXIMUM_RESOLUTION = 190
FOOTPRINT_POINT_LATITUDE = (-19.6125,-19.6424,-19.6722,-19.6862, -18.6179,-17.5672,-16.5303,-15.5078, -14.4999,-13.5056,-12.5257,-11.5597, -10.6064,-9.66684,-8.74099,-7.82879, -6.92837,-6.04144,-5.16586,-4.30251, -3.45126,-2.61229,-1.78446,-0.968274, -0.162697,0.631404,1.41464,2.18757, 2.95005,3.70141,4.44304,5.17488,5.89683 ,6.60934,7.31202,8.0061,8.69091,10.0356 ,11.3462,12.6199,13.8657,15.0797, 16.2639,17.4195,18.5475,19.2519,19.3877 ,19.4933,19.5879,19.7209,19.8195, 19.9147,19.9953,20.1077,20.2446,20.4028 ,19.2229,18.0201,16.7899,15.5294, 14.2409,12.9235,11.5737,10.8871,10.1928 ,9.4898,8.77788,8.0571,7.32785,6.58991, 5.84257,5.08583,4.31925,3.54292,2.75721 ,1.96107,1.15509,0.34169,-0.488044, -1.3248,-2.17411,-3.03185,-3.904, -4.78714,-5.68155,-6.58763,-7.5063, -8.43883,-9.37992,-10.336,-11.3063, -12.2881,-13.2838,-14.2925,-15.3153, -16.352,-17.4036,-18.4665,-19.5471, -19.6125)
FOOTPRINT_POINT_LONGITUDE = (30.4975,29.5186,28.2136,27.3451, 27.2578,27.1724,27.0825,26.9901,26.8953 ,26.797,26.6973,26.5953,26.4896,26.3824 ,26.2739,26.1646,26.0515,25.938,25.8208 ,25.7019,25.5813,25.4598,25.3359, 25.2106,25.0827,24.954,24.8238,24.6914, 24.5575,24.4238,24.2879,24.1504,24.0118 ,23.8716,23.731,23.5877,23.4436,23.1483 ,22.8472,22.5496,22.2384,21.9249, 21.6069,21.2843,20.9573,21.8294,22.8779 ,23.7118,24.4365,25.5827,26.4141, 27.2475,27.9781,29.0243,30.3879,32.0147 ,31.9877,31.9673,31.9484,31.9279, 31.9106,31.8965,31.8822,31.876,31.8708, 31.8656,31.8601,31.8546,31.8499,31.8459 ,31.8418,31.8378,31.8336,31.8294, 31.8261,31.8223,31.8192,31.8203,31.8135 ,31.8119,31.8082,31.8083,31.804,31.8005 ,31.7975,31.7948,31.7913,31.7854, 31.7849,31.781,31.7747,31.7705,31.7651, 31.7599,31.7535,31.7465,31.7375,31.7322 ,31.7211,30.4975)
ORBIT_NUMBER = 10781
ORBITAL_ECCENTRICITY = 0.577
ORBITAL_INCLINATION = 86.88
ORBITAL_SEMIMAJOR_AXIS = 8759.89
PERIAPSIS_ALTITUDE = 328.76
PERIAPSIS_ARGUMENT_ANGLE = 277.74
PERIAPSIS_TIME = 2012-06-19T02:59:51.000Z
SPACECRAFT_ORIENTATION = (0.0,1.0,0.0)
^MEX_ORIENTATION_DESC = "MEX_ORIENTATION_DESC.TXT"
SPACECRAFT_POINTING_MODE = NADIR
^MEX_POINTING_DESC = "MEX_POINTING_DESC.TXT"
RIGHT_ASCENSION = -1e+32
DECLINATION = -1e+32
OFFSET_ANGLE = -1e+32
SPACECRAFT_SOLAR_DISTANCE = 2.38433e+08
TARGET_NAME = MARS
/* CAMERA DATA ELEMENTS */
DETECTOR_TEMPERATURE = 18.5744
FOCAL_PLANE_TEMPERATURE = 8.1755
INST_CMPRS_NAME = "DISCRETE COSINE TRANSFORMATION (DCT)"
INST_CMPRS_RATIO = 39.0094
INST_CMPRS_QUALITY = 0
INST_CMPRS_QUANTZ_TBL_ID = 0
INSTRUMENT_TEMPERATURE = 11.8457
LENS_TEMPERATURE = 8.7872
MACROPIXEL_SIZE = 4
MISSING_FRAMES = 0
PIXEL_SUBSAMPLING_FLAG = N
SIGNAL_CHAIN_ID = 2
/* RADIOMETRIC DATA ELEMENTS */
BANDWIDTH = 76.0
CENTER_FILTER_WAVELENGTH = 444.0
RADIANCE_OFFSET = 0.461576
RADIANCE_SCALING_FACTOR = 0.00372668
REFLECTANCE_SCALING_FACTOR = 0.000217673
MEX:REFLECTANCE_OFFSET = 0.0269603
/* IMAGE OBJECT DEFINITIONS */
OBJECT = IMAGE
  INTERCHANGE_FORMAT = BINARY
  LINES = 11880
  LINE_SAMPLES = 3179
  SAMPLE_TYPE = UNSIGNED_INTEGER
  SAMPLE_BITS = 8
  BANDS = 1
  BAND_STORAGE_TYPE = BAND_SEQUENTIAL
  MAXIMUM = 255
  MEAN = 144.514
  MINIMUM = 1
  STANDARD_DEVIATION = 44.5874
END_OBJECT = IMAGE
/* MAP OBJECT DEFINITIONS */
OBJECT = IMAGE_MAP_PROJECTION
  ^DATA_SET_MAP_PROJECTION_CATALOG= "DSMAP.CAT"
  A_AXIS_RADIUS = 3396.0
  B_AXIS_RADIUS = 3396.0
  C_AXIS_RADIUS = 3396.0
  CENTER_LATITUDE = 0.0
  CENTER_LONGITUDE = 28.0
  COORDINATE_SYSTEM_NAME = PLANETOGRAPHIC
  COORDINATE_SYSTEM_TYPE = "BODY-FIXED ROTATING"
  EASTERNMOST_LONGITUDE = 32.0147
  FIRST_STANDARD_PARALLEL = "N/A"
  LINE_FIRST_PIXEL = 1
  LINE_LAST_PIXEL = 11880
  LINE_PROJECTION_OFFSET = 6044.0
  MAP_PROJECTION_ROTATION = 0.0
  MAP_PROJECTION_TYPE = SINUSOIDAL
  MAP_RESOLUTION = 296.356901933333
  MAP_SCALE = 0.2
  MAXIMUM_LATITUDE = 20.4028
  MINIMUM_LATITUDE = -19.6862
  POSITIVE_LONGITUDE_DIRECTION = EAST
  REFERENCE_LATITUDE = "N/A"
  REFERENCE_LONGITUDE = "N/A"
  SAMPLE_FIRST_PIXEL = 1
  SAMPLE_LAST_PIXEL = 3179
  SAMPLE_PROJECTION_OFFSET = 2027.0
  SECOND_STANDARD_PARALLEL = "N/A"
  WESTERNMOST_LONGITUDE = 20.9573
END_OBJECT = IMAGE_MAP_PROJECTION
/* The JPEG2000 image data file associated with this label. */
OBJECT = COMPRESSED_FILE
  FILE_NAME = "HA781_0000_BL3.JP2"
  RECORD_TYPE = UNDEFINED
  FILE_RECORDS = UNK
  ENCODING_TYPE = "JP2"
  INTERCHANGE_FORMAT = BINARY
  UNCOMPRESSED_FILE_NAME = "HA781_0000_BL3.IMG"
  REQUIRED_STORAGE_BYTES = "37788773"
  ^DESCRIPTION = "JP2INFO.TXT"
END_OBJECT = COMPRESSED_FILE
END
