PDS_VERSION_ID = PDS3
/* FILE DATA ELEMENTS */
RECORD_TYPE = STREAM
/* POINTERS TO DATA OBJECTS */
^COMPRESSED_FILE = "HA781_0000_RE3.JP2"
/* IDENTIFICATION DATA ELEMENTS */
DATA_SET_ID = "MEX-M-HRSC-5-REFDR-MAPPROJECTED-V3.0"
DATA_SET_NAME = "MARS EXPRESS HRSC MAP PROJECTED REFDR V3.0"
DETECTOR_ID = MEX_HRSC_RED
EVENT_TYPE = "MARS-CLOUD-VARIABLE-At"
INSTRUMENT_HOST_ID = MEX
INSTRUMENT_HOST_NAME = "MARS EXPRESS"
INSTRUMENT_ID = HRSC
INSTRUMENT_NAME = "HIGH RESOLUTION STEREO CAMERA"
MISSION_NAME = "MARS EXPRESS"
MISSION_PHASE_NAME = ME_Phase_26
PROCESSING_LEVEL_ID = 3
PRODUCT_CREATION_TIME = 2016-10-28T02:48:22.000Z
PRODUCT_ID = "HA781_0000_RE3.JP2"
RELEASE_ID = 0110
REVISION_ID = 0000
/* QUALITY DATA ELEMENTS */
DATA_QUALITY_ID = 1
DATA_QUALITY_DESC = "Data calculated based on original SPICE kernels"
/* TIME DATA ELEMENTS */
SPACECRAFT_CLOCK_START_COUNT = "1/0288155774.09048"
SPACECRAFT_CLOCK_STOP_COUNT = "1/0288157390.22117"
START_TIME = 2012-06-19T03:16:17.933Z
STOP_TIME = 2012-06-19T03:31:40.243Z
/* ORBITAL DATA ELEMENTS */
ASCENDING_NODE_LONGITUDE = 11.6
MAXIMUM_RESOLUTION = 179.7
FOOTPRINT_POINT_LATITUDE = (-19.6134,-19.6519,-19.6676,-19.1901, -18.2401,-17.3024,-16.3687,-15.4429, -14.5251,-13.6134,-12.7097,-11.8137, -10.9249,-10.0419,-9.16911,-8.30462, -7.44723,-6.59698,-5.75786,-4.91881, -4.0893,-3.2653,-2.4493,-1.64167, -0.840518,-0.0446311,0.744528,1.526, 2.30468,3.07169,4.21051,4.96193,5.70731 ,6.44712,7.17855,7.90629,8.62379, 9.33933,10.0655,11.112,11.812,12.4863, 13.172,13.8537,14.5269,15.5304,16.8439, 18.1356,19.0948,19.5247,19.6517,19.775, 19.9133,19.9958,20.0967,20.212,19.6373, 18.3195,16.9712,16.2877,15.5974,14.9077 ,14.2055,13.5043,12.7978,12.0827, 11.0004,10.2777,9.54706,8.80995,8.06544 ,7.31654,6.56354,5.80224,5.03444, 4.26172,3.48168,2.29461,1.50429, 0.704328,-0.0998146,-0.911492,-1.73247, -2.96508,-4.22851,-5.07416,-5.92692, -6.78553,-7.65407,-8.53507,-9.85734, -11.1953,-12.5493,-13.4596,-14.3835, -15.3127,-16.249,-17.6709,-18.616, -19.6134)
FOOTPRINT_POINT_LONGITUDE = (31.1395,29.8376,28.8713,27.5226,27.455 ,27.3866,27.3146,27.2404,27.1641, 27.0851,27.004,26.9209,26.8357,26.7477, 26.6589,26.5685,26.476,26.3816,26.2869, 26.1874,26.087,25.9842,25.88,25.7745, 25.6671,25.5572,25.4455,25.3325,25.2161 ,25.1,24.9225,24.8018,24.6793,24.5547, 24.4293,24.301,24.1729,24.0411,23.9, 23.6995,23.5591,23.4263,23.2837,23.1385 ,22.9928,22.7689,22.4666,22.1571, 21.9179,23.1516,24.3679,25.9378,27.3276 ,28.1113,29.1577,30.3821,31.2119, 31.2324,31.2503,31.2589,31.2671,31.2769 ,31.2848,31.2945,31.3042,31.3131, 31.3265,31.3371,31.3469,31.3565,31.3656 ,31.375,31.3849,31.3939,31.4028,31.4118 ,31.4204,31.4314,31.441,31.4495,31.4585 ,31.467,31.4744,31.4883,31.497,31.5039, 31.5104,31.5169,31.5221,31.5252,31.533, 31.5397,31.5455,31.5491,31.5502,31.5513 ,31.5519,31.5502,31.5522,31.1395)
ORBIT_NUMBER = 10781
ORBITAL_ECCENTRICITY = 0.577
ORBITAL_INCLINATION = 86.88
ORBITAL_SEMIMAJOR_AXIS = 8759.89
PERIAPSIS_ALTITUDE = 328.76
PERIAPSIS_ARGUMENT_ANGLE = 277.74
PERIAPSIS_TIME = 2012-06-19T02:59:51.000Z
SPACECRAFT_ORIENTATION = (0.0,1.0,0.0)
^MEX_ORIENTATION_DESC = "MEX_ORIENTATION_DESC.TXT"
SPACECRAFT_POINTING_MODE = NADIR
^MEX_POINTING_DESC = "MEX_POINTING_DESC.TXT"
RIGHT_ASCENSION = -1e+32
DECLINATION = -1e+32
OFFSET_ANGLE = -1e+32
SPACECRAFT_SOLAR_DISTANCE = 2.38433e+08
TARGET_NAME = MARS
/* CAMERA DATA ELEMENTS */
DETECTOR_TEMPERATURE = 18.9822
FOCAL_PLANE_TEMPERATURE = 8.1755
INST_CMPRS_NAME = "DISCRETE COSINE TRANSFORMATION (DCT)"
INST_CMPRS_RATIO = 32.621
INST_CMPRS_QUALITY = 0
INST_CMPRS_QUANTZ_TBL_ID = 0
INSTRUMENT_TEMPERATURE = 11.8457
LENS_TEMPERATURE = 8.7872
MACROPIXEL_SIZE = 4
MISSING_FRAMES = 0
PIXEL_SUBSAMPLING_FLAG = N
SIGNAL_CHAIN_ID = 2
/* RADIOMETRIC DATA ELEMENTS */
BANDWIDTH = 48.0
CENTER_FILTER_WAVELENGTH = 748.0
RADIANCE_OFFSET = 0.7705
RADIANCE_SCALING_FACTOR = 0.0114388
REFLECTANCE_SCALING_FACTOR = 0.001484
MEX:REFLECTANCE_OFFSET = 0.09996
/* IMAGE OBJECT DEFINITIONS */
OBJECT = IMAGE
  INTERCHANGE_FORMAT = BINARY
  LINES = 11880
  LINE_SAMPLES = 3179
  SAMPLE_TYPE = UNSIGNED_INTEGER
  SAMPLE_BITS = 8
  BANDS = 1
  BAND_STORAGE_TYPE = BAND_SEQUENTIAL
  MAXIMUM = 255
  MEAN = 156.452
  MINIMUM = 1
  STANDARD_DEVIATION = 59.2243
END_OBJECT = IMAGE
/* MAP OBJECT DEFINITIONS */
OBJECT = IMAGE_MAP_PROJECTION
  ^DATA_SET_MAP_PROJECTION_CATALOG= "DSMAP.CAT"
  A_AXIS_RADIUS = 3396.0
  B_AXIS_RADIUS = 3396.0
  C_AXIS_RADIUS = 3396.0
  CENTER_LATITUDE = 0.0
  CENTER_LONGITUDE = 28.0
  COORDINATE_SYSTEM_NAME = PLANETOGRAPHIC
  COORDINATE_SYSTEM_TYPE = "BODY-FIXED ROTATING"
  EASTERNMOST_LONGITUDE = 31.5522
  FIRST_STANDARD_PARALLEL = "N/A"
  LINE_FIRST_PIXEL = 1
  LINE_LAST_PIXEL = 11880
  LINE_PROJECTION_OFFSET = 6044.0
  MAP_PROJECTION_ROTATION = 0.0
  MAP_PROJECTION_TYPE = SINUSOIDAL
  MAP_RESOLUTION = 296.356901933333
  MAP_SCALE = 0.2
  MAXIMUM_LATITUDE = 20.212
  MINIMUM_LATITUDE = -19.6676
  POSITIVE_LONGITUDE_DIRECTION = EAST
  REFERENCE_LATITUDE = "N/A"
  REFERENCE_LONGITUDE = "N/A"
  SAMPLE_FIRST_PIXEL = 1
  SAMPLE_LAST_PIXEL = 3179
  SAMPLE_PROJECTION_OFFSET = 2027.0
  SECOND_STANDARD_PARALLEL = "N/A"
  WESTERNMOST_LONGITUDE = 21.9179
END_OBJECT = IMAGE_MAP_PROJECTION
/* The JPEG2000 image data file associated with this label. */
OBJECT = COMPRESSED_FILE
  FILE_NAME = "HA781_0000_RE3.JP2"
  RECORD_TYPE = UNDEFINED
  FILE_RECORDS = UNK
  ENCODING_TYPE = "JP2"
  INTERCHANGE_FORMAT = BINARY
  UNCOMPRESSED_FILE_NAME = "HA781_0000_RE3.IMG"
  REQUIRED_STORAGE_BYTES = "37788773"
  ^DESCRIPTION = "JP2INFO.TXT"
END_OBJECT = COMPRESSED_FILE
END
