PDS_VERSION_ID = PDS3
/* FILE DATA ELEMENTS */
RECORD_TYPE = STREAM
/* POINTERS TO DATA OBJECTS */
^COMPRESSED_FILE = "HA785_0000_BL3.JP2"
/* IDENTIFICATION DATA ELEMENTS */
DATA_SET_ID = "MEX-M-HRSC-5-REFDR-MAPPROJECTED-V3.0"
DATA_SET_NAME = "MARS EXPRESS HRSC MAP PROJECTED REFDR V3.0"
DETECTOR_ID = MEX_HRSC_BLUE
EVENT_TYPE = "MARS-CLOUD-VARIABLE-At"
INSTRUMENT_HOST_ID = MEX
INSTRUMENT_HOST_NAME = "MARS EXPRESS"
INSTRUMENT_ID = HRSC
INSTRUMENT_NAME = "HIGH RESOLUTION STEREO CAMERA"
MISSION_NAME = "MARS EXPRESS"
MISSION_PHASE_NAME = ME_Phase_26
PROCESSING_LEVEL_ID = 3
PRODUCT_CREATION_TIME = 2016-10-28T02:48:22.000Z
PRODUCT_ID = "HA785_0000_BL3.JP2"
RELEASE_ID = 0110
REVISION_ID = 0000
/* QUALITY DATA ELEMENTS */
DATA_QUALITY_ID = 1
DATA_QUALITY_DESC = "Data calculated based on original SPICE kernels"
/* TIME DATA ELEMENTS */
SPACECRAFT_CLOCK_START_COUNT = "1/0288256451.08381"
SPACECRAFT_CLOCK_STOP_COUNT = "1/0288258100.19965"
START_TIME = 2012-06-20T07:15:47.047Z
STOP_TIME = 2012-06-20T07:36:19.008Z
/* ORBITAL DATA ELEMENTS */
ASCENDING_NODE_LONGITUDE = 11.53
MAXIMUM_RESOLUTION = 192.9
FOOTPRINT_POINT_LATITUDE = (-19.8213,-19.8528,-19.8745,-18.7969, -17.7345,-16.6875,-15.6549,-14.6371, -13.6345,-12.6457,-11.6708,-10.7107, -9.76412,-8.83177,-7.91209,-7.0056, -6.11212,-5.23123,-4.36243,-3.50507, -2.66121,-1.82856,-1.00775,-0.198806, 0.599218,1.38649,2.16428,2.92881, 3.68426,4.43006,5.16386,5.88849,6.60345 ,7.30976,8.00599,8.69397,9.37311,10.704 ,11.9982,13.2614,14.4925,15.6937, 16.8657,18.0093,19.1253,19.3027,19.4172 ,19.5835,19.7036,19.8449,19.9453,20.042 ,20.1251,20.2181,20.3318,20.4583, 19.9159,18.7212,17.5012,16.2489,14.9721 ,13.6639,12.3256,10.9554,10.2575, 9.55142,8.83702,8.11333,7.38107,6.63925 ,5.88873,5.1285,4.35841,3.57791,2.7882, 1.98896,1.18057,0.358546,-0.472295, -1.31619,-2.17039,-3.03645,-3.91312, -4.80173,-5.70292,-6.61542,-7.54122, -8.47982,-9.43051,-10.3942,-11.3709, -12.3612,-13.366,-14.3837,-15.4154, -16.4619,-17.5228,-18.5988,-19.689, -19.8213)
FOOTPRINT_POINT_LONGITUDE = (341.054,339.897,338.343,338.257, 338.167,338.075,337.979,337.881,337.781 ,337.678,337.572,337.465,337.356, 337.246,337.133,337.017,336.901,336.782 ,336.66,336.535,336.411,336.284,336.156 ,336.027,335.896,335.763,335.625, 335.491,335.353,335.212,335.074,334.932 ,334.789,334.643,334.497,334.348, 334.197,333.894,333.59,333.278,332.961, 332.638,332.31,331.978,331.641,332.69, 333.543,334.815,335.768,336.931,337.779 ,338.628,339.372,340.225,341.296, 342.585,343.044,343.022,343.004,342.982 ,342.967,342.952,342.94,342.929,342.924 ,342.919,342.915,342.911,342.908, 342.904,342.901,342.899,342.896,342.892 ,342.89,342.889,342.889,342.886,342.885 ,342.882,342.879,342.876,342.875, 342.873,342.87,342.868,342.865,342.861, 342.858,342.855,342.852,342.848,342.842 ,342.838,342.832,342.826,342.819,342.81 ,342.801,341.054)
ORBIT_NUMBER = 10785
ORBITAL_ECCENTRICITY = 0.577
ORBITAL_INCLINATION = 86.89
ORBITAL_SEMIMAJOR_AXIS = 8758.02
PERIAPSIS_ALTITUDE = 328.46
PERIAPSIS_ARGUMENT_ANGLE = 277.07
PERIAPSIS_TIME = 2012-06-20T06:57:39.000Z
SPACECRAFT_ORIENTATION = (0.0,1.0,0.0)
^MEX_ORIENTATION_DESC = "MEX_ORIENTATION_DESC.TXT"
SPACECRAFT_POINTING_MODE = NADIR
^MEX_POINTING_DESC = "MEX_POINTING_DESC.TXT"
RIGHT_ASCENSION = -1e+32
DECLINATION = -1e+32
OFFSET_ANGLE = -1e+32
SPACECRAFT_SOLAR_DISTANCE = 2.38244e+08
TARGET_NAME = MARS
/* CAMERA DATA ELEMENTS */
DETECTOR_TEMPERATURE = 18.7783
FOCAL_PLANE_TEMPERATURE = 8.9911
INST_CMPRS_NAME = "DISCRETE COSINE TRANSFORMATION (DCT)"
INST_CMPRS_RATIO = 31.7564
INST_CMPRS_QUALITY = 0
INST_CMPRS_QUANTZ_TBL_ID = 0
INSTRUMENT_TEMPERATURE = 12.0496
LENS_TEMPERATURE = 9.3989
MACROPIXEL_SIZE = 4
MISSING_FRAMES = 0
PIXEL_SUBSAMPLING_FLAG = N
SIGNAL_CHAIN_ID = 2
/* RADIOMETRIC DATA ELEMENTS */
BANDWIDTH = 76.0
CENTER_FILTER_WAVELENGTH = 444.0
RADIANCE_OFFSET = 0.547118
RADIANCE_SCALING_FACTOR = 0.00404356
REFLECTANCE_SCALING_FACTOR = 0.000235807
MEX:REFLECTANCE_OFFSET = 0.0319062
/* IMAGE OBJECT DEFINITIONS */
OBJECT = IMAGE
  INTERCHANGE_FORMAT = BINARY
  LINES = 11974
  LINE_SAMPLES = 3234
  SAMPLE_TYPE = UNSIGNED_INTEGER
  SAMPLE_BITS = 8
  BANDS = 1
  BAND_STORAGE_TYPE = BAND_SEQUENTIAL
  MAXIMUM = 255
  MEAN = 144.757
  MINIMUM = 1
  STANDARD_DEVIATION = 54.442
END_OBJECT = IMAGE
/* MAP OBJECT DEFINITIONS */
OBJECT = IMAGE_MAP_PROJECTION
  ^DATA_SET_MAP_PROJECTION_CATALOG= "DSMAP.CAT"
  A_AXIS_RADIUS = 3396.0
  B_AXIS_RADIUS = 3396.0
  C_AXIS_RADIUS = 3396.0
  CENTER_LATITUDE = 0.0
  CENTER_LONGITUDE = 339.0
  COORDINATE_SYSTEM_NAME = PLANETOGRAPHIC
  COORDINATE_SYSTEM_TYPE = "BODY-FIXED ROTATING"
  EASTERNMOST_LONGITUDE = 343.044
  FIRST_STANDARD_PARALLEL = "N/A"
  LINE_FIRST_PIXEL = 1
  LINE_LAST_PIXEL = 11974
  LINE_PROJECTION_OFFSET = 6081.0
  MAP_PROJECTION_ROTATION = 0.0
  MAP_PROJECTION_TYPE = SINUSOIDAL
  MAP_RESOLUTION = 296.356901933333
  MAP_SCALE = 0.2
  MAXIMUM_LATITUDE = 20.4583
  MINIMUM_LATITUDE = -19.8745
  POSITIVE_LONGITUDE_DIRECTION = EAST
  REFERENCE_LATITUDE = "N/A"
  REFERENCE_LONGITUDE = "N/A"
  SAMPLE_FIRST_PIXEL = 1
  SAMPLE_LAST_PIXEL = 3234
  SAMPLE_PROJECTION_OFFSET = 2066.0
  SECOND_STANDARD_PARALLEL = "N/A"
  WESTERNMOST_LONGITUDE = 331.641
END_OBJECT = IMAGE_MAP_PROJECTION
/* The JPEG2000 image data file associated with this label. */
OBJECT = COMPRESSED_FILE
  FILE_NAME = "HA785_0000_BL3.JP2"
  RECORD_TYPE = UNDEFINED
  FILE_RECORDS = UNK
  ENCODING_TYPE = "JP2"
  INTERCHANGE_FORMAT = BINARY
  UNCOMPRESSED_FILE_NAME = "HA785_0000_BL3.IMG"
  REQUIRED_STORAGE_BYTES = "38746554"
  ^DESCRIPTION = "JP2INFO.TXT"
END_OBJECT = COMPRESSED_FILE
END
