PDS_VERSION_ID = PDS3
/* FILE DATA ELEMENTS */
RECORD_TYPE = STREAM
/* POINTERS TO DATA OBJECTS */
^COMPRESSED_FILE = "HA785_0000_GR3.JP2"
/* IDENTIFICATION DATA ELEMENTS */
DATA_SET_ID = "MEX-M-HRSC-5-REFDR-MAPPROJECTED-V3.0"
DATA_SET_NAME = "MARS EXPRESS HRSC MAP PROJECTED REFDR V3.0"
DETECTOR_ID = MEX_HRSC_GREEN
EVENT_TYPE = "MARS-CLOUD-VARIABLE-At"
INSTRUMENT_HOST_ID = MEX
INSTRUMENT_HOST_NAME = "MARS EXPRESS"
INSTRUMENT_ID = HRSC
INSTRUMENT_NAME = "HIGH RESOLUTION STEREO CAMERA"
MISSION_NAME = "MARS EXPRESS"
MISSION_PHASE_NAME = ME_Phase_26
PROCESSING_LEVEL_ID = 3
PRODUCT_CREATION_TIME = 2016-10-28T02:48:22.000Z
PRODUCT_ID = "HA785_0000_GR3.JP2"
RELEASE_ID = 0110
REVISION_ID = 0000
/* QUALITY DATA ELEMENTS */
DATA_QUALITY_ID = 1
DATA_QUALITY_DESC = "Data calculated based on original SPICE kernels"
/* TIME DATA ELEMENTS */
SPACECRAFT_CLOCK_START_COUNT = "1/0288256451.08381"
SPACECRAFT_CLOCK_STOP_COUNT = "1/0288258100.19965"
START_TIME = 2012-06-20T07:16:44.939Z
STOP_TIME = 2012-06-20T07:41:42.192Z
/* ORBITAL DATA ELEMENTS */
ASCENDING_NODE_LONGITUDE = 11.53
MAXIMUM_RESOLUTION = 205.8
FOOTPRINT_POINT_LATITUDE = (-19.7957,-19.8525,-19.8896,-18.7229, -17.565,-16.4247,-15.3118,-14.2154, -13.1406,-12.0908,-11.0613,-10.0509, -9.06041,-8.08413,-7.13093,-6.18756, -5.2707,-4.37229,-3.49019,-2.61916, -1.76984,-0.935473,-0.112954,0.690671, 1.47862,2.25083,3.01352,3.76128,4.49537 ,5.21712,5.92544,6.62147,7.30393, 7.97508,8.6355,9.28446,10.549,11.7734, 12.9587,14.1063,15.2168,16.2927,17.3358 ,18.3471,19.0512,19.195,19.4276,19.5916 ,19.7294,19.8444,19.954,20.0731,20.1579 ,20.2517,20.3641,20.4585,20.5678, 19.4951,18.3921,17.2573,16.0866,14.8861 ,13.6474,12.3706,11.0536,10.3798,9.696, 9.00071,8.29449,7.57676,6.84736,6.10609 ,5.35226,4.58606,3.80686,3.01564, 2.20984,1.38903,0.555426,-0.296695, -1.15927,-2.03758,-2.93449,-3.84439, -4.77063,-5.71324,-6.68141,-7.65902, -8.6583,-9.67208,-10.7046,-11.7564, -12.8275,-13.9231,-15.0403,-16.1729, -17.3319,-18.5071,-19.7045,-19.7957)
FOOTPRINT_POINT_LONGITUDE = (341.658,339.981,338.61,338.087,337.98, 337.87,337.756,337.639,337.519,337.398, 337.274,337.149,337.021,336.89,336.759, 336.623,336.487,336.347,336.206,336.066 ,335.922,335.778,335.631,335.483, 335.333,335.179,335.03,334.879,334.725, 334.571,334.415,334.258,334.098,333.937 ,333.777,333.615,333.288,332.959, 332.628,332.293,331.955,331.613,331.268 ,330.921,331.841,332.703,334.174, 335.276,336.255,337.112,337.971,338.956 ,339.696,340.562,341.681,342.678, 343.981,343.914,343.849,343.787,343.735 ,343.673,343.619,343.568,343.522, 343.499,343.475,343.454,343.432,343.411 ,343.391,343.372,343.353,343.335, 343.317,343.298,343.281,343.268,343.252 ,343.236,343.22,343.205,343.188,343.174 ,343.161,343.146,343.131,343.118, 343.102,343.088,343.075,343.061,343.047 ,343.031,343.017,343.002,342.985, 342.968,342.95,341.658)
ORBIT_NUMBER = 10785
ORBITAL_ECCENTRICITY = 0.577
ORBITAL_INCLINATION = 86.89
ORBITAL_SEMIMAJOR_AXIS = 8758.02
PERIAPSIS_ALTITUDE = 328.46
PERIAPSIS_ARGUMENT_ANGLE = 277.07
PERIAPSIS_TIME = 2012-06-20T06:57:39.000Z
SPACECRAFT_ORIENTATION = (0.0,1.0,0.0)
^MEX_ORIENTATION_DESC = "MEX_ORIENTATION_DESC.TXT"
SPACECRAFT_POINTING_MODE = NADIR
^MEX_POINTING_DESC = "MEX_POINTING_DESC.TXT"
RIGHT_ASCENSION = -1e+32
DECLINATION = -1e+32
OFFSET_ANGLE = -1e+32
SPACECRAFT_SOLAR_DISTANCE = 2.38244e+08
TARGET_NAME = MARS
/* CAMERA DATA ELEMENTS */
DETECTOR_TEMPERATURE = 18.7783
FOCAL_PLANE_TEMPERATURE = 8.9911
INST_CMPRS_NAME = "DISCRETE COSINE TRANSFORMATION (DCT)"
INST_CMPRS_RATIO = 22.0781
INST_CMPRS_QUALITY = 0
INST_CMPRS_QUANTZ_TBL_ID = 0
INSTRUMENT_TEMPERATURE = 12.0496
LENS_TEMPERATURE = 9.3989
MACROPIXEL_SIZE = 4
MISSING_FRAMES = 8
PIXEL_SUBSAMPLING_FLAG = N
SIGNAL_CHAIN_ID = 2
/* RADIOMETRIC DATA ELEMENTS */
BANDWIDTH = 88.0
CENTER_FILTER_WAVELENGTH = 538.0
RADIANCE_OFFSET = 1.14684
RADIANCE_SCALING_FACTOR = 0.00989435
REFLECTANCE_SCALING_FACTOR = 0.000483519
MEX:REFLECTANCE_OFFSET = 0.0560443
/* IMAGE OBJECT DEFINITIONS */
OBJECT = IMAGE
  INTERCHANGE_FORMAT = BINARY
  LINES = 11974
  LINE_SAMPLES = 3234
  SAMPLE_TYPE = UNSIGNED_INTEGER
  SAMPLE_BITS = 8
  BANDS = 1
  BAND_STORAGE_TYPE = BAND_SEQUENTIAL
  MAXIMUM = 255
  MEAN = 138.403
  MINIMUM = 1
  STANDARD_DEVIATION = 60.492
END_OBJECT = IMAGE
/* MAP OBJECT DEFINITIONS */
OBJECT = IMAGE_MAP_PROJECTION
  ^DATA_SET_MAP_PROJECTION_CATALOG= "DSMAP.CAT"
  A_AXIS_RADIUS = 3396.0
  B_AXIS_RADIUS = 3396.0
  C_AXIS_RADIUS = 3396.0
  CENTER_LATITUDE = 0.0
  CENTER_LONGITUDE = 339.0
  COORDINATE_SYSTEM_NAME = PLANETOGRAPHIC
  COORDINATE_SYSTEM_TYPE = "BODY-FIXED ROTATING"
  EASTERNMOST_LONGITUDE = 343.981
  FIRST_STANDARD_PARALLEL = "N/A"
  LINE_FIRST_PIXEL = 1
  LINE_LAST_PIXEL = 11974
  LINE_PROJECTION_OFFSET = 6081.0
  MAP_PROJECTION_ROTATION = 0.0
  MAP_PROJECTION_TYPE = SINUSOIDAL
  MAP_RESOLUTION = 296.356901933333
  MAP_SCALE = 0.2
  MAXIMUM_LATITUDE = 20.5678
  MINIMUM_LATITUDE = -19.8896
  POSITIVE_LONGITUDE_DIRECTION = EAST
  REFERENCE_LATITUDE = "N/A"
  REFERENCE_LONGITUDE = "N/A"
  SAMPLE_FIRST_PIXEL = 1
  SAMPLE_LAST_PIXEL = 3234
  SAMPLE_PROJECTION_OFFSET = 2066.0
  SECOND_STANDARD_PARALLEL = "N/A"
  WESTERNMOST_LONGITUDE = 330.921
END_OBJECT = IMAGE_MAP_PROJECTION
/* The JPEG2000 image data file associated with this label. */
OBJECT = COMPRESSED_FILE
  FILE_NAME = "HA785_0000_GR3.JP2"
  RECORD_TYPE = UNDEFINED
  FILE_RECORDS = UNK
  ENCODING_TYPE = "JP2"
  INTERCHANGE_FORMAT = BINARY
  UNCOMPRESSED_FILE_NAME = "HA785_0000_GR3.IMG"
  REQUIRED_STORAGE_BYTES = "38746554"
  ^DESCRIPTION = "JP2INFO.TXT"
END_OBJECT = COMPRESSED_FILE
END
