PDS_VERSION_ID = PDS3
/* FILE DATA ELEMENTS */
RECORD_TYPE = STREAM
/* POINTERS TO DATA OBJECTS */
^COMPRESSED_FILE = "HA821_0000_GR3.JP2"
/* IDENTIFICATION DATA ELEMENTS */
DATA_SET_ID = "MEX-M-HRSC-5-REFDR-MAPPROJECTED-V3.0"
DATA_SET_NAME = "MARS EXPRESS HRSC MAP PROJECTED REFDR V3.0"
DETECTOR_ID = MEX_HRSC_GREEN
EVENT_TYPE = "MARS-CLOUD-VARIABLE-At"
INSTRUMENT_HOST_ID = MEX
INSTRUMENT_HOST_NAME = "MARS EXPRESS"
INSTRUMENT_ID = HRSC
INSTRUMENT_NAME = "HIGH RESOLUTION STEREO CAMERA"
MISSION_NAME = "MARS EXPRESS"
MISSION_PHASE_NAME = ME_Phase_26
PROCESSING_LEVEL_ID = 3
PRODUCT_CREATION_TIME = 2016-10-28T02:48:22.000Z
PRODUCT_ID = "HA821_0000_GR3.JP2"
RELEASE_ID = 0110
REVISION_ID = 0000
/* QUALITY DATA ELEMENTS */
DATA_QUALITY_ID = 1
DATA_QUALITY_DESC = "Data calculated based on original SPICE kernels"
/* TIME DATA ELEMENTS */
SPACECRAFT_CLOCK_START_COUNT = "1/0289162788.08219"
SPACECRAFT_CLOCK_STOP_COUNT = "1/0289163919.36131"
START_TIME = 2012-06-30T19:03:25.590Z
STOP_TIME = 2012-06-30T19:18:41.445Z
/* ORBITAL DATA ELEMENTS */
ASCENDING_NODE_LONGITUDE = 10.86
MAXIMUM_RESOLUTION = 316.9
FOOTPRINT_POINT_LATITUDE = (-20.0322,-20.1953,-20.3621,-20.5321, -20.7063,-20.885,-20.5725,-19.731, -18.8983,-18.0647,-17.2391,-16.4175, -15.5992,-14.3716,-13.5531,-12.7419, -11.9337,-11.1278,-10.3249,-9.5243, -8.72567,-7.93034,-7.13318,-5.94548, -5.15753,-3.58489,-2.01585,-1.22808, 1.12023,2.68355,4.23998,5.79471,7.34847 ,8.90207,11.2393,12.7993,14.3617, 15.1443,15.9281,16.7131,17.4994,18.7782 ,18.9139,19.0479,19.1795,19.3093, 19.4848,19.7196,19.9517,20.0737,20.1945 ,20.3146,19.6129,18.8044,17.9979, 17.1935,16.3908,15.5896,14.7901,13.9922 ,13.1953,12.3995,11.6048,10.811,10.0179 ,9.22547,8.43354,7.642,6.85075,6.05972, 5.26878,4.47782,3.68673,2.89542,2.09916 ,0.906089,0.113024,-0.684892,-1.87561, -2.67003,-3.46612,-4.26362,-5.0621, -5.86178,-6.67218,-7.46332,-8.27884, -9.07288,-9.88445,-11.1025,-11.917, -12.7387,-13.5623,-14.3827,-15.2072, -16.4503,-17.705,-18.9678,-19.81, -20.0322)
FOOTPRINT_POINT_LONGITUDE = (261.187,260.111,259.027,257.935, 256.832,255.714,254.775,254.736,254.695 ,254.651,254.606,254.559,254.51,254.433 ,254.381,254.328,254.273,254.216, 254.158,254.098,254.037,253.973,253.911 ,253.812,253.742,253.6,253.454,253.379, 253.146,252.984,252.818,252.646,252.47, 252.285,251.981,251.78,251.573,251.467, 251.358,251.248,251.136,251.287,252.189 ,253.091,253.99,254.889,256.127,257.819 ,259.527,260.443,261.365,262.294, 263.084,263.018,262.956,262.896,262.84, 262.787,262.736,262.689,262.644,262.601 ,262.561,262.523,262.488,262.454, 262.422,262.393,262.365,262.339,262.314 ,262.291,262.27,262.25,262.232,262.207, 262.193,262.178,262.159,262.146,262.136 ,262.128,262.12,262.112,262.113,262.099 ,262.102,262.091,262.091,262.089, 262.089,262.089,262.09,262.091,262.093, 262.098,262.103,262.11,262.115,261.187)
ORBIT_NUMBER = 10821
ORBITAL_ECCENTRICITY = 0.577
ORBITAL_INCLINATION = 86.88
ORBITAL_SEMIMAJOR_AXIS = 8758.01
PERIAPSIS_ALTITUDE = 328.14
PERIAPSIS_ARGUMENT_ANGLE = 271.0
PERIAPSIS_TIME = 2012-06-30T18:37:54.000Z
SPACECRAFT_ORIENTATION = (0.0,1.0,0.0)
^MEX_ORIENTATION_DESC = "MEX_ORIENTATION_DESC.TXT"
SPACECRAFT_POINTING_MODE = INERT
^MEX_POINTING_DESC = "MEX_POINTING_DESC.TXT"
RIGHT_ASCENSION = 314.84
DECLINATION = 55.726
OFFSET_ANGLE = -1e+32
SPACECRAFT_SOLAR_DISTANCE = 2.36487e+08
TARGET_NAME = MARS
/* CAMERA DATA ELEMENTS */
DETECTOR_TEMPERATURE = 18.5744
FOCAL_PLANE_TEMPERATURE = 8.5833
INST_CMPRS_NAME = "DISCRETE COSINE TRANSFORMATION (DCT)"
INST_CMPRS_RATIO = 22.0108
INST_CMPRS_QUALITY = 0
INST_CMPRS_QUANTZ_TBL_ID = 0
INSTRUMENT_TEMPERATURE = 11.6418
LENS_TEMPERATURE = 9.195
MACROPIXEL_SIZE = 4
MISSING_FRAMES = 7
PIXEL_SUBSAMPLING_FLAG = N
SIGNAL_CHAIN_ID = 2
/* RADIOMETRIC DATA ELEMENTS */
BANDWIDTH = 88.0
CENTER_FILTER_WAVELENGTH = 538.0
RADIANCE_OFFSET = 1.95328
RADIANCE_SCALING_FACTOR = 0.0134629
REFLECTANCE_SCALING_FACTOR = 0.000648238
MEX:REFLECTANCE_OFFSET = 0.0940503
/* IMAGE OBJECT DEFINITIONS */
OBJECT = IMAGE
  INTERCHANGE_FORMAT = BINARY
  LINES = 12281
  LINE_SAMPLES = 3243
  SAMPLE_TYPE = UNSIGNED_INTEGER
  SAMPLE_BITS = 8
  BANDS = 1
  BAND_STORAGE_TYPE = BAND_SEQUENTIAL
  MAXIMUM = 255
  MEAN = 121.661
  MINIMUM = 1
  STANDARD_DEVIATION = 30.0522
END_OBJECT = IMAGE
/* MAP OBJECT DEFINITIONS */
OBJECT = IMAGE_MAP_PROJECTION
  ^DATA_SET_MAP_PROJECTION_CATALOG= "DSMAP.CAT"
  A_AXIS_RADIUS = 3396.0
  B_AXIS_RADIUS = 3396.0
  C_AXIS_RADIUS = 3396.0
  CENTER_LATITUDE = 0.0
  CENTER_LONGITUDE = 257.0
  COORDINATE_SYSTEM_NAME = PLANETOGRAPHIC
  COORDINATE_SYSTEM_TYPE = "BODY-FIXED ROTATING"
  EASTERNMOST_LONGITUDE = 263.084
  FIRST_STANDARD_PARALLEL = "N/A"
  LINE_FIRST_PIXEL = 1
  LINE_LAST_PIXEL = 12281
  LINE_PROJECTION_OFFSET = 6048.0
  MAP_PROJECTION_ROTATION = 0.0
  MAP_PROJECTION_TYPE = SINUSOIDAL
  MAP_RESOLUTION = 296.356901933333
  MAP_SCALE = 0.2
  MAXIMUM_LATITUDE = 20.3146
  MINIMUM_LATITUDE = -20.885
  POSITIVE_LONGITUDE_DIRECTION = EAST
  REFERENCE_LATITUDE = "N/A"
  REFERENCE_LONGITUDE = "N/A"
  SAMPLE_FIRST_PIXEL = 1
  SAMPLE_LAST_PIXEL = 3243
  SAMPLE_PROJECTION_OFFSET = 1819.0
  SECOND_STANDARD_PARALLEL = "N/A"
  WESTERNMOST_LONGITUDE = 251.136
END_OBJECT = IMAGE_MAP_PROJECTION
/* The JPEG2000 image data file associated with this label. */
OBJECT = COMPRESSED_FILE
  FILE_NAME = "HA821_0000_GR3.JP2"
  RECORD_TYPE = UNDEFINED
  FILE_RECORDS = UNK
  ENCODING_TYPE = "JP2"
  INTERCHANGE_FORMAT = BINARY
  UNCOMPRESSED_FILE_NAME = "HA821_0000_GR3.IMG"
  REQUIRED_STORAGE_BYTES = "39849984"
  ^DESCRIPTION = "JP2INFO.TXT"
END_OBJECT = COMPRESSED_FILE
END
