PDS_VERSION_ID = PDS3
/* FILE DATA ELEMENTS */
RECORD_TYPE = STREAM
/* POINTERS TO DATA OBJECTS */
^COMPRESSED_FILE = "HA827_0000_BL3.JP2"
/* IDENTIFICATION DATA ELEMENTS */
DATA_SET_ID = "MEX-M-HRSC-5-REFDR-MAPPROJECTED-V3.0"
DATA_SET_NAME = "MARS EXPRESS HRSC MAP PROJECTED REFDR V3.0"
DETECTOR_ID = MEX_HRSC_BLUE
EVENT_TYPE = "MARS-REGIONAL-MAPPING-Im-Fl"
INSTRUMENT_HOST_ID = MEX
INSTRUMENT_HOST_NAME = "MARS EXPRESS"
INSTRUMENT_ID = HRSC
INSTRUMENT_NAME = "HIGH RESOLUTION STEREO CAMERA"
MISSION_NAME = "MARS EXPRESS"
MISSION_PHASE_NAME = ME_Phase_26
PROCESSING_LEVEL_ID = 3
PRODUCT_CREATION_TIME = 2016-10-28T04:43:21.000Z
PRODUCT_ID = "HA827_0000_BL3.JP2"
RELEASE_ID = 0111
REVISION_ID = 0000
/* QUALITY DATA ELEMENTS */
DATA_QUALITY_ID = 1
DATA_QUALITY_DESC = "Data calculated based on original SPICE kernels"
/* TIME DATA ELEMENTS */
SPACECRAFT_CLOCK_START_COUNT = "1/0289313003.12326"
SPACECRAFT_CLOCK_STOP_COUNT = "1/0289313435.64752"
START_TIME = 2012-07-02T12:44:14.244Z
STOP_TIME = 2012-07-02T12:44:45.819Z
/* ORBITAL DATA ELEMENTS */
ASCENDING_NODE_LONGITUDE = 10.75
MAXIMUM_RESOLUTION = 97.3
FOOTPRINT_POINT_LATITUDE = (-52.8151,-52.8132,-52.8112,-52.809, -52.8067,-52.8042,-52.8003,-52.7967, -52.7938,-52.7906,-52.7873,-52.783, -52.7794,-52.7757,-52.7718,-52.7677, -52.7635,-52.7592,-52.7547,-52.749, -52.7442,-52.7392,-52.7342,-52.7263, -52.7208,-52.7152,-52.6132,-52.4896, -52.4187,-52.3482,-52.2424,-52.172, -52.0838,-52.0134,-51.9242,-51.7995, -51.7282,-51.6391,-51.5144,-51.4602, -51.4059,-51.3336,-51.2616,-51.2075, -51.1353,-51.0452,-50.9551,-50.8973, -50.904,-50.9105,-50.9144,-50.9194, -50.9254,-50.9301,-50.9335,-50.9366, -50.9408,-50.945,-50.948,-50.9519, -50.9555,-50.959,-50.9624,-50.9664, -50.9694,-50.9716,-50.9744,-50.9776, -50.9794,-50.9812,-50.9839,-50.9858, -50.9872,-50.9889,-50.9901,-51.0474, -51.138,-51.2467,-51.3011,-51.3737, -51.4281,-51.5007,-51.5733,-51.6452, -51.699,-51.7529,-51.8066,-51.8783, -51.9681,-52.0218,-52.0935,-52.1472, -52.2178,-52.2885,-52.377,-52.5011, -52.572,-52.6429,-52.7655,-52.8151)
FOOTPRINT_POINT_LONGITUDE = (7.84262,7.71433,7.58611,7.45799, 7.32998,7.202,7.00994,6.84995,6.72203, 6.59411,6.46617,6.30628,6.17842,6.05063 ,5.92292,5.79527,5.66767,5.54006, 5.41242,5.25289,5.12525,4.99748,4.86958 ,4.67788,4.55025,4.42262,4.3907,4.39791 ,4.40208,4.40674,4.41374,4.41839, 4.42359,4.42875,4.43479,4.44334,4.44788 ,4.45334,4.46095,4.46385,4.46695,4.4711 ,4.476,4.47926,4.48352,4.48872,4.49382, 4.4969,4.65806,4.82195,4.92046,5.05191, 5.21614,5.34735,5.44568,5.54384,5.67496 ,5.80618,5.90454,6.0357,6.16693,6.29824 ,6.42962,6.59393,6.72538,6.82396, 6.95533,7.11972,7.21837,7.317,7.48137, 7.61296,7.7117,7.84344,7.9424,8.01523, 8.0084,8.00022,7.99619,7.99066,7.98672, 7.98125,7.97573,7.9701,7.9657,7.96093, 7.95689,7.95122,7.94373,7.93981,7.93437 ,7.92985,7.92433,7.9186,7.91124,7.90049 ,7.89454,7.88883,7.87929,7.84262)
ORBIT_NUMBER = 10827
ORBITAL_ECCENTRICITY = 0.577
ORBITAL_INCLINATION = 86.88
ORBITAL_SEMIMAJOR_AXIS = 8757.56
PERIAPSIS_ALTITUDE = 328.63
PERIAPSIS_ARGUMENT_ANGLE = 269.98
PERIAPSIS_TIME = 2012-07-02T12:34:33.000Z
SPACECRAFT_ORIENTATION = (0.0,1.0,0.0)
^MEX_ORIENTATION_DESC = "MEX_ORIENTATION_DESC.TXT"
SPACECRAFT_POINTING_MODE = NADIR
^MEX_POINTING_DESC = "MEX_POINTING_DESC.TXT"
RIGHT_ASCENSION = -1e+32
DECLINATION = -1e+32
OFFSET_ANGLE = -1e+32
SPACECRAFT_SOLAR_DISTANCE = 2.36186e+08
TARGET_NAME = MARS
/* CAMERA DATA ELEMENTS */
DETECTOR_TEMPERATURE = 0.0
FOCAL_PLANE_TEMPERATURE = 0.0
INST_CMPRS_NAME = "DISCRETE COSINE TRANSFORMATION (DCT)"
INST_CMPRS_RATIO = 3.82227
INST_CMPRS_QUALITY = 0
INST_CMPRS_QUANTZ_TBL_ID = 0
INSTRUMENT_TEMPERATURE = 0.0
LENS_TEMPERATURE = 0.0
MACROPIXEL_SIZE = 4
MISSING_FRAMES = 0
PIXEL_SUBSAMPLING_FLAG = N
SIGNAL_CHAIN_ID = 2
/* RADIOMETRIC DATA ELEMENTS */
BANDWIDTH = 76.0
CENTER_FILTER_WAVELENGTH = 444.0
RADIANCE_OFFSET = 0.370703
RADIANCE_SCALING_FACTOR = 0.0033436
REFLECTANCE_SCALING_FACTOR = 0.000191635
MEX:REFLECTANCE_OFFSET = 0.0212465
/* IMAGE OBJECT DEFINITIONS */
OBJECT = IMAGE
  INTERCHANGE_FORMAT = BINARY
  LINES = 761
  LINE_SAMPLES = 1341
  SAMPLE_TYPE = UNSIGNED_INTEGER
  SAMPLE_BITS = 8
  BANDS = 1
  BAND_STORAGE_TYPE = BAND_SEQUENTIAL
  MAXIMUM = 255
  MEAN = 225.443
  MINIMUM = 1
  STANDARD_DEVIATION = 35.5062
END_OBJECT = IMAGE
/* MAP OBJECT DEFINITIONS */
OBJECT = IMAGE_MAP_PROJECTION
  ^DATA_SET_MAP_PROJECTION_CATALOG= "DSMAP.CAT"
  A_AXIS_RADIUS = 3396.0
  B_AXIS_RADIUS = 3396.0
  C_AXIS_RADIUS = 3396.0
  CENTER_LATITUDE = 0.0
  CENTER_LONGITUDE = 6.0
  COORDINATE_SYSTEM_NAME = PLANETOGRAPHIC
  COORDINATE_SYSTEM_TYPE = "BODY-FIXED ROTATING"
  EASTERNMOST_LONGITUDE = 8.015230000000001
  FIRST_STANDARD_PARALLEL = "N/A"
  LINE_FIRST_PIXEL = 1
  LINE_LAST_PIXEL = 761
  LINE_PROJECTION_OFFSET = -30521.625
  MAP_PROJECTION_ROTATION = 0.0
  MAP_PROJECTION_TYPE = SINUSOIDAL
  MAP_RESOLUTION = 592.713803866667
  MAP_SCALE = 0.1
  MAXIMUM_LATITUDE = -50.8973
  MINIMUM_LATITUDE = -52.8151
  POSITIVE_LONGITUDE_DIRECTION = EAST
  REFERENCE_LATITUDE = "N/A"
  REFERENCE_LONGITUDE = "N/A"
  SAMPLE_FIRST_PIXEL = 1
  SAMPLE_LAST_PIXEL = 1341
  SAMPLE_PROJECTION_OFFSET = 608.875
  SECOND_STANDARD_PARALLEL = "N/A"
  WESTERNMOST_LONGITUDE = 4.3907
END_OBJECT = IMAGE_MAP_PROJECTION
/* The JPEG2000 image data file associated with this label. */
OBJECT = COMPRESSED_FILE
  FILE_NAME = "HA827_0000_BL3.JP2"
  RECORD_TYPE = UNDEFINED
  FILE_RECORDS = UNK
  ENCODING_TYPE = "JP2"
  INTERCHANGE_FORMAT = BINARY
  UNCOMPRESSED_FILE_NAME = "HA827_0000_BL3.IMG"
  REQUIRED_STORAGE_BYTES = "1040616"
  ^DESCRIPTION = "JP2INFO.TXT"
END_OBJECT = COMPRESSED_FILE
END
