PDS_VERSION_ID = PDS3
/* FILE DATA ELEMENTS */
RECORD_TYPE = STREAM
/* POINTERS TO DATA OBJECTS */
^COMPRESSED_FILE = "HA835_0000_RE3.JP2"
/* IDENTIFICATION DATA ELEMENTS */
DATA_SET_ID = "MEX-M-HRSC-5-REFDR-MAPPROJECTED-V3.0"
DATA_SET_NAME = "MARS EXPRESS HRSC MAP PROJECTED REFDR V3.0"
DETECTOR_ID = MEX_HRSC_RED
EVENT_TYPE = "MARS-CLOUD-VARIABLE-At"
INSTRUMENT_HOST_ID = MEX
INSTRUMENT_HOST_NAME = "MARS EXPRESS"
INSTRUMENT_ID = HRSC
INSTRUMENT_NAME = "HIGH RESOLUTION STEREO CAMERA"
MISSION_NAME = "MARS EXPRESS"
MISSION_PHASE_NAME = ME_Phase_26
PROCESSING_LEVEL_ID = 3
PRODUCT_CREATION_TIME = 2016-10-28T04:43:21.000Z
PRODUCT_ID = "HA835_0000_RE3.JP2"
RELEASE_ID = 0111
REVISION_ID = 0000
/* QUALITY DATA ELEMENTS */
DATA_QUALITY_ID = 1
DATA_QUALITY_DESC = "Data calculated based on original SPICE kernels"
/* TIME DATA ELEMENTS */
SPACECRAFT_CLOCK_START_COUNT = "1/0289514970.09045"
SPACECRAFT_CLOCK_STOP_COUNT = "1/0289516665.02386"
START_TIME = 2012-07-04T20:49:33.054Z
STOP_TIME = 2012-07-04T21:06:25.522Z
/* ORBITAL DATA ELEMENTS */
ASCENDING_NODE_LONGITUDE = 10.6
MAXIMUM_RESOLUTION = 221.1
FOOTPRINT_POINT_LATITUDE = (-19.822,-19.8486,-19.8734,-19.9052, -18.9436,-17.9908,-17.047,-16.1115, -15.1854,-14.2678,-13.3591,-12.4581, -11.5648,-10.6761,-9.78432,-8.91997, -8.07992,-7.19439,-6.37727,-5.09289, -3.88419,-3.06793,-2.25843,-1.45281, -0.657112,0.127577,0.905152,1.67581, 2.43932,3.19642,3.94719,4.69158,5.42896 ,6.16001,6.88485,7.60358,8.3155,9.02116 ,9.72128,11.1024,12.4577,13.7894, 15.1014,16.3976,17.6729,18.9254,19.0712 ,19.1769,19.2665,19.3583,19.4648, 19.5619,19.6619,19.8578,19.9665,20.0777 ,20.1929,19.6129,18.2825,16.9345, 15.5666,14.1785,12.7607,12.0516,11.3342 ,10.6115,9.8839,9.14989,8.41116,7.66667 ,6.91523,6.15941,5.39645,4.62433, 3.84842,3.06506,2.27645,1.48189,0.67981 ,-0.128016,-0.941483,-1.7635,-2.59721, -3.43474,-4.66757,-5.98707,-7.28531, -8.16022,-9.48347,-10.8276,-12.1901, -13.1041,-14.0281,-14.9609,-15.9022, -16.8519,-17.8091,-18.7757,-19.7509, -19.822)
FOOTPRINT_POINT_LONGITUDE = (269.469,268.689,267.588,265.881, 265.797,265.71,265.621,265.529,265.435, 265.338,265.239,265.137,265.033,264.925 ,264.81,264.7,264.595,264.466,264.36, 264.167,263.992,263.865,263.736,263.603 ,263.469,263.335,263.199,263.06,262.92, 262.778,262.633,262.486,262.337,262.186 ,262.033,261.878,261.721,261.562,261.4, 261.072,260.736,260.392,260.038,259.672 ,259.296,258.913,260.137,261.164,261.98 ,262.794,263.708,264.52,265.334,266.863 ,267.68,268.502,269.329,269.907,269.956 ,270.004,270.052,270.1,270.144,270.168, 270.192,270.215,270.238,270.26,270.283, 270.305,270.327,270.349,270.371,270.391 ,270.412,270.432,270.452,270.472, 270.491,270.51,270.529,270.547,270.563, 270.58,270.615,270.629,270.652,270.667, 270.689,270.708,270.726,270.738,270.749 ,270.759,270.768,270.777,270.784, 270.791,270.796,269.469)
ORBIT_NUMBER = 10835
ORBITAL_ECCENTRICITY = 0.577
ORBITAL_INCLINATION = 86.88
ORBITAL_SEMIMAJOR_AXIS = 8758.24
PERIAPSIS_ALTITUDE = 328.16
PERIAPSIS_ARGUMENT_ANGLE = 268.64
PERIAPSIS_TIME = 2012-07-04T20:30:09.000Z
SPACECRAFT_ORIENTATION = (0.0,1.0,0.0)
^MEX_ORIENTATION_DESC = "MEX_ORIENTATION_DESC.TXT"
SPACECRAFT_POINTING_MODE = NADIR
^MEX_POINTING_DESC = "MEX_POINTING_DESC.TXT"
RIGHT_ASCENSION = -1e+32
DECLINATION = -1e+32
OFFSET_ANGLE = -1e+32
SPACECRAFT_SOLAR_DISTANCE = 2.3578e+08
TARGET_NAME = MARS
/* CAMERA DATA ELEMENTS */
DETECTOR_TEMPERATURE = 18.3705
FOCAL_PLANE_TEMPERATURE = 7.9716
INST_CMPRS_NAME = "DISCRETE COSINE TRANSFORMATION (DCT)"
INST_CMPRS_RATIO = 34.2678
INST_CMPRS_QUALITY = 0
INST_CMPRS_QUANTZ_TBL_ID = 0
INSTRUMENT_TEMPERATURE = 11.0301
LENS_TEMPERATURE = 8.5833
MACROPIXEL_SIZE = 4
MISSING_FRAMES = 0
PIXEL_SUBSAMPLING_FLAG = N
SIGNAL_CHAIN_ID = 2
/* RADIOMETRIC DATA ELEMENTS */
BANDWIDTH = 48.0
CENTER_FILTER_WAVELENGTH = 748.0
RADIANCE_OFFSET = 0.7705
RADIANCE_SCALING_FACTOR = 0.0135971
REFLECTANCE_SCALING_FACTOR = 0.00172495
MEX:REFLECTANCE_OFFSET = 0.0977474
/* IMAGE OBJECT DEFINITIONS */
OBJECT = IMAGE
  INTERCHANGE_FORMAT = BINARY
  LINES = 11986
  LINE_SAMPLES = 3931
  SAMPLE_TYPE = UNSIGNED_INTEGER
  SAMPLE_BITS = 8
  BANDS = 1
  BAND_STORAGE_TYPE = BAND_SEQUENTIAL
  MAXIMUM = 255
  MEAN = 172.85
  MINIMUM = 1
  STANDARD_DEVIATION = 52.2437
END_OBJECT = IMAGE
/* MAP OBJECT DEFINITIONS */
OBJECT = IMAGE_MAP_PROJECTION
  ^DATA_SET_MAP_PROJECTION_CATALOG= "DSMAP.CAT"
  A_AXIS_RADIUS = 3396.0
  B_AXIS_RADIUS = 3396.0
  C_AXIS_RADIUS = 3396.0
  CENTER_LATITUDE = 0.0
  CENTER_LONGITUDE = 266.0
  COORDINATE_SYSTEM_NAME = PLANETOGRAPHIC
  COORDINATE_SYSTEM_TYPE = "BODY-FIXED ROTATING"
  EASTERNMOST_LONGITUDE = 270.796
  FIRST_STANDARD_PARALLEL = "N/A"
  LINE_FIRST_PIXEL = 1
  LINE_LAST_PIXEL = 11986
  LINE_PROJECTION_OFFSET = 6083.0
  MAP_PROJECTION_ROTATION = 0.0
  MAP_PROJECTION_TYPE = SINUSOIDAL
  MAP_RESOLUTION = 296.356901933333
  MAP_SCALE = 0.2
  MAXIMUM_LATITUDE = 20.1929
  MINIMUM_LATITUDE = -19.9052
  POSITIVE_LONGITUDE_DIRECTION = EAST
  REFERENCE_LATITUDE = "N/A"
  REFERENCE_LONGITUDE = "N/A"
  SAMPLE_FIRST_PIXEL = 1
  SAMPLE_LAST_PIXEL = 3931
  SAMPLE_PROJECTION_OFFSET = 2430.0
  SECOND_STANDARD_PARALLEL = "N/A"
  WESTERNMOST_LONGITUDE = 258.913
END_OBJECT = IMAGE_MAP_PROJECTION
/* The JPEG2000 image data file associated with this label. */
OBJECT = COMPRESSED_FILE
  FILE_NAME = "HA835_0000_RE3.JP2"
  RECORD_TYPE = UNDEFINED
  FILE_RECORDS = UNK
  ENCODING_TYPE = "JP2"
  INTERCHANGE_FORMAT = BINARY
  UNCOMPRESSED_FILE_NAME = "HA835_0000_RE3.IMG"
  REQUIRED_STORAGE_BYTES = "47140552"
  ^DESCRIPTION = "JP2INFO.TXT"
END_OBJECT = COMPRESSED_FILE
END
