PDS_VERSION_ID = PDS3
/* FILE DATA ELEMENTS */
RECORD_TYPE = STREAM
/* POINTERS TO DATA OBJECTS */
^COMPRESSED_FILE = "HA866_0000_BL3.JP2"
/* IDENTIFICATION DATA ELEMENTS */
DATA_SET_ID = "MEX-M-HRSC-5-REFDR-MAPPROJECTED-V3.0"
DATA_SET_NAME = "MARS EXPRESS HRSC MAP PROJECTED REFDR V3.0"
DETECTOR_ID = MEX_HRSC_BLUE
EVENT_TYPE = "MARS-REGIONAL-MAPPING-Fl-Gl"
INSTRUMENT_HOST_ID = MEX
INSTRUMENT_HOST_NAME = "MARS EXPRESS"
INSTRUMENT_ID = HRSC
INSTRUMENT_NAME = "HIGH RESOLUTION STEREO CAMERA"
MISSION_NAME = "MARS EXPRESS"
MISSION_PHASE_NAME = ME_Phase_26
PROCESSING_LEVEL_ID = 3
PRODUCT_CREATION_TIME = 2016-10-28T04:43:21.000Z
PRODUCT_ID = "HA866_0000_BL3.JP2"
RELEASE_ID = 0111
REVISION_ID = 0000
/* QUALITY DATA ELEMENTS */
DATA_QUALITY_ID = 1
DATA_QUALITY_DESC = "Data calculated based on original SPICE kernels"
/* TIME DATA ELEMENTS */
SPACECRAFT_CLOCK_START_COUNT = "1/0290294552.08245"
SPACECRAFT_CLOCK_STOP_COUNT = "1/0290294992.11809"
START_TIME = 2012-07-13T21:23:28.720Z
STOP_TIME = 2012-07-13T21:27:10.160Z
/* ORBITAL DATA ELEMENTS */
ASCENDING_NODE_LONGITUDE = 10.02
MAXIMUM_RESOLUTION = 107
FOOTPRINT_POINT_LATITUDE = (-55.9736,-55.9622,-55.9406,-55.9205, -55.8983,-55.8611,-55.6213,-55.3093, -54.8907,-54.468,-54.0401,-53.7184, -53.2839,-52.8462,-52.6254,-52.4032, -52.1803,-51.9561,-51.731,-51.5043, -51.2775,-51.0486,-50.7033,-50.4721, -50.2389,-50.0058,-49.7706,-49.5342, -49.2967,-49.0574,-48.6969,-48.4555, -48.2122,-47.9681,-47.7223,-47.4751, -47.227,-46.9775,-46.7263,-46.4738, -46.0924,-45.8369,-45.5791,-45.3203, -45.0604,-44.8,-44.5372,-44.1156, -44.1292,-44.1391,-44.1477,-44.1552, -44.1603,-44.1645,-44.1679,-44.17, -44.1713,-44.1705,-44.3036,-44.5707, -44.8359,-45.0992,-45.3614,-45.6222, -45.8814,-46.1388,-46.5225,-46.9037, -47.156,-47.4068,-47.6561,-47.9039, -48.1511,-48.3962,-48.7629,-49.0055, -49.2459,-49.6051,-49.8437,-50.0806, -50.3152,-50.5501,-50.7827,-51.1301, -51.3607,-51.589,-51.8172,-52.0433, -52.2691,-52.4931,-52.717,-52.9387, -53.1602,-53.3798,-53.8169,-54.2494, -54.7846,-55.2085,-55.6285,-55.9736)
FOOTPRINT_POINT_LONGITUDE = (340.452,339.844,338.971,338.327, 337.721,336.851,336.519,336.545,336.583 ,336.62,336.652,336.679,336.71,336.741, 336.755,336.769,336.782,336.795,336.807 ,336.82,336.832,336.843,336.859,336.87, 336.88,336.89,336.901,336.909,336.918, 336.926,336.937,336.945,336.952,336.958 ,336.964,336.97,336.975,336.98,336.985, 336.989,336.994,336.997,336.999,337.001 ,337.003,337.006,337.008,337.129, 337.584,337.956,338.328,338.7,339.03, 339.36,339.732,340.105,340.477,341.015, 341.437,341.425,341.413,341.402,341.389 ,341.377,341.365,341.353,341.334, 341.315,341.302,341.289,341.276,341.262 ,341.248,341.234,341.21,341.195,341.183 ,341.16,341.144,341.129,341.114,341.098 ,341.082,341.058,341.042,341.025, 341.008,340.992,340.975,340.957,340.94, 340.922,340.904,340.886,340.849,340.811 ,340.762,340.721,340.679,340.452)
ORBIT_NUMBER = 10866
ORBITAL_ECCENTRICITY = 0.577
ORBITAL_INCLINATION = 86.89
ORBITAL_SEMIMAJOR_AXIS = 8758.33
PERIAPSIS_ALTITUDE = 328.44
PERIAPSIS_ARGUMENT_ANGLE = 263.41
PERIAPSIS_TIME = 2012-07-13T21:12:47.000Z
SPACECRAFT_ORIENTATION = (0.0,1.0,0.0)
^MEX_ORIENTATION_DESC = "MEX_ORIENTATION_DESC.TXT"
SPACECRAFT_POINTING_MODE = NADIR
^MEX_POINTING_DESC = "MEX_POINTING_DESC.TXT"
RIGHT_ASCENSION = -1e+32
DECLINATION = -1e+32
OFFSET_ANGLE = -1e+32
SPACECRAFT_SOLAR_DISTANCE = 2.34172e+08
TARGET_NAME = MARS
/* CAMERA DATA ELEMENTS */
DETECTOR_TEMPERATURE = 18.1666
FOCAL_PLANE_TEMPERATURE = 8.5833
INST_CMPRS_NAME = "DISCRETE COSINE TRANSFORMATION (DCT)"
INST_CMPRS_RATIO = 5.00138
INST_CMPRS_QUALITY = 0
INST_CMPRS_QUANTZ_TBL_ID = 0
INSTRUMENT_TEMPERATURE = 11.0301
LENS_TEMPERATURE = 8.7872
MACROPIXEL_SIZE = 4
MISSING_FRAMES = 0
PIXEL_SUBSAMPLING_FLAG = N
SIGNAL_CHAIN_ID = 2
/* RADIOMETRIC DATA ELEMENTS */
BANDWIDTH = 76.0
CENTER_FILTER_WAVELENGTH = 444.0
RADIANCE_OFFSET = 0.405436
RADIANCE_SCALING_FACTOR = 0.00399076
REFLECTANCE_SCALING_FACTOR = 0.000224841
MEX:REFLECTANCE_OFFSET = 0.0228424
/* IMAGE OBJECT DEFINITIONS */
OBJECT = IMAGE
  INTERCHANGE_FORMAT = BINARY
  LINES = 7022
  LINE_SAMPLES = 1962
  SAMPLE_TYPE = UNSIGNED_INTEGER
  SAMPLE_BITS = 8
  BANDS = 1
  BAND_STORAGE_TYPE = BAND_SEQUENTIAL
  MAXIMUM = 255
  MEAN = 155.292
  MINIMUM = 1
  STANDARD_DEVIATION = 70.7035
END_OBJECT = IMAGE
/* MAP OBJECT DEFINITIONS */
OBJECT = IMAGE_MAP_PROJECTION
  ^DATA_SET_MAP_PROJECTION_CATALOG= "DSMAP.CAT"
  A_AXIS_RADIUS = 3396.0
  B_AXIS_RADIUS = 3396.0
  C_AXIS_RADIUS = 3396.0
  CENTER_LATITUDE = 0.0
  CENTER_LONGITUDE = 339.0
  COORDINATE_SYSTEM_NAME = PLANETOGRAPHIC
  COORDINATE_SYSTEM_TYPE = "BODY-FIXED ROTATING"
  EASTERNMOST_LONGITUDE = 341.437
  FIRST_STANDARD_PARALLEL = "N/A"
  LINE_FIRST_PIXEL = 1
  LINE_LAST_PIXEL = 7022
  LINE_PROJECTION_OFFSET = -26143.375
  MAP_PROJECTION_ROTATION = 0.0
  MAP_PROJECTION_TYPE = SINUSOIDAL
  MAP_RESOLUTION = 592.713803866667
  MAP_SCALE = 0.1
  MAXIMUM_LATITUDE = -44.1156
  MINIMUM_LATITUDE = -55.9736
  POSITIVE_LONGITUDE_DIRECTION = EAST
  REFERENCE_LATITUDE = "N/A"
  REFERENCE_LONGITUDE = "N/A"
  SAMPLE_FIRST_PIXEL = 1
  SAMPLE_LAST_PIXEL = 1962
  SAMPLE_PROJECTION_OFFSET = 894.125
  SECOND_STANDARD_PARALLEL = "N/A"
  WESTERNMOST_LONGITUDE = 336.519
END_OBJECT = IMAGE_MAP_PROJECTION
/* The JPEG2000 image data file associated with this label. */
OBJECT = COMPRESSED_FILE
  FILE_NAME = "HA866_0000_BL3.JP2"
  RECORD_TYPE = UNDEFINED
  FILE_RECORDS = UNK
  ENCODING_TYPE = "JP2"
  INTERCHANGE_FORMAT = BINARY
  UNCOMPRESSED_FILE_NAME = "HA866_0000_BL3.IMG"
  REQUIRED_STORAGE_BYTES = "13796784"
  ^DESCRIPTION = "JP2INFO.TXT"
END_OBJECT = COMPRESSED_FILE
END
