PDS_VERSION_ID = PDS3
/* FILE DATA ELEMENTS */
RECORD_TYPE = STREAM
/* POINTERS TO DATA OBJECTS */
^COMPRESSED_FILE = "HA866_0000_S13.JP2"
/* IDENTIFICATION DATA ELEMENTS */
DATA_SET_ID = "MEX-M-HRSC-5-REFDR-MAPPROJECTED-V3.0"
DATA_SET_NAME = "MARS EXPRESS HRSC MAP PROJECTED REFDR V3.0"
DETECTOR_ID = MEX_HRSC_S1
EVENT_TYPE = "MARS-REGIONAL-MAPPING-Fl-Gl"
INSTRUMENT_HOST_ID = MEX
INSTRUMENT_HOST_NAME = "MARS EXPRESS"
INSTRUMENT_ID = HRSC
INSTRUMENT_NAME = "HIGH RESOLUTION STEREO CAMERA"
MISSION_NAME = "MARS EXPRESS"
MISSION_PHASE_NAME = ME_Phase_26
PROCESSING_LEVEL_ID = 3
PRODUCT_CREATION_TIME = 2016-10-28T04:43:21.000Z
PRODUCT_ID = "HA866_0000_S13.JP2"
RELEASE_ID = 0111
REVISION_ID = 0000
/* QUALITY DATA ELEMENTS */
DATA_QUALITY_ID = 1
DATA_QUALITY_DESC = "Data calculated based on original SPICE kernels"
/* TIME DATA ELEMENTS */
SPACECRAFT_CLOCK_START_COUNT = "1/0290294552.08245"
SPACECRAFT_CLOCK_STOP_COUNT = "1/0290294992.11809"
START_TIME = 2012-07-13T21:25:06.438Z
STOP_TIME = 2012-07-13T21:29:53.194Z
/* ORBITAL DATA ELEMENTS */
ASCENDING_NODE_LONGITUDE = 10.02
MAXIMUM_RESOLUTION = 66.3
FOOTPRINT_POINT_LATITUDE = (-55.8271,-55.8172,-55.8018,-55.774, -55.7515,-55.7256,-55.4899,-55.1734, -54.7498,-54.4248,-53.9926,-53.4485, -53.0098,-52.6796,-52.3409,-52.1182, -51.8936,-51.6671,-51.4393,-51.2142, -50.9843,-50.7521,-50.405,-50.1732, -49.9398,-49.7027,-49.4656,-49.2357, -48.9972,-48.7506,-48.5116,-48.271, -47.9082,-47.6651,-47.4207,-47.1744, -46.9259,-46.6761,-46.3014,-46.0512, -45.6726,-45.4206,-45.1624,-44.7755, -44.5181,-44.2603,-44.1087,-44.1118, -44.1149,-44.1156,-44.1138,-44.1143, -44.1138,-44.112,-44.1059,-44.1029, -44.0971,-44.0938,-44.3523,-44.6144, -45.0073,-45.2652,-45.5279,-45.9173, -46.2954,-46.5492,-46.8026,-47.0528, -47.3018,-47.6755,-47.9265,-48.1725, -48.4175,-48.6597,-48.8982,-49.1433, -49.3849,-49.6228,-49.9789,-50.2162, -50.4513,-50.6859,-50.9196,-51.152, -51.3834,-51.6134,-51.8424,-52.07, -52.4104,-52.6368,-52.8615,-53.0841, -53.4175,-53.7488,-54.2949,-54.726, -55.0471,-55.3643,-55.7959,-55.8271)
FOOTPRINT_POINT_LONGITUDE = (340.456,339.807,339.019,337.909, 337.169,336.429,336.196,336.221,336.253 ,336.278,336.308,336.342,336.367, 336.383,336.402,336.412,336.422,336.431 ,336.441,336.448,336.457,336.466, 336.477,336.483,336.489,336.496,336.502 ,336.503,336.508,336.516,336.519, 336.521,336.525,336.526,336.527,336.529 ,336.53,336.531,336.53,336.528,336.525, 336.522,336.521,336.517,336.513,336.507 ,336.883,337.263,337.913,338.346,338.94 ,339.373,339.86,340.184,340.725,341.05, 341.538,342.102,342.08,342.061,342.033, 342.014,341.997,341.97,341.939,341.92, 341.901,341.882,341.862,341.833,341.815 ,341.796,341.776,341.756,341.734, 341.716,341.696,341.676,341.645,341.625 ,341.604,341.584,341.564,341.543, 341.522,341.501,341.48,341.458,341.426, 341.405,341.383,341.361,341.328,341.294 ,341.238,341.19,341.155,341.117,341.073 ,340.456)
ORBIT_NUMBER = 10866
ORBITAL_ECCENTRICITY = 0.577
ORBITAL_INCLINATION = 86.89
ORBITAL_SEMIMAJOR_AXIS = 8758.33
PERIAPSIS_ALTITUDE = 328.44
PERIAPSIS_ARGUMENT_ANGLE = 263.41
PERIAPSIS_TIME = 2012-07-13T21:12:47.000Z
SPACECRAFT_ORIENTATION = (0.0,1.0,0.0)
^MEX_ORIENTATION_DESC = "MEX_ORIENTATION_DESC.TXT"
SPACECRAFT_POINTING_MODE = NADIR
^MEX_POINTING_DESC = "MEX_POINTING_DESC.TXT"
RIGHT_ASCENSION = -1e+32
DECLINATION = -1e+32
OFFSET_ANGLE = -1e+32
SPACECRAFT_SOLAR_DISTANCE = 2.34172e+08
TARGET_NAME = MARS
/* CAMERA DATA ELEMENTS */
DETECTOR_TEMPERATURE = 17.5549
FOCAL_PLANE_TEMPERATURE = 8.5833
INST_CMPRS_NAME = "DISCRETE COSINE TRANSFORMATION (DCT)"
INST_CMPRS_RATIO = 8.36913
INST_CMPRS_QUALITY = 0
INST_CMPRS_QUANTZ_TBL_ID = 0
INSTRUMENT_TEMPERATURE = 11.0301
LENS_TEMPERATURE = 8.7872
MACROPIXEL_SIZE = 2
MISSING_FRAMES = 0
PIXEL_SUBSAMPLING_FLAG = N
SIGNAL_CHAIN_ID = 1
/* RADIOMETRIC DATA ELEMENTS */
BANDWIDTH = 180.0
CENTER_FILTER_WAVELENGTH = 677.0
RADIANCE_OFFSET = 1.49419
RADIANCE_SCALING_FACTOR = 0.0205085
REFLECTANCE_SCALING_FACTOR = 0.000586732
MEX:REFLECTANCE_OFFSET = 0.0427476
/* IMAGE OBJECT DEFINITIONS */
OBJECT = IMAGE
  INTERCHANGE_FORMAT = BINARY
  LINES = 14044
  LINE_SAMPLES = 3923
  SAMPLE_TYPE = UNSIGNED_INTEGER
  SAMPLE_BITS = 8
  BANDS = 1
  BAND_STORAGE_TYPE = BAND_SEQUENTIAL
  MAXIMUM = 255
  MEAN = 136.817
  MINIMUM = 1
  STANDARD_DEVIATION = 23.9241
END_OBJECT = IMAGE
/* MAP OBJECT DEFINITIONS */
OBJECT = IMAGE_MAP_PROJECTION
  ^DATA_SET_MAP_PROJECTION_CATALOG= "DSMAP.CAT"
  A_AXIS_RADIUS = 3396.0
  B_AXIS_RADIUS = 3396.0
  C_AXIS_RADIUS = 3396.0
  CENTER_LATITUDE = 0.0
  CENTER_LONGITUDE = 339.0
  COORDINATE_SYSTEM_NAME = PLANETOGRAPHIC
  COORDINATE_SYSTEM_TYPE = "BODY-FIXED ROTATING"
  EASTERNMOST_LONGITUDE = 342.102
  FIRST_STANDARD_PARALLEL = "N/A"
  LINE_FIRST_PIXEL = 1
  LINE_LAST_PIXEL = 14044
  LINE_PROJECTION_OFFSET = -52286.25
  MAP_PROJECTION_ROTATION = 0.0
  MAP_PROJECTION_TYPE = SINUSOIDAL
  MAP_RESOLUTION = 1185.42760773333
  MAP_SCALE = 0.05
  MAXIMUM_LATITUDE = -44.0938
  MINIMUM_LATITUDE = -55.8271
  POSITIVE_LONGITUDE_DIRECTION = EAST
  REFERENCE_LATITUDE = "N/A"
  REFERENCE_LONGITUDE = "N/A"
  SAMPLE_FIRST_PIXEL = 1
  SAMPLE_LAST_PIXEL = 3923
  SAMPLE_PROJECTION_OFFSET = 1788.75
  SECOND_STANDARD_PARALLEL = "N/A"
  WESTERNMOST_LONGITUDE = 336.196
END_OBJECT = IMAGE_MAP_PROJECTION
/* The JPEG2000 image data file associated with this label. */
OBJECT = COMPRESSED_FILE
  FILE_NAME = "HA866_0000_S13.JP2"
  RECORD_TYPE = UNDEFINED
  FILE_RECORDS = UNK
  ENCODING_TYPE = "JP2"
  INTERCHANGE_FORMAT = BINARY
  UNCOMPRESSED_FILE_NAME = "HA866_0000_S13.IMG"
  REQUIRED_STORAGE_BYTES = "55118150"
  ^DESCRIPTION = "JP2INFO.TXT"
END_OBJECT = COMPRESSED_FILE
END
