PDS_VERSION_ID = PDS3
/* FILE DATA ELEMENTS */
RECORD_TYPE = STREAM
/* POINTERS TO DATA OBJECTS */
^COMPRESSED_FILE = "HA872_0000_ND3.JP2"
/* IDENTIFICATION DATA ELEMENTS */
DATA_SET_ID = "MEX-M-HRSC-5-REFDR-MAPPROJECTED-V3.0"
DATA_SET_NAME = "MARS EXPRESS HRSC MAP PROJECTED REFDR V3.0"
DETECTOR_ID = MEX_HRSC_NADIR
EVENT_TYPE = "MARS-REGIONAL-MAPPING-Fl-Gl-Pf"
INSTRUMENT_HOST_ID = MEX
INSTRUMENT_HOST_NAME = "MARS EXPRESS"
INSTRUMENT_ID = HRSC
INSTRUMENT_NAME = "HIGH RESOLUTION STEREO CAMERA"
MISSION_NAME = "MARS EXPRESS"
MISSION_PHASE_NAME = ME_Phase_26
PROCESSING_LEVEL_ID = 3
PRODUCT_CREATION_TIME = 2016-10-28T04:43:21.000Z
PRODUCT_ID = "HA872_0000_ND3.JP2"
RELEASE_ID = 0111
REVISION_ID = 0000
/* QUALITY DATA ELEMENTS */
DATA_QUALITY_ID = 1
DATA_QUALITY_DESC = "Data calculated based on original SPICE kernels"
/* TIME DATA ELEMENTS */
SPACECRAFT_CLOCK_START_COUNT = "1/0290445606.09034"
SPACECRAFT_CLOCK_STOP_COUNT = "1/0290446134.28894"
START_TIME = 2012-07-15T15:21:22.631Z
STOP_TIME = 2012-07-15T15:25:52.639Z
/* ORBITAL DATA ELEMENTS */
ASCENDING_NODE_LONGITUDE = 9.91
MAXIMUM_RESOLUTION = 29.7
FOOTPRINT_POINT_LATITUDE = (-53.852,-53.8432,-53.8271,-53.8072, -53.7817,-53.7422,-53.7134,-53.2496, -52.7811,-52.1877,-51.8283,-51.3444, -50.8557,-50.2374,-49.737,-49.2305, -48.9754,-48.7186,-48.4607,-48.2015, -47.9405,-47.678,-47.4142,-47.1491, -46.8825,-46.614,-46.3439,-46.0726, -45.7998,-45.5254,-45.2495,-44.9718, -44.6922,-44.4112,-44.1285,-43.8441, -43.558,-43.2703,-42.9809,-42.6896, -42.3968,-42.1021,-41.8056,-41.5073, -41.0562,-40.755,-40.455,-40.4678, -40.4768,-40.4841,-40.4887,-40.493, -40.4955,-40.4968,-40.4966,-40.4944, -40.4911,-40.4849,-40.7882,-41.0926, -41.3968,-41.6992,-41.9998,-42.2986, -42.5954,-42.8903,-43.1836,-43.4749, -43.7645,-44.0525,-44.3386,-44.6231, -44.9057,-45.1869,-45.4662,-45.744, -46.0202,-46.2949,-46.5675,-46.8388, -47.1085,-47.3769,-47.644,-47.9089, -48.1724,-48.4348,-48.6959,-48.9548, -49.2125,-49.4694,-49.9778,-50.4812, -50.9784,-51.4705,-51.9577,-52.3195, -52.6784,-53.1529,-53.6224,-53.852)
FOOTPRINT_POINT_LONGITUDE = (86.5502,86.0839,85.4051,84.7253, 84.0026,83.0643,82.468,82.5082,82.5433, 82.5787,82.6027,82.6303,82.6579,82.6914 ,82.717,82.7399,82.7503,82.7609,82.7714 ,82.7816,82.7898,82.7976,82.8063,82.814 ,82.8203,82.8267,82.8327,82.8381, 82.8437,82.8478,82.8513,82.8548,82.8582 ,82.8604,82.8627,82.8645,82.8644, 82.8651,82.8634,82.863,82.8618,82.8598, 82.8576,82.8543,82.8487,82.8443,82.8396 ,83.4767,83.9181,84.3574,84.6992, 85.1369,85.5257,85.9629,86.3028,86.8363 ,87.224,87.7813,87.7689,87.7564,87.7434 ,87.7303,87.7166,87.7028,87.6905, 87.6748,87.6613,87.6474,87.633,87.6181, 87.6031,87.5878,87.5726,87.5571,87.541, 87.5253,87.5088,87.4919,87.4757,87.4587 ,87.4413,87.4238,87.406,87.3886,87.3706 ,87.3523,87.334,87.3152,87.2955,87.2746 ,87.2338,87.1927,87.1521,87.1086, 87.0641,87.0301,86.9971,86.9539,86.9057 ,86.5502)
ORBIT_NUMBER = 10872
ORBITAL_ECCENTRICITY = 0.577
ORBITAL_INCLINATION = 86.89
ORBITAL_SEMIMAJOR_AXIS = 8758.21
PERIAPSIS_ALTITUDE = 327.64
PERIAPSIS_ARGUMENT_ANGLE = 262.39
PERIAPSIS_TIME = 2012-07-15T15:09:30.000Z
SPACECRAFT_ORIENTATION = (0.0,1.0,0.0)
^MEX_ORIENTATION_DESC = "MEX_ORIENTATION_DESC.TXT"
SPACECRAFT_POINTING_MODE = ACROSSTRACK
^MEX_POINTING_DESC = "MEX_POINTING_DESC.TXT"
RIGHT_ASCENSION = -1e+32
DECLINATION = -1e+32
OFFSET_ANGLE = 0.35
SPACECRAFT_SOLAR_DISTANCE = 2.33854e+08
TARGET_NAME = MARS
/* CAMERA DATA ELEMENTS */
DETECTOR_TEMPERATURE = 19.39
FOCAL_PLANE_TEMPERATURE = 8.3794
INST_CMPRS_NAME = "DISCRETE COSINE TRANSFORMATION (DCT)"
INST_CMPRS_RATIO = 7.27413
INST_CMPRS_QUALITY = 0
INST_CMPRS_QUANTZ_TBL_ID = 0
INSTRUMENT_TEMPERATURE = 11.0301
LENS_TEMPERATURE = 8.5833
MACROPIXEL_SIZE = 1
MISSING_FRAMES = 0
PIXEL_SUBSAMPLING_FLAG = N
SIGNAL_CHAIN_ID = 0
/* RADIOMETRIC DATA ELEMENTS */
BANDWIDTH = 177.0
CENTER_FILTER_WAVELENGTH = 677.5
RADIANCE_OFFSET = 2.77817
RADIANCE_SCALING_FACTOR = 0.0277039
REFLECTANCE_SCALING_FACTOR = 0.000804839
MEX:REFLECTANCE_OFFSET = 0.08071
/* IMAGE OBJECT DEFINITIONS */
OBJECT = IMAGE
  INTERCHANGE_FORMAT = BINARY
  LINES = 31779
  LINE_SAMPLES = 8983
  SAMPLE_TYPE = UNSIGNED_INTEGER
  SAMPLE_BITS = 8
  BANDS = 1
  BAND_STORAGE_TYPE = BAND_SEQUENTIAL
  MAXIMUM = 255
  MEAN = 125.353
  MINIMUM = 1
  STANDARD_DEVIATION = 47.1639
END_OBJECT = IMAGE
/* MAP OBJECT DEFINITIONS */
OBJECT = IMAGE_MAP_PROJECTION
  ^DATA_SET_MAP_PROJECTION_CATALOG= "DSMAP.CAT"
  A_AXIS_RADIUS = 3396.0
  B_AXIS_RADIUS = 3396.0
  C_AXIS_RADIUS = 3396.0
  CENTER_LATITUDE = 0.0
  CENTER_LONGITUDE = 85.0
  COORDINATE_SYSTEM_NAME = PLANETOGRAPHIC
  COORDINATE_SYSTEM_TYPE = "BODY-FIXED ROTATING"
  EASTERNMOST_LONGITUDE = 87.7813
  FIRST_STANDARD_PARALLEL = "N/A"
  LINE_FIRST_PIXEL = 1
  LINE_LAST_PIXEL = 31779
  LINE_PROJECTION_OFFSET = -95909.0
  MAP_PROJECTION_ROTATION = 0.0
  MAP_PROJECTION_TYPE = SINUSOIDAL
  MAP_RESOLUTION = 2370.85521546667
  MAP_SCALE = 0.025
  MAXIMUM_LATITUDE = -40.455
  MINIMUM_LATITUDE = -53.852
  POSITIVE_LONGITUDE_DIRECTION = EAST
  REFERENCE_LATITUDE = "N/A"
  REFERENCE_LONGITUDE = "N/A"
  SAMPLE_FIRST_PIXEL = 1
  SAMPLE_LAST_PIXEL = 8983
  SAMPLE_PROJECTION_OFFSET = 3936.0
  SECOND_STANDARD_PARALLEL = "N/A"
  WESTERNMOST_LONGITUDE = 82.468
END_OBJECT = IMAGE_MAP_PROJECTION
/* The JPEG2000 image data file associated with this label. */
OBJECT = COMPRESSED_FILE
  FILE_NAME = "HA872_0000_ND3.JP2"
  RECORD_TYPE = UNDEFINED
  FILE_RECORDS = UNK
  ENCODING_TYPE = "JP2"
  INTERCHANGE_FORMAT = BINARY
  UNCOMPRESSED_FILE_NAME = "HA872_0000_ND3.IMG"
  REQUIRED_STORAGE_BYTES = "285506689"
  ^DESCRIPTION = "JP2INFO.TXT"
END_OBJECT = COMPRESSED_FILE
END
