PDS_VERSION_ID = PDS3
/* FILE DATA ELEMENTS */
RECORD_TYPE = STREAM
/* POINTERS TO DATA OBJECTS */
^COMPRESSED_FILE = "HA982_0000_GR3.JP2"
/* IDENTIFICATION DATA ELEMENTS */
DATA_SET_ID = "MEX-M-HRSC-5-REFDR-MAPPROJECTED-V3.0"
DATA_SET_NAME = "MARS EXPRESS HRSC MAP PROJECTED REFDR V3.0"
DETECTOR_ID = MEX_HRSC_GREEN
EVENT_TYPE = "MARS-CLOUD-VARIABLE-At"
INSTRUMENT_HOST_ID = MEX
INSTRUMENT_HOST_NAME = "MARS EXPRESS"
INSTRUMENT_ID = HRSC
INSTRUMENT_NAME = "HIGH RESOLUTION STEREO CAMERA"
MISSION_NAME = "MARS EXPRESS"
MISSION_PHASE_NAME = ME_Phase_26
PROCESSING_LEVEL_ID = 3
PRODUCT_CREATION_TIME = 2016-10-28T04:43:21.000Z
PRODUCT_ID = "HA982_0000_GR3.JP2"
RELEASE_ID = 0111
REVISION_ID = 0000
/* QUALITY DATA ELEMENTS */
DATA_QUALITY_ID = 1
DATA_QUALITY_DESC = "Data calculated based on original SPICE kernels"
/* TIME DATA ELEMENTS */
SPACECRAFT_CLOCK_START_COUNT = "1/0293215345.07282"
SPACECRAFT_CLOCK_STOP_COUNT = "1/0293216548.38186"
START_TIME = 2012-08-16T16:42:28.122Z
STOP_TIME = 2012-08-16T17:08:56.963Z
/* ORBITAL DATA ELEMENTS */
ASCENDING_NODE_LONGITUDE = 7.86
MAXIMUM_RESOLUTION = 436.3
FOOTPRINT_POINT_LATITUDE = (-19.8221,-19.7725,-19.7192,-19.6618, -19.5604,-19.493,-19.4217,-19.3465, -19.2672,-19.1838,-19.0959,-18.9854, -18.158,-17.3428,-16.5379,-15.7445, -14.962,-14.1899,-13.4283,-12.6769, -11.9355,-11.2023,-10.48,-9.76973, -9.06401,-8.36853,-7.6816,-7.00273, -6.33231,-5.66982,-4.36877,-3.09655, -1.85313,-0.637352,0.551654,1.71493, 2.85682,3.97359,5.06535,6.13789,7.19037 ,8.22222,9.23527,10.2324,11.2068,12.166 ,11.9721,11.6685,11.3755,11.2045,10.913 ,10.7429,10.5743,10.3213,10.1528, 9.98364,9.814,9.64568,9.47487,9.30444, 9.00458,8.83303,8.66063,8.48793,8.3143, 8.00937,7.83235,7.59634,6.81492,6.01468 ,5.19522,4.35493,3.49405,2.6108,1.70431 ,0.774063,-0.180636,-1.16192,-2.16967, -3.20555,-4.27117,-5.36689,-6.49458, -7.65589,-8.85192,-10.0843,-11.3547, -12.005,-12.665,-13.3359,-14.0171, -14.7067,-15.4122,-16.1263,-16.8526, -17.5908,-18.3412,-19.1038,-19.8799, -19.8221)
FOOTPRINT_POINT_LONGITUDE = (353.83,354.588,355.344,356.098,357.32, 358.07,358.819,359.569,360.319,361.07, 361.824,362.703,362.674,362.643,362.612 ,362.581,362.548,362.515,362.481, 362.447,362.411,362.377,362.34,362.298, 362.263,362.224,362.185,362.147,362.107 ,362.067,361.984,361.902,361.818, 361.732,361.645,361.556,361.469,361.379 ,361.284,361.192,361.1,361.007,360.913, 360.822,360.725,360.63,359.931,358.633, 357.476,356.816,355.673,355.021,354.372 ,353.4,352.754,352.108,351.464,350.818, 350.173,349.526,348.395,347.747,347.098 ,346.447,345.796,344.646,343.991, 343.105,343.519,343.93,344.338,344.746, 345.15,345.553,345.955,346.354,346.75, 347.145,347.536,347.923,348.309,348.69, 349.067,349.442,349.811,350.177,350.537 ,350.717,350.893,351.07,351.244,351.41, 351.587,351.756,351.924,352.09,352.254, 352.416,352.577,353.83)
ORBIT_NUMBER = 10982
ORBITAL_ECCENTRICITY = 0.577
ORBITAL_INCLINATION = 86.89
ORBITAL_SEMIMAJOR_AXIS = 8774.33
PERIAPSIS_ALTITUDE = 328.94
PERIAPSIS_ARGUMENT_ANGLE = 243.77
PERIAPSIS_TIME = 2012-08-16T16:07:31.000Z
SPACECRAFT_ORIENTATION = (0.0,-1.0,0.0)
^MEX_ORIENTATION_DESC = "MEX_ORIENTATION_DESC.TXT"
SPACECRAFT_POINTING_MODE = NADIR
^MEX_POINTING_DESC = "MEX_POINTING_DESC.TXT"
RIGHT_ASCENSION = -1e+32
DECLINATION = -1e+32
OFFSET_ANGLE = -1e+32
SPACECRAFT_SOLAR_DISTANCE = 2.27775e+08
TARGET_NAME = MARS
/* CAMERA DATA ELEMENTS */
DETECTOR_TEMPERATURE = 18.3705
FOCAL_PLANE_TEMPERATURE = 8.7872
INST_CMPRS_NAME = "DISCRETE COSINE TRANSFORMATION (DCT)"
INST_CMPRS_RATIO = 38.1979
INST_CMPRS_QUALITY = 0
INST_CMPRS_QUANTZ_TBL_ID = 0
INSTRUMENT_TEMPERATURE = 11.8457
LENS_TEMPERATURE = 9.195
MACROPIXEL_SIZE = 4
MISSING_FRAMES = 0
PIXEL_SUBSAMPLING_FLAG = N
SIGNAL_CHAIN_ID = 3
/* RADIOMETRIC DATA ELEMENTS */
BANDWIDTH = 88.0
CENTER_FILTER_WAVELENGTH = 538.0
RADIANCE_OFFSET = 1.41217
RADIANCE_SCALING_FACTOR = 0.00830689
REFLECTANCE_SCALING_FACTOR = 0.000371041
MEX:REFLECTANCE_OFFSET = 0.063077
/* IMAGE OBJECT DEFINITIONS */
OBJECT = IMAGE
  INTERCHANGE_FORMAT = BINARY
  LINES = 4927
  LINE_SAMPLES = 3252
  SAMPLE_TYPE = UNSIGNED_INTEGER
  SAMPLE_BITS = 8
  BANDS = 1
  BAND_STORAGE_TYPE = BAND_SEQUENTIAL
  MAXIMUM = 255
  MEAN = 121.55
  MINIMUM = 1
  STANDARD_DEVIATION = 52.3859
END_OBJECT = IMAGE
/* MAP OBJECT DEFINITIONS */
OBJECT = IMAGE_MAP_PROJECTION
  ^DATA_SET_MAP_PROJECTION_CATALOG= "DSMAP.CAT"
  A_AXIS_RADIUS = 3396.0
  B_AXIS_RADIUS = 3396.0
  C_AXIS_RADIUS = 3396.0
  CENTER_LATITUDE = 0.0
  CENTER_LONGITUDE = 355.0
  COORDINATE_SYSTEM_NAME = PLANETOGRAPHIC
  COORDINATE_SYSTEM_TYPE = "BODY-FIXED ROTATING"
  EASTERNMOST_LONGITUDE = 2.703
  FIRST_STANDARD_PARALLEL = "N/A"
  LINE_FIRST_PIXEL = 1
  LINE_LAST_PIXEL = 4927
  LINE_PROJECTION_OFFSET = 1937.0
  MAP_PROJECTION_ROTATION = 0.0
  MAP_PROJECTION_TYPE = SINUSOIDAL
  MAP_RESOLUTION = 148.178450966667
  MAP_SCALE = 0.4
  MAXIMUM_LATITUDE = 12.166
  MINIMUM_LATITUDE = -19.8799
  POSITIVE_LONGITUDE_DIRECTION = EAST
  REFERENCE_LATITUDE = "N/A"
  REFERENCE_LONGITUDE = "N/A"
  SAMPLE_FIRST_PIXEL = 1
  SAMPLE_LAST_PIXEL = 3252
  SAMPLE_PROJECTION_OFFSET = 2022.0
  SECOND_STANDARD_PARALLEL = "N/A"
  WESTERNMOST_LONGITUDE = -16.895
END_OBJECT = IMAGE_MAP_PROJECTION
/* The JPEG2000 image data file associated with this label. */
OBJECT = COMPRESSED_FILE
  FILE_NAME = "HA982_0000_GR3.JP2"
  RECORD_TYPE = UNDEFINED
  FILE_RECORDS = UNK
  ENCODING_TYPE = "JP2"
  INTERCHANGE_FORMAT = BINARY
  UNCOMPRESSED_FILE_NAME = "HA982_0000_GR3.IMG"
  REQUIRED_STORAGE_BYTES = "16045368"
  ^DESCRIPTION = "JP2INFO.TXT"
END_OBJECT = COMPRESSED_FILE
END
