PDS_VERSION_ID = PDS3
/* FILE DATA ELEMENTS */
RECORD_TYPE = STREAM
/* POINTERS TO DATA OBJECTS */
^COMPRESSED_FILE = "HB028_0000_BL3.JP2"
/* IDENTIFICATION DATA ELEMENTS */
DATA_SET_ID = "MEX-M-HRSC-5-REFDR-MAPPROJECTED-V3.0"
DATA_SET_NAME = "MARS EXPRESS HRSC MAP PROJECTED REFDR V3.0"
DETECTOR_ID = MEX_HRSC_BLUE
EVENT_TYPE = "MARS-CLOUD-VARIABLE-At"
INSTRUMENT_HOST_ID = MEX
INSTRUMENT_HOST_NAME = "MARS EXPRESS"
INSTRUMENT_ID = HRSC
INSTRUMENT_NAME = "HIGH RESOLUTION STEREO CAMERA"
MISSION_NAME = "MARS EXPRESS"
MISSION_PHASE_NAME = ME_Phase_26
PROCESSING_LEVEL_ID = 3
PRODUCT_CREATION_TIME = 2016-10-28T05:09:08.000Z
PRODUCT_ID = "HB028_0000_BL3.JP2"
RELEASE_ID = 0112
REVISION_ID = 0000
/* QUALITY DATA ELEMENTS */
DATA_QUALITY_ID = 1
DATA_QUALITY_DESC = "Data calculated based on original SPICE kernels"
/* TIME DATA ELEMENTS */
SPACECRAFT_CLOCK_START_COUNT = "1/0294373190.09057"
SPACECRAFT_CLOCK_STOP_COUNT = "1/0294375074.24665"
START_TIME = 2012-08-30T02:30:13.156Z
STOP_TIME = 2012-08-30T02:51:15.508Z
/* ORBITAL DATA ELEMENTS */
ASCENDING_NODE_LONGITUDE = 7.0
MAXIMUM_RESOLUTION = 704.4
FOOTPRINT_POINT_LATITUDE = (-22.4825,-22.2207,-21.9598,-21.6993, -21.4392,-21.1791,-20.919,-20.6588, -20.3981,-20.1364,-19.8736,-19.6086, -19.3423,-18.7675,-17.9422,-17.1159, -16.2931,-15.4752,-14.6524,-13.8392, -13.0222,-12.2089,-11.3967,-10.5863, -9.3708,-7.35234,-6.14271,-4.93462, -3.32417,-1.31123,0.704131,2.72286, 3.93786,5.55803,6.77868,7.59367,8.41688 ,9.23188,10.0538,10.8782,11.7045, 12.5337,13.3681,14.1992,15.0365,15.8866 ,17.1491,18.004,19.2922,20.1541,21.0241 ,21.8964,21.7104,21.5023,21.1583,20.906 ,20.6532,20.4593,20.1218,19.9348,19.748 ,19.5626,19.3763,19.1917,18.8709,18.509 ,18.1533,17.8406,17.4899,17.14,16.906, 16.0978,15.2916,14.4868,12.8905,11.6973 ,9.71895,8.14363,6.57309,5.00404, 3.44147,2.27383,0.714124,-0.844878, -2.40392,-3.57124,-5.52163,-7.48307, -8.66208,-10.6252,-12.2011,-13.7872, -15.382,-16.5903,-18.2036,-19.8214, -20.6345,-21.4503,-22.2723,-22.4825)
FOOTPRINT_POINT_LONGITUDE = (328.549,329.77,330.981,332.184,333.38, 334.571,335.759,336.944,338.128,339.315 ,340.505,341.702,342.905,343.702, 343.674,343.643,343.617,343.598,343.57, 343.558,343.539,343.526,343.515,343.509 ,343.498,343.502,343.51,343.528,343.559 ,343.615,343.697,343.796,343.871, 343.973,344.067,344.133,344.218,344.287 ,344.37,344.46,344.554,344.654,344.764, 344.871,344.99,345.129,345.324,345.475, 345.716,345.884,346.066,346.255,345.292 ,344.318,342.667,341.503,340.358, 339.461,337.916,337.05,336.191,335.341, 334.496,333.658,332.207,330.568,328.948 ,327.541,325.943,324.352,323.293, 323.412,323.53,323.648,323.874,324.042, 324.313,324.524,324.73,324.936,325.133, 325.27,325.458,325.64,325.819,325.957, 326.169,326.365,326.481,326.676,326.825 ,326.965,327.099,327.191,327.312, 327.429,327.485,327.539,327.589, 328.549)
ORBIT_NUMBER = 11028
ORBITAL_ECCENTRICITY = 0.578
ORBITAL_INCLINATION = 86.9
ORBITAL_SEMIMAJOR_AXIS = 8785.32
PERIAPSIS_ALTITUDE = 329.24
PERIAPSIS_ARGUMENT_ANGLE = 235.98
PERIAPSIS_TIME = 2012-08-30T01:38:06.000Z
SPACECRAFT_ORIENTATION = (0.0,-1.0,0.0)
^MEX_ORIENTATION_DESC = "MEX_ORIENTATION_DESC.TXT"
SPACECRAFT_POINTING_MODE = INERT
^MEX_POINTING_DESC = "MEX_POINTING_DESC.TXT"
RIGHT_ASCENSION = 10.975
DECLINATION = 46.731
OFFSET_ANGLE = -1e+32
SPACECRAFT_SOLAR_DISTANCE = 2.25159e+08
TARGET_NAME = MARS
/* CAMERA DATA ELEMENTS */
DETECTOR_TEMPERATURE = 18.3705
FOCAL_PLANE_TEMPERATURE = 8.5833
INST_CMPRS_NAME = "DISCRETE COSINE TRANSFORMATION (DCT)"
INST_CMPRS_RATIO = 27.4121
INST_CMPRS_QUALITY = 0
INST_CMPRS_QUANTZ_TBL_ID = 0
INSTRUMENT_TEMPERATURE = 12.0496
LENS_TEMPERATURE = 8.9911
MACROPIXEL_SIZE = 4
MISSING_FRAMES = 0
PIXEL_SUBSAMPLING_FLAG = N
SIGNAL_CHAIN_ID = 2
/* RADIOMETRIC DATA ELEMENTS */
BANDWIDTH = 76.0
CENTER_FILTER_WAVELENGTH = 444.0
RADIANCE_OFFSET = 1.04821
RADIANCE_SCALING_FACTOR = 0.00186846
REFLECTANCE_SCALING_FACTOR = 9.73187e-05
MEX:REFLECTANCE_OFFSET = 0.0545958
/* IMAGE OBJECT DEFINITIONS */
OBJECT = IMAGE
  INTERCHANGE_FORMAT = BINARY
  LINES = 3302
  LINE_SAMPLES = 1604
  SAMPLE_TYPE = UNSIGNED_INTEGER
  SAMPLE_BITS = 8
  BANDS = 1
  BAND_STORAGE_TYPE = BAND_SEQUENTIAL
  MAXIMUM = 255
  MEAN = 104.393
  MINIMUM = 1
  STANDARD_DEVIATION = 24.1106
END_OBJECT = IMAGE
/* MAP OBJECT DEFINITIONS */
OBJECT = IMAGE_MAP_PROJECTION
  ^DATA_SET_MAP_PROJECTION_CATALOG= "DSMAP.CAT"
  A_AXIS_RADIUS = 3396.0
  B_AXIS_RADIUS = 3396.0
  C_AXIS_RADIUS = 3396.0
  CENTER_LATITUDE = 0.0
  CENTER_LONGITUDE = 335.0
  COORDINATE_SYSTEM_NAME = PLANETOGRAPHIC
  COORDINATE_SYSTEM_TYPE = "BODY-FIXED ROTATING"
  EASTERNMOST_LONGITUDE = 346.255
  FIRST_STANDARD_PARALLEL = "N/A"
  LINE_FIRST_PIXEL = 1
  LINE_LAST_PIXEL = 3302
  LINE_PROJECTION_OFFSET = 1620.0
  MAP_PROJECTION_ROTATION = 0.0
  MAP_PROJECTION_TYPE = SINUSOIDAL
  MAP_RESOLUTION = 74.08922548333329
  MAP_SCALE = 0.8
  MAXIMUM_LATITUDE = 21.8964
  MINIMUM_LATITUDE = -22.4825
  POSITIVE_LONGITUDE_DIRECTION = EAST
  REFERENCE_LATITUDE = "N/A"
  REFERENCE_LONGITUDE = "N/A"
  SAMPLE_FIRST_PIXEL = 1
  SAMPLE_LAST_PIXEL = 1604
  SAMPLE_PROJECTION_OFFSET = 828.0
  SECOND_STANDARD_PARALLEL = "N/A"
  WESTERNMOST_LONGITUDE = 323.293
END_OBJECT = IMAGE_MAP_PROJECTION
/* The JPEG2000 image data file associated with this label. */
OBJECT = COMPRESSED_FILE
  FILE_NAME = "HB028_0000_BL3.JP2"
  RECORD_TYPE = UNDEFINED
  FILE_RECORDS = UNK
  ENCODING_TYPE = "JP2"
  INTERCHANGE_FORMAT = BINARY
  UNCOMPRESSED_FILE_NAME = "HB028_0000_BL3.IMG"
  REQUIRED_STORAGE_BYTES = "5315656"
  ^DESCRIPTION = "JP2INFO.TXT"
END_OBJECT = COMPRESSED_FILE
END
