PDS_VERSION_ID = PDS3
/* FILE DATA ELEMENTS */
RECORD_TYPE = STREAM
/* POINTERS TO DATA OBJECTS */
^COMPRESSED_FILE = "HB401_0000_GR3.JP2"
/* IDENTIFICATION DATA ELEMENTS */
DATA_SET_ID = "MEX-M-HRSC-5-REFDR-MAPPROJECTED-V3.0"
DATA_SET_NAME = "MARS EXPRESS HRSC MAP PROJECTED REFDR V3.0"
DETECTOR_ID = MEX_HRSC_GREEN
EVENT_TYPE = "MARS-TERMINATOR-VARIABLE-Gl-At"
INSTRUMENT_HOST_ID = MEX
INSTRUMENT_HOST_NAME = "MARS EXPRESS"
INSTRUMENT_ID = HRSC
INSTRUMENT_NAME = "HIGH RESOLUTION STEREO CAMERA"
MISSION_NAME = "MARS EXPRESS"
MISSION_PHASE_NAME = ME_Phase_26
PROCESSING_LEVEL_ID = 3
PRODUCT_CREATION_TIME = 2016-10-28T05:16:34.000Z
PRODUCT_ID = "HB401_0000_GR3.JP2"
RELEASE_ID = 0113
REVISION_ID = 0000
/* QUALITY DATA ELEMENTS */
DATA_QUALITY_ID = 1
DATA_QUALITY_DESC = "Data calculated based on original SPICE kernels"
/* TIME DATA ELEMENTS */
SPACECRAFT_CLOCK_START_COUNT = "1/0303757446.09058"
SPACECRAFT_CLOCK_STOP_COUNT = "1/0303758991.13974"
START_TIME = 2012-12-16T17:07:38.826Z
STOP_TIME = 2012-12-16T17:22:38.090Z
/* ORBITAL DATA ELEMENTS */
ASCENDING_NODE_LONGITUDE = 359.92
MAXIMUM_RESOLUTION = 167.5
FOOTPRINT_POINT_LATITUDE = (-74.6451,-74.8524,-75.0413,-75.2117, -75.4319,-75.5816,-75.6787,-75.7553, -75.8112,-75.8459,-75.8594,-75.8514, -75.849,-76.4163,-76.977,-77.5326, -78.0827,-78.627,-79.1656,-79.6983, -80.2256,-80.7467,-81.2622,-81.7716, -82.2748,-82.7715,-83.2614,-83.744, -84.2188,-84.6848,-85.1409,-85.5856, -86.0166,-86.4303,-87.1855,-87.8909, -88.0935,-87.8865,-87.3803,-86.7207, -85.9898,-85.2278,-84.453,-83.6742, -82.8973,-82.125,-81.3595,-80.7807, -80.5069,-80.6362,-80.7425,-80.8246, -80.8819,-80.9141,-80.908,-80.7908, -80.5866,-80.2942,-79.9204,-79.5908, -79.0944,-78.753,-78.1641,-77.8511, -77.526,-77.2176,-77.7936,-78.3522, -78.8948,-79.4167,-79.9117,-80.3728, -80.7912,-81.1575,-81.3919,-81.6412, -81.7727,-81.869,-81.868,-81.7959, -81.6085,-81.3168,-80.9253,-80.6939, -80.4399,-80.1652,-79.87,-79.5553, -79.2224,-78.6906,-78.3149,-77.9254, -77.5206,-77.1019,-76.6699,-76.2252, -75.7684,-75.2998,-74.6451)
FOOTPRINT_POINT_LONGITUDE = (221.23,219.23,217.187,215.099,211.888, 209.151,206.928,204.677,202.404,200.114 ,197.808,195.495,193.493,193.128, 192.747,192.332,191.884,191.402,190.88, 190.314,189.691,189.015,188.263,187.429 ,186.499,185.455,184.273,182.924,181.37 ,179.564,177.438,174.902,171.837, 168.133,157.664,135.588,109.821,84.5377 ,66.6948,55.4483,48.2147,43.2957, 39.7681,37.1252,35.0672,33.4159,32.055, 31.1639,28.5823,25.758,22.866,19.9214, 16.9404,13.9405,8.70232,2.05772,356.363 ,350.965,345.917,342.38,338.018,335.49, 331.752,330.016,328.362,325.801,323.739 ,321.456,318.879,315.969,312.687, 308.991,304.849,300.237,296.469,291.05, 286.731,280.699,274.473,269.762,263.606 ,257.691,252.134,249.518,247.018, 244.626,242.357,240.206,238.169,235.321 ,233.582,231.897,230.334,228.86,227.472 ,226.168,224.937,223.782,221.23)
ORBIT_NUMBER = 11401
ORBITAL_ECCENTRICITY = 0.577
ORBITAL_INCLINATION = 86.88
ORBITAL_SEMIMAJOR_AXIS = 8850.37
PERIAPSIS_ALTITUDE = 349.15
PERIAPSIS_ARGUMENT_ANGLE = 171.89
PERIAPSIS_TIME = 2012-12-16T16:39:47.000Z
SPACECRAFT_ORIENTATION = (0.0,-1.0,0.0)
^MEX_ORIENTATION_DESC = "MEX_ORIENTATION_DESC.TXT"
SPACECRAFT_POINTING_MODE = NADIR
^MEX_POINTING_DESC = "MEX_POINTING_DESC.TXT"
RIGHT_ASCENSION = -1e+32
DECLINATION = -1e+32
OFFSET_ANGLE = -1e+32
SPACECRAFT_SOLAR_DISTANCE = 2.08258e+08
TARGET_NAME = MARS
/* CAMERA DATA ELEMENTS */
DETECTOR_TEMPERATURE = 18.1666
FOCAL_PLANE_TEMPERATURE = 8.7872
INST_CMPRS_NAME = "DISCRETE COSINE TRANSFORMATION (DCT)"
INST_CMPRS_RATIO = 11.5072
INST_CMPRS_QUALITY = 0
INST_CMPRS_QUANTZ_TBL_ID = 0
INSTRUMENT_TEMPERATURE = 10.8262
LENS_TEMPERATURE = 9.3989
MACROPIXEL_SIZE = 2
MISSING_FRAMES = 1
PIXEL_SUBSAMPLING_FLAG = N
SIGNAL_CHAIN_ID = 2
/* RADIOMETRIC DATA ELEMENTS */
BANDWIDTH = 88.0
CENTER_FILTER_WAVELENGTH = 538.0
RADIANCE_OFFSET = 0.907663
RADIANCE_SCALING_FACTOR = 0.0233686
REFLECTANCE_SCALING_FACTOR = 0.000872608
MEX:REFLECTANCE_OFFSET = 0.033893
/* IMAGE OBJECT DEFINITIONS */
OBJECT = IMAGE
  INTERCHANGE_FORMAT = BINARY
  LINES = 7207
  LINE_SAMPLES = 5008
  SAMPLE_TYPE = UNSIGNED_INTEGER
  SAMPLE_BITS = 8
  BANDS = 1
  BAND_STORAGE_TYPE = BAND_SEQUENTIAL
  MAXIMUM = 255
  MEAN = 74.844
  MINIMUM = 1
  STANDARD_DEVIATION = 37.7494
END_OBJECT = IMAGE
/* MAP OBJECT DEFINITIONS */
OBJECT = IMAGE_MAP_PROJECTION
  ^DATA_SET_MAP_PROJECTION_CATALOG= "DSMAP.CAT"
  A_AXIS_RADIUS = 3396.0
  B_AXIS_RADIUS = 3396.0
  C_AXIS_RADIUS = 3396.0
  CENTER_LATITUDE = -90.0
  CENTER_LONGITUDE = 0.0
  COORDINATE_SYSTEM_NAME = PLANETOGRAPHIC
  COORDINATE_SYSTEM_TYPE = "BODY-FIXED ROTATING"
  EASTERNMOST_LONGITUDE = 360.0
  FIRST_STANDARD_PARALLEL = "N/A"
  LINE_FIRST_PIXEL = 1
  LINE_LAST_PIXEL = 7207
  LINE_PROJECTION_OFFSET = 3096.0
  MAP_PROJECTION_ROTATION = 0.0
  MAP_PROJECTION_TYPE = STEREOGRAPHIC
  MAP_RESOLUTION = 296.356901933333
  MAP_SCALE = 0.2
  MAXIMUM_LATITUDE = -74.6451
  MINIMUM_LATITUDE = -90.0
  POSITIVE_LONGITUDE_DIRECTION = EAST
  REFERENCE_LATITUDE = "N/A"
  REFERENCE_LONGITUDE = "N/A"
  SAMPLE_FIRST_PIXEL = 1
  SAMPLE_LAST_PIXEL = 5008
  SAMPLE_PROJECTION_OFFSET = 3200.0
  SECOND_STANDARD_PARALLEL = "N/A"
  WESTERNMOST_LONGITUDE = 0.0
END_OBJECT = IMAGE_MAP_PROJECTION
/* The JPEG2000 image data file associated with this label. */
OBJECT = COMPRESSED_FILE
  FILE_NAME = "HB401_0000_GR3.JP2"
  RECORD_TYPE = UNDEFINED
  FILE_RECORDS = UNK
  ENCODING_TYPE = "JP2"
  INTERCHANGE_FORMAT = BINARY
  UNCOMPRESSED_FILE_NAME = "HB401_0000_GR3.IMG"
  REQUIRED_STORAGE_BYTES = "36117696"
  ^DESCRIPTION = "JP2INFO.TXT"
END_OBJECT = COMPRESSED_FILE
END
