PDS_VERSION_ID = PDS3
/* FILE DATA ELEMENTS */
RECORD_TYPE = STREAM
/* POINTERS TO DATA OBJECTS */
^COMPRESSED_FILE = "HB445_0000_P23.JP2"
/* IDENTIFICATION DATA ELEMENTS */
DATA_SET_ID = "MEX-M-HRSC-5-REFDR-MAPPROJECTED-V3.0"
DATA_SET_NAME = "MARS EXPRESS HRSC MAP PROJECTED REFDR V3.0"
DETECTOR_ID = MEX_HRSC_P2
EVENT_TYPE = "MARS-REGIONAL-MAPPING-Te-Fl-Lc"
INSTRUMENT_HOST_ID = MEX
INSTRUMENT_HOST_NAME = "MARS EXPRESS"
INSTRUMENT_ID = HRSC
INSTRUMENT_NAME = "HIGH RESOLUTION STEREO CAMERA"
MISSION_NAME = "MARS EXPRESS"
MISSION_PHASE_NAME = ME_Phase_26
PROCESSING_LEVEL_ID = 3
PRODUCT_CREATION_TIME = 2016-10-28T05:16:34.000Z
PRODUCT_ID = "HB445_0000_P23.JP2"
RELEASE_ID = 0113
REVISION_ID = 0000
/* QUALITY DATA ELEMENTS */
DATA_QUALITY_ID = 1
DATA_QUALITY_DESC = "Data calculated based on original SPICE kernels"
/* TIME DATA ELEMENTS */
SPACECRAFT_CLOCK_START_COUNT = "1/0304863641.07298"
SPACECRAFT_CLOCK_STOP_COUNT = "1/0304864223.17744"
START_TIME = 2012-12-29T12:22:55.759Z
STOP_TIME = 2012-12-29T12:29:03.026Z
/* ORBITAL DATA ELEMENTS */
ASCENDING_NODE_LONGITUDE = 359.08
MAXIMUM_RESOLUTION = 66.6
FOOTPRINT_POINT_LATITUDE = (-26.2375,-26.2403,-26.2392,-26.2363, -26.2304,-26.2107,-26.7381,-27.4008, -28.2221,-28.7688,-29.3258,-29.6059, -29.8884,-30.1723,-30.4578,-30.7448, -31.0342,-31.3251,-31.6148,-31.9112, -32.2135,-32.5101,-32.8074,-33.1077, -33.4088,-33.7126,-34.0194,-34.328, -34.6378,-34.9495,-35.2636,-35.5788, -35.8954,-36.2145,-36.6968,-37.1845, -37.5135,-37.8409,-38.1717,-38.5048, -39.0098,-39.3474,-39.6913,-40.0346, -40.3774,-40.7243,-41.0748,-41.5083, -41.5176,-41.5322,-41.534,-41.5321, -41.5231,-41.5148,-41.5013,-41.4895, -41.4703,-41.0983,-40.5834,-40.238, -39.896,-39.5561,-39.2174,-38.8816, -38.5483,-38.0467,-37.7229,-37.396, -37.0715,-36.7499,-36.4258,-36.1102, -35.7932,-35.4783,-35.1653,-34.6987, -34.3874,-34.0797,-33.7741,-33.4706, -33.175,-32.874,-32.5748,-32.1293, -31.8349,-31.5425,-31.2511,-30.962, -30.6744,-30.3897,-30.1035,-29.8228, -29.261,-28.7063,-28.292,-27.7443, -27.2123,-26.8117,-26.2837,-26.2375)
FOOTPRINT_POINT_LONGITUDE = (26.1592,25.5499,25.0016,24.6059, 24.1187,23.4635,23.4268,23.3766,23.3204 ,23.2775,23.2347,23.2126,23.1904, 23.1678,23.1447,23.1213,23.0976,23.0736 ,23.0477,23.0238,23.0015,22.975,22.9476 ,22.9202,22.8919,22.8635,22.8351,22.806 ,22.776,22.7457,22.715,22.6831,22.6505, 22.6175,22.5666,22.5145,22.4796,22.4421 ,22.4046,22.3663,22.3081,22.2672, 22.2278,22.186,22.1418,22.0977,22.0534, 22.1677,22.9212,23.5041,23.9669,24.7188 ,25.529,25.992,26.5703,27.0324,27.5538, 27.9342,27.8611,27.8164,27.7723,27.7297 ,27.6883,27.6478,27.6082,27.5534, 27.5142,27.4784,27.4434,27.4089,27.3774 ,27.3436,27.3122,27.2815,27.2518, 27.2086,27.1821,27.1554,27.129,27.1033, 27.0751,27.0513,27.0281,26.994,26.9718, 26.95,26.9292,26.9086,26.8884,26.8682, 26.85,26.8303,26.7949,26.7605,26.737, 26.707,26.6739,26.6525,26.6248,26.1592)
ORBIT_NUMBER = 11445
ORBITAL_ECCENTRICITY = 0.576
ORBITAL_INCLINATION = 86.87
ORBITAL_SEMIMAJOR_AXIS = 8849.83
PERIAPSIS_ALTITUDE = 353.35
PERIAPSIS_ARGUMENT_ANGLE = 164.28
PERIAPSIS_TIME = 2012-12-29T12:10:24.000Z
SPACECRAFT_ORIENTATION = (0.0,-1.0,0.0)
^MEX_ORIENTATION_DESC = "MEX_ORIENTATION_DESC.TXT"
SPACECRAFT_POINTING_MODE = NADIR
^MEX_POINTING_DESC = "MEX_POINTING_DESC.TXT"
RIGHT_ASCENSION = -1e+32
DECLINATION = -1e+32
OFFSET_ANGLE = -1e+32
SPACECRAFT_SOLAR_DISTANCE = 2.07386e+08
TARGET_NAME = MARS
/* CAMERA DATA ELEMENTS */
DETECTOR_TEMPERATURE = 19.39
FOCAL_PLANE_TEMPERATURE = 7.9716
INST_CMPRS_NAME = "DISCRETE COSINE TRANSFORMATION (DCT)"
INST_CMPRS_RATIO = 9.10972
INST_CMPRS_QUALITY = 0
INST_CMPRS_QUANTZ_TBL_ID = 0
INSTRUMENT_TEMPERATURE = 11.8457
LENS_TEMPERATURE = 8.7872
MACROPIXEL_SIZE = 2
MISSING_FRAMES = 0
PIXEL_SUBSAMPLING_FLAG = N
SIGNAL_CHAIN_ID = 3
/* RADIOMETRIC DATA ELEMENTS */
BANDWIDTH = 177.0
CENTER_FILTER_WAVELENGTH = 676.5
RADIANCE_OFFSET = 2.36691
RADIANCE_SCALING_FACTOR = 0.00883141
REFLECTANCE_SCALING_FACTOR = 0.000201393
MEX:REFLECTANCE_OFFSET = 0.0539755
/* IMAGE OBJECT DEFINITIONS */
OBJECT = IMAGE
  INTERCHANGE_FORMAT = BINARY
  LINES = 18156
  LINE_SAMPLES = 4702
  SAMPLE_TYPE = UNSIGNED_INTEGER
  SAMPLE_BITS = 8
  BANDS = 1
  BAND_STORAGE_TYPE = BAND_SEQUENTIAL
  MAXIMUM = 254
  MEAN = 79.9518
  MINIMUM = 1
  STANDARD_DEVIATION = 34.7143
END_OBJECT = IMAGE
/* MAP OBJECT DEFINITIONS */
OBJECT = IMAGE_MAP_PROJECTION
  ^DATA_SET_MAP_PROJECTION_CATALOG= "DSMAP.CAT"
  A_AXIS_RADIUS = 3396.0
  B_AXIS_RADIUS = 3396.0
  C_AXIS_RADIUS = 3396.0
  CENTER_LATITUDE = 0.0
  CENTER_LONGITUDE = 25.0
  COORDINATE_SYSTEM_NAME = PLANETOGRAPHIC
  COORDINATE_SYSTEM_TYPE = "BODY-FIXED ROTATING"
  EASTERNMOST_LONGITUDE = 27.9342
  FIRST_STANDARD_PARALLEL = "N/A"
  LINE_FIRST_PIXEL = 1
  LINE_LAST_PIXEL = 18156
  LINE_PROJECTION_OFFSET = -31083.25
  MAP_PROJECTION_ROTATION = 0.0
  MAP_PROJECTION_TYPE = SINUSOIDAL
  MAP_RESOLUTION = 1185.42760773333
  MAP_SCALE = 0.05
  MAXIMUM_LATITUDE = -26.2107
  MINIMUM_LATITUDE = -41.534
  POSITIVE_LONGITUDE_DIRECTION = EAST
  REFERENCE_LATITUDE = "N/A"
  REFERENCE_LONGITUDE = "N/A"
  SAMPLE_FIRST_PIXEL = 1
  SAMPLE_LAST_PIXEL = 4702
  SAMPLE_PROJECTION_OFFSET = 2337.75
  SECOND_STANDARD_PARALLEL = "N/A"
  WESTERNMOST_LONGITUDE = 22.0534
END_OBJECT = IMAGE_MAP_PROJECTION
/* The JPEG2000 image data file associated with this label. */
OBJECT = COMPRESSED_FILE
  FILE_NAME = "HB445_0000_P23.JP2"
  RECORD_TYPE = UNDEFINED
  FILE_RECORDS = UNK
  ENCODING_TYPE = "JP2"
  INTERCHANGE_FORMAT = BINARY
  UNCOMPRESSED_FILE_NAME = "HB445_0000_P23.IMG"
  REQUIRED_STORAGE_BYTES = "85397724"
  ^DESCRIPTION = "JP2INFO.TXT"
END_OBJECT = COMPRESSED_FILE
END
