PDS_VERSION_ID = PDS3
/* FILE DATA ELEMENTS */
RECORD_TYPE = STREAM
/* POINTERS TO DATA OBJECTS */
^COMPRESSED_FILE = "HB462_0000_BL3.JP2"
/* IDENTIFICATION DATA ELEMENTS */
DATA_SET_ID = "MEX-M-HRSC-5-REFDR-MAPPROJECTED-V3.0"
DATA_SET_NAME = "MARS EXPRESS HRSC MAP PROJECTED REFDR V3.0"
DETECTOR_ID = MEX_HRSC_BLUE
EVENT_TYPE = "MARS-REGIONAL-MAPPING-Im"
INSTRUMENT_HOST_ID = MEX
INSTRUMENT_HOST_NAME = "MARS EXPRESS"
INSTRUMENT_ID = HRSC
INSTRUMENT_NAME = "HIGH RESOLUTION STEREO CAMERA"
MISSION_NAME = "MARS EXPRESS"
MISSION_PHASE_NAME = ME_Phase_27
PROCESSING_LEVEL_ID = 3
PRODUCT_CREATION_TIME = 2016-10-28T05:53:57.000Z
PRODUCT_ID = "HB462_0000_BL3.JP2"
RELEASE_ID = 0114
REVISION_ID = 0000
/* QUALITY DATA ELEMENTS */
DATA_QUALITY_ID = 1
DATA_QUALITY_DESC = "Data calculated based on original SPICE kernels"
/* TIME DATA ELEMENTS */
SPACECRAFT_CLOCK_START_COUNT = "1/0305291234.09049"
SPACECRAFT_CLOCK_STOP_COUNT = "1/0305291455.64718"
START_TIME = 2013-01-03T11:08:24.278Z
STOP_TIME = 2013-01-03T11:09:47.049Z
/* ORBITAL DATA ELEMENTS */
ASCENDING_NODE_LONGITUDE = 358.75
MAXIMUM_RESOLUTION = 97.3
FOOTPRINT_POINT_LATITUDE = (-15.1252,-15.1241,-15.1228,-15.1218, -15.1209,-15.1184,-15.1164,-15.1144, -15.1122,-15.11,-15.1085,-15.106, -15.1027,-15.1887,-15.3598,-15.6193, -15.7924,-15.9652,-16.1406,-16.3159, -16.4907,-16.7126,-16.8458,-17.023, -17.1576,-17.2474,-17.3372,-17.4267, -17.516,-17.6509,-17.7418,-17.8325, -17.9234,-18.014,-18.1044,-18.2419, -18.3336,-18.4252,-18.5168,-18.6081, -18.7005,-18.7931,-18.8859,-18.9784, -19.1171,-19.258,-19.3517,-19.4454, -19.6241,-19.6264,-19.6288,-19.631, -19.635,-19.6394,-19.6423,-19.6437, -19.6454,-19.6467,-19.6481,-19.649, -19.6506,-19.6518,-19.6522,-19.5574, -19.4638,-19.3701,-19.2763,-19.1357, -19.0431,-18.9504,-18.8576,-18.7648, -18.6261,-18.5346,-18.443,-18.3513, -18.2595,-18.122,-18.0314,-17.9409, -17.8502,-17.7594,-17.6233,-17.5337, -17.4436,-17.3541,-17.2197,-17.1298, -17.0404,-16.8633,-16.6858,-16.5083, -16.3332,-16.1581,-15.9829,-15.8099, -15.6367,-15.4199,-15.2917,-15.1252)
FOOTPRINT_POINT_LONGITUDE = (88.5369,88.3732,88.2098,88.0871, 87.9849,87.7397,87.5558,87.3924,87.2291 ,87.0658,86.9637,86.8002,86.5954, 86.4261,86.4184,86.4062,86.398,86.3894, 86.3812,86.3727,86.3638,86.3531,86.3468 ,86.3382,86.3318,86.3275,86.323,86.3182 ,86.3133,86.3064,86.3018,86.2972, 86.2928,86.2882,86.2834,86.2762,86.2713 ,86.2664,86.2615,86.2564,86.2514, 86.2463,86.2414,86.2363,86.2287,86.2214 ,86.2163,86.2113,86.2002,86.3166, 86.4814,86.6699,86.9301,87.1199,87.3556 ,87.4971,87.6624,87.804,87.9692,88.1109 ,88.3468,88.559,88.6772,88.7294,88.7266 ,88.7238,88.7211,88.717,88.7143,88.7118 ,88.7093,88.7067,88.7028,88.7001, 88.6974,88.6948,88.6923,88.6887,88.6862 ,88.6837,88.6813,88.6789,88.6751,88.673 ,88.6715,88.6689,88.6649,88.6627, 88.6605,88.6561,88.6518,88.6476,88.6434 ,88.6388,88.6347,88.6308,88.6268, 88.6219,88.6192,88.5369)
ORBIT_NUMBER = 11462
ORBITAL_ECCENTRICITY = 0.576
ORBITAL_INCLINATION = 86.89
ORBITAL_SEMIMAJOR_AXIS = 8849.36
PERIAPSIS_ALTITUDE = 354.62
PERIAPSIS_ARGUMENT_ANGLE = 161.3
PERIAPSIS_TIME = 2013-01-03T10:59:08.000Z
SPACECRAFT_ORIENTATION = (0.0,-1.0,0.0)
^MEX_ORIENTATION_DESC = "MEX_ORIENTATION_DESC.TXT"
SPACECRAFT_POINTING_MODE = NADIR
^MEX_POINTING_DESC = "MEX_POINTING_DESC.TXT"
RIGHT_ASCENSION = -1e+32
DECLINATION = -1e+32
OFFSET_ANGLE = -1e+32
SPACECRAFT_SOLAR_DISTANCE = 2.07139e+08
TARGET_NAME = MARS
/* CAMERA DATA ELEMENTS */
DETECTOR_TEMPERATURE = 18.5744
FOCAL_PLANE_TEMPERATURE = 7.7677
INST_CMPRS_NAME = "DISCRETE COSINE TRANSFORMATION (DCT)"
INST_CMPRS_RATIO = 6.06676
INST_CMPRS_QUALITY = 0
INST_CMPRS_QUANTZ_TBL_ID = 0
INSTRUMENT_TEMPERATURE = 11.234
LENS_TEMPERATURE = 8.1755
MACROPIXEL_SIZE = 4
MISSING_FRAMES = 0
PIXEL_SUBSAMPLING_FLAG = N
SIGNAL_CHAIN_ID = 2
/* RADIOMETRIC DATA ELEMENTS */
BANDWIDTH = 76.0
CENTER_FILTER_WAVELENGTH = 444.0
RADIANCE_OFFSET = 0.401523
RADIANCE_SCALING_FACTOR = 0.00104106
REFLECTANCE_SCALING_FACTOR = 4.5894e-05
MEX:REFLECTANCE_OFFSET = 0.0177007
/* IMAGE OBJECT DEFINITIONS */
OBJECT = IMAGE
  INTERCHANGE_FORMAT = BINARY
  LINES = 2698
  LINE_SAMPLES = 1442
  SAMPLE_TYPE = UNSIGNED_INTEGER
  SAMPLE_BITS = 8
  BANDS = 1
  BAND_STORAGE_TYPE = BAND_SEQUENTIAL
  MAXIMUM = 254
  MEAN = 121.052
  MINIMUM = 1
  STANDARD_DEVIATION = 38.4352
END_OBJECT = IMAGE
/* MAP OBJECT DEFINITIONS */
OBJECT = IMAGE_MAP_PROJECTION
  ^DATA_SET_MAP_PROJECTION_CATALOG= "DSMAP.CAT"
  A_AXIS_RADIUS = 3396.0
  B_AXIS_RADIUS = 3396.0
  C_AXIS_RADIUS = 3396.0
  CENTER_LATITUDE = 0.0
  CENTER_LONGITUDE = 87.0
  COORDINATE_SYSTEM_NAME = PLANETOGRAPHIC
  COORDINATE_SYSTEM_TYPE = "BODY-FIXED ROTATING"
  EASTERNMOST_LONGITUDE = 88.7294
  FIRST_STANDARD_PARALLEL = "N/A"
  LINE_FIRST_PIXEL = 1
  LINE_LAST_PIXEL = 2698
  LINE_PROJECTION_OFFSET = -8945.375
  MAP_PROJECTION_ROTATION = 0.0
  MAP_PROJECTION_TYPE = SINUSOIDAL
  MAP_RESOLUTION = 592.713803866667
  MAP_SCALE = 0.1
  MAXIMUM_LATITUDE = -15.1027
  MINIMUM_LATITUDE = -19.6522
  POSITIVE_LONGITUDE_DIRECTION = EAST
  REFERENCE_LATITUDE = "N/A"
  REFERENCE_LONGITUDE = "N/A"
  SAMPLE_FIRST_PIXEL = 1
  SAMPLE_LAST_PIXEL = 1442
  SAMPLE_PROJECTION_OFFSET = 463.375
  SECOND_STANDARD_PARALLEL = "N/A"
  WESTERNMOST_LONGITUDE = 86.2002
END_OBJECT = IMAGE_MAP_PROJECTION
/* The JPEG2000 image data file associated with this label. */
OBJECT = COMPRESSED_FILE
  FILE_NAME = "HB462_0000_BL3.JP2"
  RECORD_TYPE = UNDEFINED
  FILE_RECORDS = UNK
  ENCODING_TYPE = "JP2"
  INTERCHANGE_FORMAT = BINARY
  UNCOMPRESSED_FILE_NAME = "HB462_0000_BL3.IMG"
  REQUIRED_STORAGE_BYTES = "3909262"
  ^DESCRIPTION = "JP2INFO.TXT"
END_OBJECT = COMPRESSED_FILE
END
