PDS_VERSION_ID = PDS3
/* FILE DATA ELEMENTS */
RECORD_TYPE = STREAM
/* POINTERS TO DATA OBJECTS */
^COMPRESSED_FILE = "HB462_0000_S23.JP2"
/* IDENTIFICATION DATA ELEMENTS */
DATA_SET_ID = "MEX-M-HRSC-5-REFDR-MAPPROJECTED-V3.0"
DATA_SET_NAME = "MARS EXPRESS HRSC MAP PROJECTED REFDR V3.0"
DETECTOR_ID = MEX_HRSC_S2
EVENT_TYPE = "MARS-REGIONAL-MAPPING-Im"
INSTRUMENT_HOST_ID = MEX
INSTRUMENT_HOST_NAME = "MARS EXPRESS"
INSTRUMENT_ID = HRSC
INSTRUMENT_NAME = "HIGH RESOLUTION STEREO CAMERA"
MISSION_NAME = "MARS EXPRESS"
MISSION_PHASE_NAME = ME_Phase_27
PROCESSING_LEVEL_ID = 3
PRODUCT_CREATION_TIME = 2016-10-28T05:53:57.000Z
PRODUCT_ID = "HB462_0000_S23.JP2"
RELEASE_ID = 0114
REVISION_ID = 0000
/* QUALITY DATA ELEMENTS */
DATA_QUALITY_ID = 1
DATA_QUALITY_DESC = "Data calculated based on original SPICE kernels"
/* TIME DATA ELEMENTS */
SPACECRAFT_CLOCK_START_COUNT = "1/0305291234.09049"
SPACECRAFT_CLOCK_STOP_COUNT = "1/0305291455.64718"
START_TIME = 2013-01-03T11:09:22.850Z
STOP_TIME = 2013-01-03T11:10:57.456Z
/* ORBITAL DATA ELEMENTS */
ASCENDING_NODE_LONGITUDE = 358.75
MAXIMUM_RESOLUTION = 56.7
FOOTPRINT_POINT_LATITUDE = (-15.1088,-15.109,-15.1091,-15.1089, -15.1084,-15.1074,-15.1057,-15.1038, -15.1015,-15.0988,-15.0957,-15.0922, -15.0877,-15.084,-15.1818,-15.3109, -15.4406,-15.615,-15.7888,-15.9648, -16.2281,-16.3607,-16.5804,-16.7591, -16.9395,-17.0736,-17.2536,-17.4333, -17.5676,-17.7034,-17.8852,-18.022, -18.1595,-18.2503,-18.3413,-18.4332, -18.5714,-18.6629,-18.8017,-18.8948, -18.9878,-19.0803,-19.2211,-19.315, -19.4086,-19.5481,-19.614,-19.6158, -19.6201,-19.6138,-19.616,-19.618, -19.6199,-19.622,-19.632,-19.6371, -19.6378,-19.638,-19.6391,-19.6395, -19.6408,-19.6412,-19.6415,-19.6421, -19.6423,-19.642,-19.6416,-19.6396, -19.5451,-19.4519,-19.311,-19.2169, -19.0775,-18.9841,-18.8907,-18.751, -18.659,-18.5662,-18.4281,-18.3362, -18.245,-18.153,-18.0611,-17.9697, -17.7885,-17.5618,-17.3822,-17.2009, -17.066,-16.8872,-16.6197,-16.487, -16.3096,-16.1355,-15.9597,-15.7842, -15.6108,-15.3921,-15.2207,-15.1088)
FOOTPRINT_POINT_LONGITUDE = (88.7028,88.5617,88.4441,88.3265, 88.1385,87.9505,87.7155,87.5276,87.3399 ,87.1522,86.9644,86.7765,86.5647, 86.3999,86.2971,86.2899,86.2827,86.2729 ,86.2631,86.2532,86.2381,86.2304,86.217 ,86.2069,86.1967,86.1888,86.178,86.1669 ,86.1585,86.1499,86.1388,86.1303, 86.1217,86.1158,86.1099,86.1039,86.095, 86.0889,86.08,86.0739,86.0679,86.0617, 86.0528,86.0466,86.0404,86.0307,86.1085 ,86.2464,86.3849,86.4938,86.6321, 86.7427,86.8532,86.9638,87.1299,87.2678 ,87.378,87.4883,87.5986,87.709,87.9022, 88.0402,88.2058,88.3989,88.5368,88.6473 ,88.7577,88.8783,88.8745,88.8706, 88.8652,88.8616,88.856,88.8526,88.8491, 88.8438,88.8403,88.837,88.8317,88.8283, 88.8249,88.8216,88.8184,88.8151,88.8086 ,88.8005,88.7942,88.7883,88.784,88.7781 ,88.7694,88.7651,88.7594,88.7535, 88.7481,88.7428,88.7374,88.7312,88.7259 ,88.7028)
ORBIT_NUMBER = 11462
ORBITAL_ECCENTRICITY = 0.576
ORBITAL_INCLINATION = 86.89
ORBITAL_SEMIMAJOR_AXIS = 8849.36
PERIAPSIS_ALTITUDE = 354.62
PERIAPSIS_ARGUMENT_ANGLE = 161.3
PERIAPSIS_TIME = 2013-01-03T10:59:08.000Z
SPACECRAFT_ORIENTATION = (0.0,-1.0,0.0)
^MEX_ORIENTATION_DESC = "MEX_ORIENTATION_DESC.TXT"
SPACECRAFT_POINTING_MODE = NADIR
^MEX_POINTING_DESC = "MEX_POINTING_DESC.TXT"
RIGHT_ASCENSION = -1e+32
DECLINATION = -1e+32
OFFSET_ANGLE = -1e+32
SPACECRAFT_SOLAR_DISTANCE = 2.07139e+08
TARGET_NAME = MARS
/* CAMERA DATA ELEMENTS */
DETECTOR_TEMPERATURE = 18.3705
FOCAL_PLANE_TEMPERATURE = 7.7677
INST_CMPRS_NAME = "DISCRETE COSINE TRANSFORMATION (DCT)"
INST_CMPRS_RATIO = 14.1374
INST_CMPRS_QUALITY = 0
INST_CMPRS_QUANTZ_TBL_ID = 0
INSTRUMENT_TEMPERATURE = 11.234
LENS_TEMPERATURE = 8.1755
MACROPIXEL_SIZE = 2
MISSING_FRAMES = 0
PIXEL_SUBSAMPLING_FLAG = N
SIGNAL_CHAIN_ID = 1
/* RADIOMETRIC DATA ELEMENTS */
BANDWIDTH = 178.0
CENTER_FILTER_WAVELENGTH = 679.0
RADIANCE_OFFSET = 2.30149
RADIANCE_SCALING_FACTOR = 0.00646268
REFLECTANCE_SCALING_FACTOR = 0.000146847
MEX:REFLECTANCE_OFFSET = 0.0522952
/* IMAGE OBJECT DEFINITIONS */
OBJECT = IMAGE
  INTERCHANGE_FORMAT = BINARY
  LINES = 5396
  LINE_SAMPLES = 2884
  SAMPLE_TYPE = UNSIGNED_INTEGER
  SAMPLE_BITS = 8
  BANDS = 1
  BAND_STORAGE_TYPE = BAND_SEQUENTIAL
  MAXIMUM = 255
  MEAN = 115.647
  MINIMUM = 1
  STANDARD_DEVIATION = 35.6829
END_OBJECT = IMAGE
/* MAP OBJECT DEFINITIONS */
OBJECT = IMAGE_MAP_PROJECTION
  ^DATA_SET_MAP_PROJECTION_CATALOG= "DSMAP.CAT"
  A_AXIS_RADIUS = 3396.0
  B_AXIS_RADIUS = 3396.0
  C_AXIS_RADIUS = 3396.0
  CENTER_LATITUDE = 0.0
  CENTER_LONGITUDE = 87.0
  COORDINATE_SYSTEM_NAME = PLANETOGRAPHIC
  COORDINATE_SYSTEM_TYPE = "BODY-FIXED ROTATING"
  EASTERNMOST_LONGITUDE = 88.8783
  FIRST_STANDARD_PARALLEL = "N/A"
  LINE_FIRST_PIXEL = 1
  LINE_LAST_PIXEL = 5396
  LINE_PROJECTION_OFFSET = -17890.25
  MAP_PROJECTION_ROTATION = 0.0
  MAP_PROJECTION_TYPE = SINUSOIDAL
  MAP_RESOLUTION = 1185.42760773333
  MAP_SCALE = 0.05
  MAXIMUM_LATITUDE = -15.084
  MINIMUM_LATITUDE = -19.6423
  POSITIVE_LONGITUDE_DIRECTION = EAST
  REFERENCE_LATITUDE = "N/A"
  REFERENCE_LONGITUDE = "N/A"
  SAMPLE_FIRST_PIXEL = 1
  SAMPLE_LAST_PIXEL = 2884
  SAMPLE_PROJECTION_OFFSET = 927.25
  SECOND_STANDARD_PARALLEL = "N/A"
  WESTERNMOST_LONGITUDE = 86.0307
END_OBJECT = IMAGE_MAP_PROJECTION
/* The JPEG2000 image data file associated with this label. */
OBJECT = COMPRESSED_FILE
  FILE_NAME = "HB462_0000_S23.JP2"
  RECORD_TYPE = UNDEFINED
  FILE_RECORDS = UNK
  ENCODING_TYPE = "JP2"
  INTERCHANGE_FORMAT = BINARY
  UNCOMPRESSED_FILE_NAME = "HB462_0000_S23.IMG"
  REQUIRED_STORAGE_BYTES = "15585136"
  ^DESCRIPTION = "JP2INFO.TXT"
END_OBJECT = COMPRESSED_FILE
END
