PDS_VERSION_ID = PDS3
/* FILE DATA ELEMENTS */
RECORD_TYPE = STREAM
/* POINTERS TO DATA OBJECTS */
^COMPRESSED_FILE = "HB464_0000_S23.JP2"
/* IDENTIFICATION DATA ELEMENTS */
DATA_SET_ID = "MEX-M-HRSC-5-REFDR-MAPPROJECTED-V3.0"
DATA_SET_NAME = "MARS EXPRESS HRSC MAP PROJECTED REFDR V3.0"
DETECTOR_ID = MEX_HRSC_S2
EVENT_TYPE = "MARS-REGIONAL-MAPPING-Vo-Te"
INSTRUMENT_HOST_ID = MEX
INSTRUMENT_HOST_NAME = "MARS EXPRESS"
INSTRUMENT_ID = HRSC
INSTRUMENT_NAME = "HIGH RESOLUTION STEREO CAMERA"
MISSION_NAME = "MARS EXPRESS"
MISSION_PHASE_NAME = ME_Phase_27
PROCESSING_LEVEL_ID = 3
PRODUCT_CREATION_TIME = 2016-10-28T05:53:57.000Z
PRODUCT_ID = "HB464_0000_S23.JP2"
RELEASE_ID = 0114
REVISION_ID = 0000
/* QUALITY DATA ELEMENTS */
DATA_QUALITY_ID = 1
DATA_QUALITY_DESC = "Data calculated based on original SPICE kernels"
/* TIME DATA ELEMENTS */
SPACECRAFT_CLOCK_START_COUNT = "1/0305341448.08244"
SPACECRAFT_CLOCK_STOP_COUNT = "1/0305341941.64688"
START_TIME = 2013-01-04T01:05:54.874Z
STOP_TIME = 2013-01-04T01:12:23.458Z
/* ORBITAL DATA ELEMENTS */
ASCENDING_NODE_LONGITUDE = 358.72
MAXIMUM_RESOLUTION = 46.6
FOOTPRINT_POINT_LATITUDE = (-8.0028,-8.05168,-8.0951,-8.32986, -8.98223,-9.47721,-10.1451,-10.6515, -11.3348,-11.8531,-12.3763,-12.9041, -13.2583,-13.6158,-13.9756,-14.3373, -14.7011,-15.0686,-15.4382,-15.8104, -16.1849,-16.5625,-16.9425,-17.326, -17.7119,-18.1006,-18.4921,-18.8865, -19.2842,-19.6847,-20.0834,-20.4798, -20.8736,-21.2646,-21.6534,-22.0394, -22.423,-22.8045,-23.1825,-23.5588, -23.9325,-24.3037,-24.6719,-25.0384, -25.4021,-25.7636,-26.1222,-26.479, -26.5224,-26.4984,-26.4664,-26.4071, -26.3652,-26.3138,-25.961,-25.6065, -25.2482,-24.8866,-24.524,-24.1586, -23.7903,-23.4196,-23.0461,-22.6713, -22.2914,-21.9108,-21.527,-21.1411, -20.7523,-20.3609,-19.9667,-19.5701, -19.1704,-18.7736,-18.3804,-17.9894, -17.6013,-17.2168,-16.8347,-16.4557, -16.0788,-15.705,-15.3335,-14.9644, -14.5983,-14.2348,-13.8733,-13.514, -13.1576,-12.8037,-12.452,-12.102, -11.7548,-11.0657,-10.5552,-10.0497, -9.38269,-8.72383,-8.23499,-8.0028)
FOOTPRINT_POINT_LONGITUDE = (245.561,244.916,244.291,244.034, 244.012,243.995,243.971,243.953,243.927 ,243.907,243.887,243.866,243.852, 243.837,243.823,243.808,243.792,243.777 ,243.761,243.744,243.728,243.711, 243.693,243.675,243.657,243.639,243.62, 243.6,243.581,243.56,243.54,243.519, 243.498,243.477,243.456,243.434,243.412 ,243.39,243.368,243.346,243.323,243.301 ,243.278,243.254,243.231,243.207, 243.184,243.16,243.658,244.202,244.824, 245.788,246.353,246.976,246.946,246.916 ,246.887,246.86,246.831,246.803,246.776 ,246.749,246.723,246.696,246.672, 246.647,246.622,246.598,246.574,246.551 ,246.528,246.506,246.484,246.463, 246.443,246.423,246.404,246.386,246.368 ,246.351,246.334,246.318,246.302, 246.287,246.272,246.258,246.245,246.231 ,246.219,246.207,246.194,246.183, 246.172,246.152,246.137,246.123,246.106 ,246.089,246.078,245.561)
ORBIT_NUMBER = 11464
ORBITAL_ECCENTRICITY = 0.577
ORBITAL_INCLINATION = 86.87
ORBITAL_SEMIMAJOR_AXIS = 8856.18
PERIAPSIS_ALTITUDE = 355.07
PERIAPSIS_ARGUMENT_ANGLE = 160.95
PERIAPSIS_TIME = 2013-01-04T00:57:49.000Z
SPACECRAFT_ORIENTATION = (0.0,-1.0,0.0)
^MEX_ORIENTATION_DESC = "MEX_ORIENTATION_DESC.TXT"
SPACECRAFT_POINTING_MODE = ACROSSTRACK
^MEX_POINTING_DESC = "MEX_POINTING_DESC.TXT"
RIGHT_ASCENSION = -1e+32
DECLINATION = -1e+32
OFFSET_ANGLE = 1.831
SPACECRAFT_SOLAR_DISTANCE = 2.07113e+08
TARGET_NAME = MARS
/* CAMERA DATA ELEMENTS */
DETECTOR_TEMPERATURE = 18.7783
FOCAL_PLANE_TEMPERATURE = 7.9716
INST_CMPRS_NAME = "DISCRETE COSINE TRANSFORMATION (DCT)"
INST_CMPRS_RATIO = 11.3143
INST_CMPRS_QUALITY = 0
INST_CMPRS_QUANTZ_TBL_ID = 0
INSTRUMENT_TEMPERATURE = 11.4379
LENS_TEMPERATURE = 8.1755
MACROPIXEL_SIZE = 2
MISSING_FRAMES = 0
PIXEL_SUBSAMPLING_FLAG = N
SIGNAL_CHAIN_ID = 1
/* RADIOMETRIC DATA ELEMENTS */
BANDWIDTH = 178.0
CENTER_FILTER_WAVELENGTH = 679.0
RADIANCE_OFFSET = 2.56453
RADIANCE_SCALING_FACTOR = 0.0113688
REFLECTANCE_SCALING_FACTOR = 0.000258261
MEX:REFLECTANCE_OFFSET = 0.0582576
/* IMAGE OBJECT DEFINITIONS */
OBJECT = IMAGE
  INTERCHANGE_FORMAT = BINARY
  LINES = 21814
  LINE_SAMPLES = 3558
  SAMPLE_TYPE = UNSIGNED_INTEGER
  SAMPLE_BITS = 8
  BANDS = 1
  BAND_STORAGE_TYPE = BAND_SEQUENTIAL
  MAXIMUM = 255
  MEAN = 86.5895
  MINIMUM = 1
  STANDARD_DEVIATION = 27.3008
END_OBJECT = IMAGE
/* MAP OBJECT DEFINITIONS */
OBJECT = IMAGE_MAP_PROJECTION
  ^DATA_SET_MAP_PROJECTION_CATALOG= "DSMAP.CAT"
  A_AXIS_RADIUS = 3396.0
  B_AXIS_RADIUS = 3396.0
  C_AXIS_RADIUS = 3396.0
  CENTER_LATITUDE = 0.0
  CENTER_LONGITUDE = 245.0
  COORDINATE_SYSTEM_NAME = PLANETOGRAPHIC
  COORDINATE_SYSTEM_TYPE = "BODY-FIXED ROTATING"
  EASTERNMOST_LONGITUDE = 246.976
  FIRST_STANDARD_PARALLEL = "N/A"
  LINE_FIRST_PIXEL = 1
  LINE_LAST_PIXEL = 21814
  LINE_PROJECTION_OFFSET = -9531.25
  MAP_PROJECTION_ROTATION = 0.0
  MAP_PROJECTION_TYPE = SINUSOIDAL
  MAP_RESOLUTION = 1185.42760773333
  MAP_SCALE = 0.05
  MAXIMUM_LATITUDE = -8.002800000000001
  MINIMUM_LATITUDE = -26.5224
  POSITIVE_LONGITUDE_DIRECTION = EAST
  REFERENCE_LATITUDE = "N/A"
  REFERENCE_LONGITUDE = "N/A"
  SAMPLE_FIRST_PIXEL = 1
  SAMPLE_LAST_PIXEL = 3558
  SAMPLE_PROJECTION_OFFSET = 1674.75
  SECOND_STANDARD_PARALLEL = "N/A"
  WESTERNMOST_LONGITUDE = 243.16
END_OBJECT = IMAGE_MAP_PROJECTION
/* The JPEG2000 image data file associated with this label. */
OBJECT = COMPRESSED_FILE
  FILE_NAME = "HB464_0000_S23.JP2"
  RECORD_TYPE = UNDEFINED
  FILE_RECORDS = UNK
  ENCODING_TYPE = "JP2"
  INTERCHANGE_FORMAT = BINARY
  UNCOMPRESSED_FILE_NAME = "HB464_0000_S23.IMG"
  REQUIRED_STORAGE_BYTES = "77635560"
  ^DESCRIPTION = "JP2INFO.TXT"
END_OBJECT = COMPRESSED_FILE
END
