PDS_VERSION_ID = PDS3
/* FILE DATA ELEMENTS */
RECORD_TYPE = STREAM
/* POINTERS TO DATA OBJECTS */
^COMPRESSED_FILE = "HB465_0000_ND3.JP2"
/* IDENTIFICATION DATA ELEMENTS */
DATA_SET_ID = "MEX-M-HRSC-5-REFDR-MAPPROJECTED-V3.0"
DATA_SET_NAME = "MARS EXPRESS HRSC MAP PROJECTED REFDR V3.0"
DETECTOR_ID = MEX_HRSC_NADIR
EVENT_TYPE = "MARS-LOCAL-STEREO-Vo-Eo-Tc"
INSTRUMENT_HOST_ID = MEX
INSTRUMENT_HOST_NAME = "MARS EXPRESS"
INSTRUMENT_ID = HRSC
INSTRUMENT_NAME = "HIGH RESOLUTION STEREO CAMERA"
MISSION_NAME = "MARS EXPRESS"
MISSION_PHASE_NAME = ME_Phase_27
PROCESSING_LEVEL_ID = 3
PRODUCT_CREATION_TIME = 2016-10-28T05:53:57.000Z
PRODUCT_ID = "HB465_0000_ND3.JP2"
RELEASE_ID = 0114
REVISION_ID = 0000
/* QUALITY DATA ELEMENTS */
DATA_QUALITY_ID = 1
DATA_QUALITY_DESC = "Data calculated based on original SPICE kernels"
/* TIME DATA ELEMENTS */
SPACECRAFT_CLOCK_START_COUNT = "1/0305366418.09036"
SPACECRAFT_CLOCK_STOP_COUNT = "1/0305366629.50593"
START_TIME = 2013-01-04T08:00:56.528Z
STOP_TIME = 2013-01-04T08:03:04.527Z
/* ORBITAL DATA ELEMENTS */
ASCENDING_NODE_LONGITUDE = 358.69
MAXIMUM_RESOLUTION = 16
FOOTPRINT_POINT_LATITUDE = (4.97137,4.97432,4.97616,4.9784,4.98056 ,4.98219,4.82797,4.67381,4.51974, 4.36574,4.21183,4.05798,3.75054,3.44342 ,3.13668,2.83029,2.6006,2.29242,2.13552 ,1.97872,1.82201,1.66539,1.50887, 1.35245,1.19613,1.0399,0.880194, 0.720061,0.560036,0.400118,0.240307, 0.0806059,-0.0789877,-0.238468, -0.401923,-0.565258,-0.728476,-0.891577 ,-1.05455,-1.2174,-1.38014,-1.62953, -1.79601,-1.96236,-2.12856,-2.29464, -2.46059,-2.71432,-2.88393,-2.99334, -2.99539,-2.9972,-2.9991,-3.00181, -3.00392,-3.0065,-2.92414,-2.75439, -2.50006,-2.33401,-2.16784,-2.0015, -1.83504,-1.66846,-1.50174,-1.25556, -1.0926,-0.92952,-0.766321,-0.603001, -0.439562,-0.195686,-0.0360484,0.123699 ,0.283553,0.443518,0.60359,0.76377, 0.924055,1.16058,1.317,1.47353,1.63016, 1.78688,1.9437,2.10061,2.25761,2.41348, 2.71968,3.02623,3.33312,3.64035,3.9479, 4.10179,4.25577,4.40983,4.56397,4.71818 ,4.87247,4.97137)
FOOTPRINT_POINT_LONGITUDE = (141.638,141.323,141.117,140.857, 140.597,140.378,140.376,140.373,140.37, 140.367,140.364,140.361,140.355,140.35, 140.342,140.335,140.332,140.325,140.322 ,140.318,140.315,140.311,140.307, 140.303,140.3,140.296,140.292,140.288, 140.285,140.281,140.277,140.273,140.269 ,140.265,140.261,140.257,140.252, 140.248,140.244,140.24,140.235,140.229, 140.224,140.22,140.215,140.21,140.205, 140.201,140.195,140.368,140.543,140.701 ,140.875,141.113,141.304,141.542, 141.805,141.804,141.803,141.802,141.8, 141.8,141.799,141.798,141.797,141.796, 141.795,141.795,141.794,141.793,141.792 ,141.792,141.791,141.79,141.79,141.789, 141.788,141.788,141.787,141.786,141.786 ,141.786,141.785,141.785,141.784, 141.784,141.784,141.783,141.783,141.783 ,141.782,141.782,141.782,141.781, 141.781,141.781,141.781,141.781,141.781 ,141.638)
ORBIT_NUMBER = 11465
ORBITAL_ECCENTRICITY = 0.576
ORBITAL_INCLINATION = 86.87
ORBITAL_SEMIMAJOR_AXIS = 8844.57
PERIAPSIS_ALTITUDE = 355.94
PERIAPSIS_ARGUMENT_ANGLE = 160.82
PERIAPSIS_TIME = 2013-01-04T07:57:15.000Z
SPACECRAFT_ORIENTATION = (0.0,-1.0,0.0)
^MEX_ORIENTATION_DESC = "MEX_ORIENTATION_DESC.TXT"
SPACECRAFT_POINTING_MODE = NADIR
^MEX_POINTING_DESC = "MEX_POINTING_DESC.TXT"
RIGHT_ASCENSION = -1e+32
DECLINATION = -1e+32
OFFSET_ANGLE = -1e+32
SPACECRAFT_SOLAR_DISTANCE = 2.07101e+08
TARGET_NAME = MARS
/* CAMERA DATA ELEMENTS */
DETECTOR_TEMPERATURE = 18.1666
FOCAL_PLANE_TEMPERATURE = 7.7677
INST_CMPRS_NAME = "DISCRETE COSINE TRANSFORMATION (DCT)"
INST_CMPRS_RATIO = 7.46659
INST_CMPRS_QUALITY = 0
INST_CMPRS_QUANTZ_TBL_ID = 0
INSTRUMENT_TEMPERATURE = 11.0301
LENS_TEMPERATURE = 8.1755
MACROPIXEL_SIZE = 1
MISSING_FRAMES = 0
PIXEL_SUBSAMPLING_FLAG = N
SIGNAL_CHAIN_ID = 0
/* RADIOMETRIC DATA ELEMENTS */
BANDWIDTH = 177.0
CENTER_FILTER_WAVELENGTH = 677.5
RADIANCE_OFFSET = 1.71518
RADIANCE_SCALING_FACTOR = 0.00691838
REFLECTANCE_SCALING_FACTOR = 0.000157635
MEX:REFLECTANCE_OFFSET = 0.0390802
/* IMAGE OBJECT DEFINITIONS */
OBJECT = IMAGE
  INTERCHANGE_FORMAT = BINARY
  LINES = 37895
  LINE_SAMPLES = 7951
  SAMPLE_TYPE = UNSIGNED_INTEGER
  SAMPLE_BITS = 8
  BANDS = 1
  BAND_STORAGE_TYPE = BAND_SEQUENTIAL
  MAXIMUM = 255
  MEAN = 102.453
  MINIMUM = 1
  STANDARD_DEVIATION = 40.4294
END_OBJECT = IMAGE
/* MAP OBJECT DEFINITIONS */
OBJECT = IMAGE_MAP_PROJECTION
  ^DATA_SET_MAP_PROJECTION_CATALOG= "DSMAP.CAT"
  A_AXIS_RADIUS = 3396.0
  B_AXIS_RADIUS = 3396.0
  C_AXIS_RADIUS = 3396.0
  CENTER_LATITUDE = 0.0
  CENTER_LONGITUDE = 141.0
  COORDINATE_SYSTEM_NAME = PLANETOGRAPHIC
  COORDINATE_SYSTEM_TYPE = "BODY-FIXED ROTATING"
  EASTERNMOST_LONGITUDE = 141.805
  FIRST_STANDARD_PARALLEL = "N/A"
  LINE_FIRST_PIXEL = 1
  LINE_LAST_PIXEL = 37895
  LINE_PROJECTION_OFFSET = 23629.0
  MAP_PROJECTION_ROTATION = 0.0
  MAP_PROJECTION_TYPE = SINUSOIDAL
  MAP_RESOLUTION = 4741.71043093333
  MAP_SCALE = 0.0125
  MAXIMUM_LATITUDE = 4.98219
  MINIMUM_LATITUDE = -3.0065
  POSITIVE_LONGITUDE_DIRECTION = EAST
  REFERENCE_LATITUDE = "N/A"
  REFERENCE_LONGITUDE = "N/A"
  SAMPLE_FIRST_PIXEL = 1
  SAMPLE_LAST_PIXEL = 7951
  SAMPLE_PROJECTION_OFFSET = 3961.0
  SECOND_STANDARD_PARALLEL = "N/A"
  WESTERNMOST_LONGITUDE = 140.195
END_OBJECT = IMAGE_MAP_PROJECTION
/* The JPEG2000 image data file associated with this label. */
OBJECT = COMPRESSED_FILE
  FILE_NAME = "HB465_0000_ND3.JP2"
  RECORD_TYPE = UNDEFINED
  FILE_RECORDS = UNK
  ENCODING_TYPE = "JP2"
  INTERCHANGE_FORMAT = BINARY
  UNCOMPRESSED_FILE_NAME = "HB465_0000_ND3.IMG"
  REQUIRED_STORAGE_BYTES = "301334949"
  ^DESCRIPTION = "JP2INFO.TXT"
END_OBJECT = COMPRESSED_FILE
END
