PDS_VERSION_ID = PDS3
/* FILE DATA ELEMENTS */
RECORD_TYPE = STREAM
/* POINTERS TO DATA OBJECTS */
^COMPRESSED_FILE = "HB465_0000_S23.JP2"
/* IDENTIFICATION DATA ELEMENTS */
DATA_SET_ID = "MEX-M-HRSC-5-REFDR-MAPPROJECTED-V3.0"
DATA_SET_NAME = "MARS EXPRESS HRSC MAP PROJECTED REFDR V3.0"
DETECTOR_ID = MEX_HRSC_S2
EVENT_TYPE = "MARS-LOCAL-STEREO-Vo-Eo-Tc"
INSTRUMENT_HOST_ID = MEX
INSTRUMENT_HOST_NAME = "MARS EXPRESS"
INSTRUMENT_ID = HRSC
INSTRUMENT_NAME = "HIGH RESOLUTION STEREO CAMERA"
MISSION_NAME = "MARS EXPRESS"
MISSION_PHASE_NAME = ME_Phase_27
PROCESSING_LEVEL_ID = 3
PRODUCT_CREATION_TIME = 2016-10-28T05:53:57.000Z
PRODUCT_ID = "HB465_0000_S23.JP2"
RELEASE_ID = 0114
REVISION_ID = 0000
/* QUALITY DATA ELEMENTS */
DATA_QUALITY_ID = 1
DATA_QUALITY_DESC = "Data calculated based on original SPICE kernels"
/* TIME DATA ELEMENTS */
SPACECRAFT_CLOCK_START_COUNT = "1/0305366418.09036"
SPACECRAFT_CLOCK_STOP_COUNT = "1/0305366629.50593"
START_TIME = 2013-01-04T08:01:34.512Z
STOP_TIME = 2013-01-04T08:03:51.131Z
/* ORBITAL DATA ELEMENTS */
ASCENDING_NODE_LONGITUDE = 358.69
MAXIMUM_RESOLUTION = 17.7
FOOTPRINT_POINT_LATITUDE = (4.98295,4.98406,4.98591,4.9875,4.98992 ,4.99263,4.94252,4.71639,4.41139, 4.18265,3.80179,3.49615,3.33975,3.187, 2.88417,2.72537,2.56514,2.4116,2.2562, 2.09844,1.94168,1.78458,1.62738,1.47107 ,1.31509,1.15747,0.996991,0.836645, 0.676561,0.516718,0.356995,0.197556, 0.0350417,-0.128096,-0.371803,-0.534257 ,-0.777631,-0.942798,-1.1074,-1.27338, -1.43713,-1.60169,-1.76732,-1.93441, -2.10249,-2.26957,-2.43634,-2.68962, -2.86327,-2.96299,-2.96958,-2.97188, -2.96717,-2.96811,-2.97455,-2.9764, -2.97664,-2.8875,-2.71743,-2.46424, -2.30132,-2.04651,-1.8775,-1.71032, -1.54576,-1.3809,-1.21581,-1.05074, -0.803198,-0.641176,-0.478818,-0.316122 ,-0.153287,0.00957963,0.171814,0.411106 ,0.570792,0.730614,0.890467,1.05046, 1.21033,1.36763,1.52494,1.68174,1.83935 ,1.99719,2.15478,2.31276,2.46761, 2.69957,2.85465,3.00987,3.16472,3.32007 ,3.70437,4.00789,4.31244,4.61784, 4.92066,4.98295)
FOOTPRINT_POINT_LONGITUDE = (141.649,141.491,141.261,141.089, 140.859,140.629,140.342,140.337,140.33, 140.325,140.317,140.311,140.307,140.303 ,140.294,140.291,140.289,140.285, 140.281,140.277,140.273,140.269,140.264 ,140.26,140.256,140.251,140.247,140.243 ,140.238,140.234,140.23,140.225,140.221 ,140.216,140.209,140.204,140.197, 140.193,140.187,140.183,140.177,140.172 ,140.167,140.162,140.157,140.151, 140.146,140.138,140.133,140.285,140.439 ,140.592,140.796,141.035,141.205, 141.376,141.598,141.863,141.861,141.859 ,141.856,141.855,141.853,141.852,141.85 ,141.849,141.848,141.846,141.844, 141.843,141.842,141.841,141.839,141.838 ,141.837,141.835,141.834,141.833, 141.832,141.831,141.83,141.829,141.828, 141.827,141.826,141.826,141.825,141.824 ,141.823,141.822,141.822,141.821,141.82 ,141.82,141.818,141.817,141.816,141.815 ,141.814,141.649)
ORBIT_NUMBER = 11465
ORBITAL_ECCENTRICITY = 0.576
ORBITAL_INCLINATION = 86.87
ORBITAL_SEMIMAJOR_AXIS = 8844.57
PERIAPSIS_ALTITUDE = 355.94
PERIAPSIS_ARGUMENT_ANGLE = 160.82
PERIAPSIS_TIME = 2013-01-04T07:57:15.000Z
SPACECRAFT_ORIENTATION = (0.0,-1.0,0.0)
^MEX_ORIENTATION_DESC = "MEX_ORIENTATION_DESC.TXT"
SPACECRAFT_POINTING_MODE = NADIR
^MEX_POINTING_DESC = "MEX_POINTING_DESC.TXT"
RIGHT_ASCENSION = -1e+32
DECLINATION = -1e+32
OFFSET_ANGLE = -1e+32
SPACECRAFT_SOLAR_DISTANCE = 2.07101e+08
TARGET_NAME = MARS
/* CAMERA DATA ELEMENTS */
DETECTOR_TEMPERATURE = 17.9627
FOCAL_PLANE_TEMPERATURE = 7.7677
INST_CMPRS_NAME = "DISCRETE COSINE TRANSFORMATION (DCT)"
INST_CMPRS_RATIO = 6.58524
INST_CMPRS_QUALITY = 0
INST_CMPRS_QUANTZ_TBL_ID = 0
INSTRUMENT_TEMPERATURE = 11.0301
LENS_TEMPERATURE = 8.1755
MACROPIXEL_SIZE = 1
MISSING_FRAMES = 0
PIXEL_SUBSAMPLING_FLAG = N
SIGNAL_CHAIN_ID = 1
/* RADIOMETRIC DATA ELEMENTS */
BANDWIDTH = 178.0
CENTER_FILTER_WAVELENGTH = 679.0
RADIANCE_OFFSET = 2.00283
RADIANCE_SCALING_FACTOR = 0.00720741
REFLECTANCE_SCALING_FACTOR = 0.000163709
MEX:REFLECTANCE_OFFSET = 0.0454923
/* IMAGE OBJECT DEFINITIONS */
OBJECT = IMAGE
  INTERCHANGE_FORMAT = BINARY
  LINES = 37895
  LINE_SAMPLES = 7951
  SAMPLE_TYPE = UNSIGNED_INTEGER
  SAMPLE_BITS = 8
  BANDS = 1
  BAND_STORAGE_TYPE = BAND_SEQUENTIAL
  MAXIMUM = 254
  MEAN = 106.095
  MINIMUM = 1
  STANDARD_DEVIATION = 40.4694
END_OBJECT = IMAGE
/* MAP OBJECT DEFINITIONS */
OBJECT = IMAGE_MAP_PROJECTION
  ^DATA_SET_MAP_PROJECTION_CATALOG= "DSMAP.CAT"
  A_AXIS_RADIUS = 3396.0
  B_AXIS_RADIUS = 3396.0
  C_AXIS_RADIUS = 3396.0
  CENTER_LATITUDE = 0.0
  CENTER_LONGITUDE = 141.0
  COORDINATE_SYSTEM_NAME = PLANETOGRAPHIC
  COORDINATE_SYSTEM_TYPE = "BODY-FIXED ROTATING"
  EASTERNMOST_LONGITUDE = 141.863
  FIRST_STANDARD_PARALLEL = "N/A"
  LINE_FIRST_PIXEL = 1
  LINE_LAST_PIXEL = 37895
  LINE_PROJECTION_OFFSET = 23629.0
  MAP_PROJECTION_ROTATION = 0.0
  MAP_PROJECTION_TYPE = SINUSOIDAL
  MAP_RESOLUTION = 4741.71043093333
  MAP_SCALE = 0.0125
  MAXIMUM_LATITUDE = 4.99263
  MINIMUM_LATITUDE = -2.97664
  POSITIVE_LONGITUDE_DIRECTION = EAST
  REFERENCE_LATITUDE = "N/A"
  REFERENCE_LONGITUDE = "N/A"
  SAMPLE_FIRST_PIXEL = 1
  SAMPLE_LAST_PIXEL = 7951
  SAMPLE_PROJECTION_OFFSET = 3961.0
  SECOND_STANDARD_PARALLEL = "N/A"
  WESTERNMOST_LONGITUDE = 140.133
END_OBJECT = IMAGE_MAP_PROJECTION
/* The JPEG2000 image data file associated with this label. */
OBJECT = COMPRESSED_FILE
  FILE_NAME = "HB465_0000_S23.JP2"
  RECORD_TYPE = UNDEFINED
  FILE_RECORDS = UNK
  ENCODING_TYPE = "JP2"
  INTERCHANGE_FORMAT = BINARY
  UNCOMPRESSED_FILE_NAME = "HB465_0000_S23.IMG"
  REQUIRED_STORAGE_BYTES = "301334949"
  ^DESCRIPTION = "JP2INFO.TXT"
END_OBJECT = COMPRESSED_FILE
END
