PDS_VERSION_ID = PDS3
/* FILE DATA ELEMENTS */
RECORD_TYPE = STREAM
/* POINTERS TO DATA OBJECTS */
^COMPRESSED_FILE = "HB479_0000_P13.JP2"
/* IDENTIFICATION DATA ELEMENTS */
DATA_SET_ID = "MEX-M-HRSC-5-REFDR-MAPPROJECTED-V3.0"
DATA_SET_NAME = "MARS EXPRESS HRSC MAP PROJECTED REFDR V3.0"
DETECTOR_ID = MEX_HRSC_P1
EVENT_TYPE = "MARS-REGIONAL-MAPPING-Im-Fl"
INSTRUMENT_HOST_ID = MEX
INSTRUMENT_HOST_NAME = "MARS EXPRESS"
INSTRUMENT_ID = HRSC
INSTRUMENT_NAME = "HIGH RESOLUTION STEREO CAMERA"
MISSION_NAME = "MARS EXPRESS"
MISSION_PHASE_NAME = ME_Phase_27
PROCESSING_LEVEL_ID = 3
PRODUCT_CREATION_TIME = 2016-10-28T05:53:57.000Z
PRODUCT_ID = "HB479_0000_P13.JP2"
RELEASE_ID = 0114
REVISION_ID = 0000
/* QUALITY DATA ELEMENTS */
DATA_QUALITY_ID = 1
DATA_QUALITY_DESC = "Data calculated based on original SPICE kernels"
/* TIME DATA ELEMENTS */
SPACECRAFT_CLOCK_START_COUNT = "1/0305718966.09038"
SPACECRAFT_CLOCK_STOP_COUNT = "1/0305719323.39090"
START_TIME = 2013-01-08T09:56:26.965Z
STOP_TIME = 2013-01-08T09:59:30.539Z
/* ORBITAL DATA ELEMENTS */
ASCENDING_NODE_LONGITUDE = 358.42
MAXIMUM_RESOLUTION = 45.5
FOOTPRINT_POINT_LATITUDE = (-10.7917,-10.7855,-10.7794,-10.7696, -10.7637,-10.7566,-11.2422,-11.5377, -11.9295,-12.13,-12.43,-12.6302, -12.8337,-13.0372,-13.2402,-13.4457, -13.6526,-13.8589,-14.0667,-14.2768, -14.592,-14.8048,-15.0177,-15.2298, -15.4439,-15.6588,-15.8733,-16.0903, -16.3077,-16.5299,-16.7536,-16.9747, -17.1975,-17.4217,-17.6454,-17.8717, -18.0945,-18.438,-18.6677,-18.9001, -19.2488,-19.4826,-19.7159,-19.9547, -20.3132,-20.6746,-20.9157,-21.1597, -21.4032,-21.6896,-21.6948,-21.6988, -21.7066,-21.7135,-21.7203,-21.7248, -21.7289,-21.6077,-21.3622,-21.1187, -20.8752,-20.6342,-20.3932,-20.155, -19.7982,-19.5629,-19.211,-18.9792, -18.7499,-18.5203,-18.2898,-17.9437, -17.7169,-17.4923,-17.268,-17.0446, -16.8237,-16.6033,-16.3879,-16.0602, -15.8398,-15.6254,-15.41,-15.0906, -14.878,-14.6656,-14.4568,-14.2472, -13.9341,-13.6245,-13.4181,-13.214, -13.0106,-12.8068,-12.6046,-12.3034, -12.002,-11.5084,-11.1231,-10.7917)
FOOTPRINT_POINT_LONGITUDE = (150.99,150.683,150.377,149.881,149.577 ,149.096,149.077,149.065,149.05,149.042 ,149.03,149.022,149.013,149.005,148.996 ,148.988,148.979,148.97,148.961,148.951 ,148.937,148.927,148.917,148.908, 148.899,148.889,148.879,148.87,148.86, 148.848,148.837,148.826,148.815,148.805 ,148.794,148.783,148.773,148.756, 148.744,148.732,148.715,148.703,148.691 ,148.678,148.659,148.639,148.626, 148.613,148.599,148.766,149.054,149.29, 149.683,150.103,150.524,150.814,151.105 ,151.296,151.288,151.281,151.274, 151.267,151.26,151.253,151.243,151.236, 151.227,151.221,151.217,151.211,151.205 ,151.194,151.189,151.183,151.178, 151.173,151.169,151.164,151.162,151.155 ,151.149,151.145,151.141,151.135, 151.131,151.127,151.124,151.12,151.115, 151.11,151.107,151.103,151.1,151.097, 151.094,151.089,151.084,151.078,151.076 ,150.99)
ORBIT_NUMBER = 11479
ORBITAL_ECCENTRICITY = 0.576
ORBITAL_INCLINATION = 86.87
ORBITAL_SEMIMAJOR_AXIS = 8840.41
PERIAPSIS_ALTITUDE = 357.68
PERIAPSIS_ARGUMENT_ANGLE = 158.41
PERIAPSIS_TIME = 2013-01-08T09:48:23.000Z
SPACECRAFT_ORIENTATION = (0.0,-1.0,0.0)
^MEX_ORIENTATION_DESC = "MEX_ORIENTATION_DESC.TXT"
SPACECRAFT_POINTING_MODE = ACROSSTRACK
^MEX_POINTING_DESC = "MEX_POINTING_DESC.TXT"
RIGHT_ASCENSION = -1e+32
DECLINATION = -1e+32
OFFSET_ANGLE = 0.25
SPACECRAFT_SOLAR_DISTANCE = 2.06943e+08
TARGET_NAME = MARS
/* CAMERA DATA ELEMENTS */
DETECTOR_TEMPERATURE = 17.9627
FOCAL_PLANE_TEMPERATURE = 8.3794
INST_CMPRS_NAME = "DISCRETE COSINE TRANSFORMATION (DCT)"
INST_CMPRS_RATIO = 7.36678
INST_CMPRS_QUALITY = 0
INST_CMPRS_QUANTZ_TBL_ID = 0
INSTRUMENT_TEMPERATURE = 11.6418
LENS_TEMPERATURE = 8.7872
MACROPIXEL_SIZE = 2
MISSING_FRAMES = 0
PIXEL_SUBSAMPLING_FLAG = N
SIGNAL_CHAIN_ID = 3
/* RADIOMETRIC DATA ELEMENTS */
BANDWIDTH = 174.0
CENTER_FILTER_WAVELENGTH = 675.0
RADIANCE_OFFSET = 2.82551
RADIANCE_SCALING_FACTOR = 0.0120727
REFLECTANCE_SCALING_FACTOR = 0.000278095
MEX:REFLECTANCE_OFFSET = 0.0650855
/* IMAGE OBJECT DEFINITIONS */
OBJECT = IMAGE
  INTERCHANGE_FORMAT = BINARY
  LINES = 12993
  LINE_SAMPLES = 3283
  SAMPLE_TYPE = UNSIGNED_INTEGER
  SAMPLE_BITS = 8
  BANDS = 1
  BAND_STORAGE_TYPE = BAND_SEQUENTIAL
  MAXIMUM = 255
  MEAN = 96.9705
  MINIMUM = 1
  STANDARD_DEVIATION = 30.3032
END_OBJECT = IMAGE
/* MAP OBJECT DEFINITIONS */
OBJECT = IMAGE_MAP_PROJECTION
  ^DATA_SET_MAP_PROJECTION_CATALOG= "DSMAP.CAT"
  A_AXIS_RADIUS = 3396.0
  B_AXIS_RADIUS = 3396.0
  C_AXIS_RADIUS = 3396.0
  CENTER_LATITUDE = 0.0
  CENTER_LONGITUDE = 150.0
  COORDINATE_SYSTEM_NAME = PLANETOGRAPHIC
  COORDINATE_SYSTEM_TYPE = "BODY-FIXED ROTATING"
  EASTERNMOST_LONGITUDE = 151.296
  FIRST_STANDARD_PARALLEL = "N/A"
  LINE_FIRST_PIXEL = 1
  LINE_LAST_PIXEL = 12993
  LINE_PROJECTION_OFFSET = -12748.75
  MAP_PROJECTION_ROTATION = 0.0
  MAP_PROJECTION_TYPE = SINUSOIDAL
  MAP_RESOLUTION = 1185.42760773333
  MAP_SCALE = 0.05
  MAXIMUM_LATITUDE = -10.7566
  MINIMUM_LATITUDE = -21.7289
  POSITIVE_LONGITUDE_DIRECTION = EAST
  REFERENCE_LATITUDE = "N/A"
  REFERENCE_LONGITUDE = "N/A"
  SAMPLE_FIRST_PIXEL = 1
  SAMPLE_LAST_PIXEL = 3283
  SAMPLE_PROJECTION_OFFSET = 1697.75
  SECOND_STANDARD_PARALLEL = "N/A"
  WESTERNMOST_LONGITUDE = 148.599
END_OBJECT = IMAGE_MAP_PROJECTION
/* The JPEG2000 image data file associated with this label. */
OBJECT = COMPRESSED_FILE
  FILE_NAME = "HB479_0000_P13.JP2"
  RECORD_TYPE = UNDEFINED
  FILE_RECORDS = UNK
  ENCODING_TYPE = "JP2"
  INTERCHANGE_FORMAT = BINARY
  UNCOMPRESSED_FILE_NAME = "HB479_0000_P13.IMG"
  REQUIRED_STORAGE_BYTES = "42679000"
  ^DESCRIPTION = "JP2INFO.TXT"
END_OBJECT = COMPRESSED_FILE
END
