PDS_VERSION_ID = PDS3
/* FILE DATA ELEMENTS */
RECORD_TYPE = STREAM
/* POINTERS TO DATA OBJECTS */
^COMPRESSED_FILE = "HB503_0000_P23.JP2"
/* IDENTIFICATION DATA ELEMENTS */
DATA_SET_ID = "MEX-M-HRSC-5-REFDR-MAPPROJECTED-V3.0"
DATA_SET_NAME = "MARS EXPRESS HRSC MAP PROJECTED REFDR V3.0"
DETECTOR_ID = MEX_HRSC_P2
EVENT_TYPE = "MARS-REGIONAL-MAPPING-Vo-Eo"
INSTRUMENT_HOST_ID = MEX
INSTRUMENT_HOST_NAME = "MARS EXPRESS"
INSTRUMENT_ID = HRSC
INSTRUMENT_NAME = "HIGH RESOLUTION STEREO CAMERA"
MISSION_NAME = "MARS EXPRESS"
MISSION_PHASE_NAME = ME_Phase_27
PROCESSING_LEVEL_ID = 3
PRODUCT_CREATION_TIME = 2016-10-28T05:53:57.000Z
PRODUCT_ID = "HB503_0000_P23.JP2"
RELEASE_ID = 0114
REVISION_ID = 0000
/* QUALITY DATA ELEMENTS */
DATA_QUALITY_ID = 1
DATA_QUALITY_DESC = "Data calculated based on original SPICE kernels"
/* TIME DATA ELEMENTS */
SPACECRAFT_CLOCK_START_COUNT = "1/0306322658.09055"
SPACECRAFT_CLOCK_STOP_COUNT = "1/0306322944.62312"
START_TIME = 2013-01-15T09:38:54.857Z
STOP_TIME = 2013-01-15T09:42:01.113Z
/* ORBITAL DATA ELEMENTS */
ASCENDING_NODE_LONGITUDE = 357.98
MAXIMUM_RESOLUTION = 80.6
FOOTPRINT_POINT_LATITUDE = (2.78092,2.78594,2.79121,2.79678, 2.80266,2.8088,2.81826,2.35447,1.79489, 1.60578,1.41659,1.03922,0.84715, 0.654437,0.461992,0.269817,0.0751238, -0.120534,-0.315703,-0.510718,-0.709563 ,-1.00731,-1.20461,-1.50621,-1.70745, -2.01153,-2.2165,-2.42121,-2.72931, -2.93703,-3.1432,-3.35231,-3.55848, -3.86532,-4.07565,-4.28594,-4.6067, -4.8218,-5.03592,-5.2527,-5.47008, -5.68675,-5.90622,-6.23237,-6.45606, -6.79028,-7.01386,-7.23773,-7.4512, -7.46136,-7.46945,-7.4797,-7.48808, -7.49537,-7.50207,-7.50609,-7.27974, -7.05587,-6.72038,-6.49875,-6.16701, -5.94791,-5.72877,-5.51389,-5.29728, -4.97193,-4.64986,-4.43546,-4.22337, -3.90498,-3.69525,-3.48583,-3.27634, -3.07023,-2.86361,-2.65623,-2.4527, -2.24821,-1.94206,-1.74094,-1.54006, -1.33859,-1.14039,-0.94268,-0.744306, -0.448536,-0.25406,-0.0590692,0.233259, 0.425386,0.71311,0.906165,1.19084, 1.38091,1.57214,1.85868,2.0473,2.23594, 2.61135,2.78092)
FOOTPRINT_POINT_LONGITUDE = (217.34,217.086,216.832,216.577,216.321 ,216.064,215.768,215.754,215.735, 215.728,215.722,215.708,215.701,215.694 ,215.688,215.681,215.674,215.667,215.66 ,215.653,215.646,215.635,215.627, 215.616,215.609,215.598,215.591,215.583 ,215.572,215.564,215.556,215.548, 215.538,215.522,215.512,215.502,215.49, 215.481,215.472,215.462,215.453,215.443 ,215.433,215.417,215.407,215.393, 215.382,215.371,215.36,215.675,215.948, 216.325,216.659,216.993,217.325,217.554 ,217.599,217.595,217.59,217.586,217.581 ,217.578,217.574,217.571,217.567, 217.564,217.559,217.557,217.554,217.55, 217.548,217.546,217.543,217.541,217.538 ,217.536,217.534,217.531,217.528, 217.526,217.524,217.522,217.519,217.517 ,217.515,217.512,217.51,217.508,217.505 ,217.503,217.5,217.498,217.495,217.494, 217.492,217.491,217.49,217.489,217.486, 217.34)
ORBIT_NUMBER = 11503
ORBITAL_ECCENTRICITY = 0.575
ORBITAL_INCLINATION = 86.9
ORBITAL_SEMIMAJOR_AXIS = 8838.3
PERIAPSIS_ALTITUDE = 359.63
PERIAPSIS_ARGUMENT_ANGLE = 154.2
PERIAPSIS_TIME = 2013-01-15T09:32:21.000Z
SPACECRAFT_ORIENTATION = (0.0,-1.0,0.0)
^MEX_ORIENTATION_DESC = "MEX_ORIENTATION_DESC.TXT"
SPACECRAFT_POINTING_MODE = ACROSSTRACK
^MEX_POINTING_DESC = "MEX_POINTING_DESC.TXT"
RIGHT_ASCENSION = -1e+32
DECLINATION = -1e+32
OFFSET_ANGLE = -0.3
SPACECRAFT_SOLAR_DISTANCE = 2.06755e+08
TARGET_NAME = MARS
/* CAMERA DATA ELEMENTS */
DETECTOR_TEMPERATURE = 18.7783
FOCAL_PLANE_TEMPERATURE = 8.5833
INST_CMPRS_NAME = "DISCRETE COSINE TRANSFORMATION (DCT)"
INST_CMPRS_RATIO = 8.31818
INST_CMPRS_QUALITY = 0
INST_CMPRS_QUANTZ_TBL_ID = 0
INSTRUMENT_TEMPERATURE = 12.0496
LENS_TEMPERATURE = 8.9911
MACROPIXEL_SIZE = 4
MISSING_FRAMES = 0
PIXEL_SUBSAMPLING_FLAG = N
SIGNAL_CHAIN_ID = 3
/* RADIOMETRIC DATA ELEMENTS */
BANDWIDTH = 177.0
CENTER_FILTER_WAVELENGTH = 676.5
RADIANCE_OFFSET = 3.68034
RADIANCE_SCALING_FACTOR = 0.0150341
REFLECTANCE_SCALING_FACTOR = 0.000340759
MEX:REFLECTANCE_OFFSET = 0.0834178
/* IMAGE OBJECT DEFINITIONS */
OBJECT = IMAGE
  INTERCHANGE_FORMAT = BINARY
  LINES = 12211
  LINE_SAMPLES = 2545
  SAMPLE_TYPE = UNSIGNED_INTEGER
  SAMPLE_BITS = 8
  BANDS = 1
  BAND_STORAGE_TYPE = BAND_SEQUENTIAL
  MAXIMUM = 255
  MEAN = 104.845
  MINIMUM = 1
  STANDARD_DEVIATION = 24.8913
END_OBJECT = IMAGE
/* MAP OBJECT DEFINITIONS */
OBJECT = IMAGE_MAP_PROJECTION
  ^DATA_SET_MAP_PROJECTION_CATALOG= "DSMAP.CAT"
  A_AXIS_RADIUS = 3396.0
  B_AXIS_RADIUS = 3396.0
  C_AXIS_RADIUS = 3396.0
  CENTER_LATITUDE = 0.0
  CENTER_LONGITUDE = 217.0
  COORDINATE_SYSTEM_NAME = PLANETOGRAPHIC
  COORDINATE_SYSTEM_TYPE = "BODY-FIXED ROTATING"
  EASTERNMOST_LONGITUDE = 217.599
  FIRST_STANDARD_PARALLEL = "N/A"
  LINE_FIRST_PIXEL = 1
  LINE_LAST_PIXEL = 12211
  LINE_PROJECTION_OFFSET = 3334.125
  MAP_PROJECTION_ROTATION = 0.0
  MAP_PROJECTION_TYPE = SINUSOIDAL
  MAP_RESOLUTION = 1185.42760773333
  MAP_SCALE = 0.05
  MAXIMUM_LATITUDE = 2.81826
  MINIMUM_LATITUDE = -7.50609
  POSITIVE_LONGITUDE_DIRECTION = EAST
  REFERENCE_LATITUDE = "N/A"
  REFERENCE_LONGITUDE = "N/A"
  SAMPLE_FIRST_PIXEL = 1
  SAMPLE_LAST_PIXEL = 2545
  SAMPLE_PROJECTION_OFFSET = 1888.125
  SECOND_STANDARD_PARALLEL = "N/A"
  WESTERNMOST_LONGITUDE = 215.36
END_OBJECT = IMAGE_MAP_PROJECTION
/* The JPEG2000 image data file associated with this label. */
OBJECT = COMPRESSED_FILE
  FILE_NAME = "HB503_0000_P23.JP2"
  RECORD_TYPE = UNDEFINED
  FILE_RECORDS = UNK
  ENCODING_TYPE = "JP2"
  INTERCHANGE_FORMAT = BINARY
  UNCOMPRESSED_FILE_NAME = "HB503_0000_P23.IMG"
  REQUIRED_STORAGE_BYTES = "31097355"
  ^DESCRIPTION = "JP2INFO.TXT"
END_OBJECT = COMPRESSED_FILE
END
