PDS_VERSION_ID = PDS3
/* FILE DATA ELEMENTS */
RECORD_TYPE = STREAM
/* POINTERS TO DATA OBJECTS */
^COMPRESSED_FILE = "HB503_0000_RE3.JP2"
/* IDENTIFICATION DATA ELEMENTS */
DATA_SET_ID = "MEX-M-HRSC-5-REFDR-MAPPROJECTED-V3.0"
DATA_SET_NAME = "MARS EXPRESS HRSC MAP PROJECTED REFDR V3.0"
DETECTOR_ID = MEX_HRSC_RED
EVENT_TYPE = "MARS-REGIONAL-MAPPING-Vo-Eo"
INSTRUMENT_HOST_ID = MEX
INSTRUMENT_HOST_NAME = "MARS EXPRESS"
INSTRUMENT_ID = HRSC
INSTRUMENT_NAME = "HIGH RESOLUTION STEREO CAMERA"
MISSION_NAME = "MARS EXPRESS"
MISSION_PHASE_NAME = ME_Phase_27
PROCESSING_LEVEL_ID = 3
PRODUCT_CREATION_TIME = 2016-10-28T05:53:57.000Z
PRODUCT_ID = "HB503_0000_RE3.JP2"
RELEASE_ID = 0114
REVISION_ID = 0000
/* QUALITY DATA ELEMENTS */
DATA_QUALITY_ID = 1
DATA_QUALITY_DESC = "Data calculated based on original SPICE kernels"
/* TIME DATA ELEMENTS */
SPACECRAFT_CLOCK_START_COUNT = "1/0306322658.09055"
SPACECRAFT_CLOCK_STOP_COUNT = "1/0306322944.62312"
START_TIME = 2013-01-15T09:39:03.564Z
STOP_TIME = 2013-01-15T09:42:13.270Z
/* ORBITAL DATA ELEMENTS */
ASCENDING_NODE_LONGITUDE = 357.98
MAXIMUM_RESOLUTION = 82.8
FOOTPRINT_POINT_LATITUDE = (2.77257,2.77714,2.78304,2.79011, 2.79683,2.80392,2.81133,2.63202,2.26386 ,1.88939,1.51588,1.13839,0.75869, 0.566141,0.373473,0.084589,-0.109939, -0.30542,-0.500759,-0.796058,-0.994339, -1.19164,-1.39042,-1.59185,-1.79306, -1.99508,-2.19939,-2.40443,-2.60803, -2.8147,-3.12417,-3.3317,-3.53655, -3.84155,-4.04978,-4.25898,-4.57842, -4.79295,-5.00601,-5.22191,-5.54576, -5.76335,-5.98195,-6.19669,-6.4193, -6.75238,-6.97427,-7.19664,-7.43722, -7.44559,-7.45532,-7.46597,-7.47396, -7.48197,-7.48757,-7.3801,-7.15597, -6.9336,-6.71071,-6.38061,-6.16035, -5.94272,-5.61778,-5.4038,-5.18707, -4.97119,-4.7576,-4.54299,-4.33131, -4.11947,-3.90794,-3.69891,-3.48977, -3.28193,-3.07633,-2.87019,-2.66403, -2.46089,-2.25682,-2.05288,-1.75178, -1.55094,-1.35063,-1.15316,-0.955518, -0.659471,-0.464363,-0.26983,0.0221443, 0.21434,0.406845,0.59971,0.978055, 1.16916,1.35983,1.6448,1.8358,2.21491, 2.58631,2.77257)
FOOTPRINT_POINT_LONGITUDE = (217.381,217.172,216.914,216.623, 216.364,216.104,215.843,215.749,215.736 ,215.723,215.71,215.696,215.682,215.675 ,215.668,215.658,215.651,215.643, 215.636,215.626,215.618,215.61,215.603, 215.595,215.587,215.58,215.572,215.565, 215.557,215.549,215.537,215.529,215.518 ,215.502,215.492,215.482,215.469,215.46 ,215.45,215.441,215.426,215.416,215.406 ,215.394,215.384,215.369,215.358, 215.347,215.506,215.742,216.042,216.405 ,216.703,217.043,217.298,217.621, 217.617,217.613,217.61,217.604,217.6, 217.597,217.591,217.587,217.584,217.581 ,217.578,217.575,217.573,217.57,217.567 ,217.564,217.562,217.559,217.556, 217.554,217.551,217.549,217.546,217.544 ,217.54,217.538,217.536,217.533,217.531 ,217.528,217.525,217.523,217.52,217.518 ,217.515,217.513,217.509,217.507, 217.505,217.503,217.503,217.5,217.497, 217.381)
ORBIT_NUMBER = 11503
ORBITAL_ECCENTRICITY = 0.575
ORBITAL_INCLINATION = 86.9
ORBITAL_SEMIMAJOR_AXIS = 8838.3
PERIAPSIS_ALTITUDE = 359.63
PERIAPSIS_ARGUMENT_ANGLE = 154.2
PERIAPSIS_TIME = 2013-01-15T09:32:21.000Z
SPACECRAFT_ORIENTATION = (0.0,-1.0,0.0)
^MEX_ORIENTATION_DESC = "MEX_ORIENTATION_DESC.TXT"
SPACECRAFT_POINTING_MODE = ACROSSTRACK
^MEX_POINTING_DESC = "MEX_POINTING_DESC.TXT"
RIGHT_ASCENSION = -1e+32
DECLINATION = -1e+32
OFFSET_ANGLE = -0.3
SPACECRAFT_SOLAR_DISTANCE = 2.06755e+08
TARGET_NAME = MARS
/* CAMERA DATA ELEMENTS */
DETECTOR_TEMPERATURE = 18.7783
FOCAL_PLANE_TEMPERATURE = 8.5833
INST_CMPRS_NAME = "DISCRETE COSINE TRANSFORMATION (DCT)"
INST_CMPRS_RATIO = 12.7864
INST_CMPRS_QUALITY = 0
INST_CMPRS_QUANTZ_TBL_ID = 0
INSTRUMENT_TEMPERATURE = 12.0496
LENS_TEMPERATURE = 8.9911
MACROPIXEL_SIZE = 4
MISSING_FRAMES = 0
PIXEL_SUBSAMPLING_FLAG = N
SIGNAL_CHAIN_ID = 2
/* RADIOMETRIC DATA ELEMENTS */
BANDWIDTH = 48.0
CENTER_FILTER_WAVELENGTH = 748.0
RADIANCE_OFFSET = 1.02188
RADIANCE_SCALING_FACTOR = 0.00434411
REFLECTANCE_SCALING_FACTOR = 0.000423781
MEX:REFLECTANCE_OFFSET = 0.099687
/* IMAGE OBJECT DEFINITIONS */
OBJECT = IMAGE
  INTERCHANGE_FORMAT = BINARY
  LINES = 12211
  LINE_SAMPLES = 2545
  SAMPLE_TYPE = UNSIGNED_INTEGER
  SAMPLE_BITS = 8
  BANDS = 1
  BAND_STORAGE_TYPE = BAND_SEQUENTIAL
  MAXIMUM = 255
  MEAN = 103.228
  MINIMUM = 1
  STANDARD_DEVIATION = 25.309
END_OBJECT = IMAGE
/* MAP OBJECT DEFINITIONS */
OBJECT = IMAGE_MAP_PROJECTION
  ^DATA_SET_MAP_PROJECTION_CATALOG= "DSMAP.CAT"
  A_AXIS_RADIUS = 3396.0
  B_AXIS_RADIUS = 3396.0
  C_AXIS_RADIUS = 3396.0
  CENTER_LATITUDE = 0.0
  CENTER_LONGITUDE = 217.0
  COORDINATE_SYSTEM_NAME = PLANETOGRAPHIC
  COORDINATE_SYSTEM_TYPE = "BODY-FIXED ROTATING"
  EASTERNMOST_LONGITUDE = 217.621
  FIRST_STANDARD_PARALLEL = "N/A"
  LINE_FIRST_PIXEL = 1
  LINE_LAST_PIXEL = 12211
  LINE_PROJECTION_OFFSET = 3334.125
  MAP_PROJECTION_ROTATION = 0.0
  MAP_PROJECTION_TYPE = SINUSOIDAL
  MAP_RESOLUTION = 1185.42760773333
  MAP_SCALE = 0.05
  MAXIMUM_LATITUDE = 2.81133
  MINIMUM_LATITUDE = -7.48757
  POSITIVE_LONGITUDE_DIRECTION = EAST
  REFERENCE_LATITUDE = "N/A"
  REFERENCE_LONGITUDE = "N/A"
  SAMPLE_FIRST_PIXEL = 1
  SAMPLE_LAST_PIXEL = 2545
  SAMPLE_PROJECTION_OFFSET = 1888.125
  SECOND_STANDARD_PARALLEL = "N/A"
  WESTERNMOST_LONGITUDE = 215.347
END_OBJECT = IMAGE_MAP_PROJECTION
/* The JPEG2000 image data file associated with this label. */
OBJECT = COMPRESSED_FILE
  FILE_NAME = "HB503_0000_RE3.JP2"
  RECORD_TYPE = UNDEFINED
  FILE_RECORDS = UNK
  ENCODING_TYPE = "JP2"
  INTERCHANGE_FORMAT = BINARY
  UNCOMPRESSED_FILE_NAME = "HB503_0000_RE3.IMG"
  REQUIRED_STORAGE_BYTES = "31097355"
  ^DESCRIPTION = "JP2INFO.TXT"
END_OBJECT = COMPRESSED_FILE
END
