PDS_VERSION_ID = PDS3
/* FILE DATA ELEMENTS */
RECORD_TYPE = STREAM
/* POINTERS TO DATA OBJECTS */
^COMPRESSED_FILE = "HB524_0000_S13.JP2"
/* IDENTIFICATION DATA ELEMENTS */
DATA_SET_ID = "MEX-M-HRSC-5-REFDR-MAPPROJECTED-V3.0"
DATA_SET_NAME = "MARS EXPRESS HRSC MAP PROJECTED REFDR V3.0"
DETECTOR_ID = MEX_HRSC_S1
EVENT_TYPE = "MARS-REGIONAL-MAPPING-Vo-Eo"
INSTRUMENT_HOST_ID = MEX
INSTRUMENT_HOST_NAME = "MARS EXPRESS"
INSTRUMENT_ID = HRSC
INSTRUMENT_NAME = "HIGH RESOLUTION STEREO CAMERA"
MISSION_NAME = "MARS EXPRESS"
MISSION_PHASE_NAME = ME_Phase_27
PROCESSING_LEVEL_ID = 3
PRODUCT_CREATION_TIME = 2016-10-28T05:53:57.000Z
PRODUCT_ID = "HB524_0000_S13.JP2"
RELEASE_ID = 0114
REVISION_ID = 0000
/* QUALITY DATA ELEMENTS */
DATA_QUALITY_ID = 1
DATA_QUALITY_DESC = "Data calculated based on original SPICE kernels"
/* TIME DATA ELEMENTS */
SPACECRAFT_CLOCK_START_COUNT = "1/0306850860.08253"
SPACECRAFT_CLOCK_STOP_COUNT = "1/0306851178.21158"
START_TIME = 2013-01-21T12:21:03.583Z
STOP_TIME = 2013-01-21T12:24:38.540Z
/* ORBITAL DATA ELEMENTS */
ASCENDING_NODE_LONGITUDE = 357.58
MAXIMUM_RESOLUTION = 31.6
FOOTPRINT_POINT_LATITUDE = (17.0623,17.0456,17.028,17.0097,16.8095 ,16.5384,16.2649,15.9922,15.719,15.4487 ,15.0436,14.7732,14.5042,14.2344, 13.9494,13.6769,13.4132,13.1495,12.8859 ,12.6221,12.3587,12.0954,11.6902,11.42, 11.1497,10.7443,10.474,10.0595,9.78272, 9.36743,9.0909,8.66853,8.38566,8.10282, 7.82206,7.39237,7.10261,6.81335,6.5243, 6.23243,5.93718,5.49455,5.20037,4.89931 ,4.59787,4.29689,3.99397,3.68591, 3.37753,3.06875,3.04835,3.06764,3.08112 ,3.09103,3.10522,3.279,3.58624,3.89329, 4.20399,4.65758,4.95999,5.26323,5.55884 ,6.00362,6.30011,6.59334,6.88246, 7.17234,7.46228,7.75163,8.03454,8.31772 ,8.74294,9.1657,9.44231,9.71972,9.99718 ,10.2745,10.5517,10.9576,11.2284, 11.6345,11.9055,12.3086,12.7045,12.9683 ,13.3642,13.6282,13.8924,14.1567, 14.5531,14.8173,15.0887,15.3671,15.7813 ,16.0479,16.4488,16.7155,16.9837, 17.0623)
FOOTPRINT_POINT_LONGITUDE = (229.552,229.329,229.104,228.875, 228.563,228.556,228.547,228.538,228.528 ,228.521,228.511,228.504,228.498, 228.491,228.47,228.46,228.458,228.456, 228.454,228.451,228.449,228.446,228.442 ,228.439,228.435,228.43,228.426,228.421 ,228.417,228.41,228.406,228.399,228.395 ,228.39,228.387,228.379,228.374,228.368 ,228.363,228.357,228.351,228.342, 228.337,228.331,228.324,228.317,228.31, 228.303,228.295,228.286,228.492,228.832 ,229.084,229.282,229.577,230.001,230.0, 229.998,229.997,229.995,229.994,229.993 ,229.992,229.99,229.989,229.987,229.986 ,229.985,229.984,229.982,229.981,229.98 ,229.978,229.976,229.974,229.973, 229.972,229.971,229.969,229.967,229.966 ,229.964,229.963,229.961,229.959, 229.958,229.956,229.954,229.953,229.951 ,229.949,229.948,229.948,229.951, 229.954,229.953,229.952,229.951,229.95, 229.552)
ORBIT_NUMBER = 11524
ORBITAL_ECCENTRICITY = 0.575
ORBITAL_INCLINATION = 86.89
ORBITAL_SEMIMAJOR_AXIS = 8837.51
PERIAPSIS_ALTITUDE = 361.61
PERIAPSIS_ARGUMENT_ANGLE = 150.55
PERIAPSIS_TIME = 2013-01-21T12:18:26.000Z
SPACECRAFT_ORIENTATION = (0.0,-1.0,0.0)
^MEX_ORIENTATION_DESC = "MEX_ORIENTATION_DESC.TXT"
SPACECRAFT_POINTING_MODE = ACROSSTRACK
^MEX_POINTING_DESC = "MEX_POINTING_DESC.TXT"
RIGHT_ASCENSION = -1e+32
DECLINATION = -1e+32
OFFSET_ANGLE = -1.3
SPACECRAFT_SOLAR_DISTANCE = 2.06677e+08
TARGET_NAME = MARS
/* CAMERA DATA ELEMENTS */
DETECTOR_TEMPERATURE = 18.3705
FOCAL_PLANE_TEMPERATURE = 8.7872
INST_CMPRS_NAME = "DISCRETE COSINE TRANSFORMATION (DCT)"
INST_CMPRS_RATIO = 5.2647
INST_CMPRS_QUALITY = 0
INST_CMPRS_QUANTZ_TBL_ID = 0
INSTRUMENT_TEMPERATURE = 11.8457
LENS_TEMPERATURE = 9.6028
MACROPIXEL_SIZE = 2
MISSING_FRAMES = 0
PIXEL_SUBSAMPLING_FLAG = N
SIGNAL_CHAIN_ID = 1
/* RADIOMETRIC DATA ELEMENTS */
BANDWIDTH = 180.0
CENTER_FILTER_WAVELENGTH = 677.0
RADIANCE_OFFSET = 2.85537
RADIANCE_SCALING_FACTOR = 0.0213534
REFLECTANCE_SCALING_FACTOR = 0.000475878
MEX:REFLECTANCE_OFFSET = 0.0636342
/* IMAGE OBJECT DEFINITIONS */
OBJECT = IMAGE
  INTERCHANGE_FORMAT = BINARY
  LINES = 33123
  LINE_SAMPLES = 4546
  SAMPLE_TYPE = UNSIGNED_INTEGER
  SAMPLE_BITS = 8
  BANDS = 1
  BAND_STORAGE_TYPE = BAND_SEQUENTIAL
  MAXIMUM = 255
  MEAN = 153.795
  MINIMUM = 1
  STANDARD_DEVIATION = 35.3881
END_OBJECT = IMAGE
/* MAP OBJECT DEFINITIONS */
OBJECT = IMAGE_MAP_PROJECTION
  ^DATA_SET_MAP_PROJECTION_CATALOG= "DSMAP.CAT"
  A_AXIS_RADIUS = 3396.0
  B_AXIS_RADIUS = 3396.0
  C_AXIS_RADIUS = 3396.0
  CENTER_LATITUDE = 0.0
  CENTER_LONGITUDE = 229.0
  COORDINATE_SYSTEM_NAME = PLANETOGRAPHIC
  COORDINATE_SYSTEM_TYPE = "BODY-FIXED ROTATING"
  EASTERNMOST_LONGITUDE = 230.001
  FIRST_STANDARD_PARALLEL = "N/A"
  LINE_FIRST_PIXEL = 1
  LINE_LAST_PIXEL = 33123
  LINE_PROJECTION_OFFSET = 40366.75
  MAP_PROJECTION_ROTATION = 0.0
  MAP_PROJECTION_TYPE = SINUSOIDAL
  MAP_RESOLUTION = 2370.85521546667
  MAP_SCALE = 0.025
  MAXIMUM_LATITUDE = 17.0623
  MINIMUM_LATITUDE = 3.04835
  POSITIVE_LONGITUDE_DIRECTION = EAST
  REFERENCE_LATITUDE = "N/A"
  REFERENCE_LONGITUDE = "N/A"
  SAMPLE_FIRST_PIXEL = 1
  SAMPLE_LAST_PIXEL = 4546
  SAMPLE_PROJECTION_OFFSET = 2052.25
  SECOND_STANDARD_PARALLEL = "N/A"
  WESTERNMOST_LONGITUDE = 228.286
END_OBJECT = IMAGE_MAP_PROJECTION
/* The JPEG2000 image data file associated with this label. */
OBJECT = COMPRESSED_FILE
  FILE_NAME = "HB524_0000_S13.JP2"
  RECORD_TYPE = UNDEFINED
  FILE_RECORDS = UNK
  ENCODING_TYPE = "JP2"
  INTERCHANGE_FORMAT = BINARY
  UNCOMPRESSED_FILE_NAME = "HB524_0000_S13.IMG"
  REQUIRED_STORAGE_BYTES = "150604434"
  ^DESCRIPTION = "JP2INFO.TXT"
END_OBJECT = COMPRESSED_FILE
END
