PDS_VERSION_ID = PDS3
/* FILE DATA ELEMENTS */
RECORD_TYPE = STREAM
/* POINTERS TO DATA OBJECTS */
^COMPRESSED_FILE = "HB526_0000_ND3.JP2"
/* IDENTIFICATION DATA ELEMENTS */
DATA_SET_ID = "MEX-M-HRSC-5-REFDR-MAPPROJECTED-V3.0"
DATA_SET_NAME = "MARS EXPRESS HRSC MAP PROJECTED REFDR V3.0"
DETECTOR_ID = MEX_HRSC_NADIR
EVENT_TYPE = "MARS-REGIONAL-MAPPING-Im-Fl-La"
INSTRUMENT_HOST_ID = MEX
INSTRUMENT_HOST_NAME = "MARS EXPRESS"
INSTRUMENT_ID = HRSC
INSTRUMENT_NAME = "HIGH RESOLUTION STEREO CAMERA"
MISSION_NAME = "MARS EXPRESS"
MISSION_PHASE_NAME = ME_Phase_27
PROCESSING_LEVEL_ID = 3
PRODUCT_CREATION_TIME = 2016-10-28T05:53:57.000Z
PRODUCT_ID = "HB526_0000_ND3.JP2"
RELEASE_ID = 0114
REVISION_ID = 0000
/* QUALITY DATA ELEMENTS */
DATA_QUALITY_ID = 1
DATA_QUALITY_DESC = "Data calculated based on original SPICE kernels"
/* TIME DATA ELEMENTS */
SPACECRAFT_CLOCK_START_COUNT = "1/0306901292.08244"
SPACECRAFT_CLOCK_STOP_COUNT = "1/0306901509.48535"
START_TIME = 2013-01-22T02:22:15.183Z
STOP_TIME = 2013-01-22T02:24:16.197Z
/* ORBITAL DATA ELEMENTS */
ASCENDING_NODE_LONGITUDE = 357.54
MAXIMUM_RESOLUTION = 17.5
FOOTPRINT_POINT_LATITUDE = (10.3866,10.39,10.3932,10.3961,10.3987, 10.4012,10.4031,10.0542,9.77526,9.49666 ,9.21841,8.93426,8.79207,8.64998, 8.36608,8.08258,7.93792,7.79305,7.64829 ,7.50363,7.35907,7.21462,7.07027, 6.92361,6.77613,6.62876,6.4815,6.33434, 6.18732,6.04041,5.89062,5.74062,5.59074 ,5.44098,5.29133,5.14182,4.99053, 4.83794,4.68549,4.53317,4.38099,4.22893 ,3.9974,3.84238,3.6875,3.53277,3.37818, 3.22197,3.06439,3.04062,3.03838,3.03494 ,3.0326,3.02946,3.02677,3.02451,3.02175 ,3.0191,3.17677,3.33354,3.48825,3.64309 ,3.79808,3.95321,4.18534,4.3375,4.4898, 4.64223,4.7948,4.9475,5.09934,5.24896, 5.39871,5.54858,5.69857,5.84869,6.07253 ,6.21961,6.3668,6.51411,6.66152,6.80906 ,7.03008,7.17453,7.31909,7.46376, 7.60853,7.7534,7.89838,8.1145,8.39832, 8.54038,8.68253,8.82478,9.03833,9.18077 ,9.45922,9.73802,10.0172,10.3866)
FOOTPRINT_POINT_LONGITUDE = (27.9834,27.7243,27.4684,27.2156, 26.9662,26.7195,26.4831,26.4744,26.4674 ,26.4603,26.4531,26.4457,26.442,26.4382 ,26.4306,26.4229,26.4191,26.4152, 26.4112,26.4072,26.4031,26.399,26.3949, 26.3906,26.3864,26.382,26.3777,26.3732, 26.3689,26.3645,26.3601,26.3556,26.3511 ,26.3465,26.3419,26.3373,26.3326, 26.3278,26.323,26.3181,26.3133,26.3084, 26.3009,26.2958,26.2907,26.2856,26.2805 ,26.2753,26.27,26.4611,26.6371,26.9026, 27.0808,27.3141,27.5128,27.677,27.8786, 28.0949,28.0913,28.0908,28.0911,28.0907 ,28.0902,28.091,28.0893,28.0888,28.0885 ,28.0873,28.0879,28.088,28.0869,28.0856 ,28.0852,28.085,28.084,28.0835,28.0829, 28.0824,28.0818,28.0819,28.0812,28.081, 28.0808,28.0804,28.0802,28.0802,28.0801 ,28.079,28.0791,28.0777,28.0776,28.0782 ,28.0788,28.0793,28.0792,28.08,28.0795, 28.0793,28.0797,27.9834)
ORBIT_NUMBER = 11526
ORBITAL_ECCENTRICITY = 0.575
ORBITAL_INCLINATION = 86.88
ORBITAL_SEMIMAJOR_AXIS = 8832.44
PERIAPSIS_ALTITUDE = 362.43
PERIAPSIS_ARGUMENT_ANGLE = 150.24
PERIAPSIS_TIME = 2013-01-22T02:17:11.000Z
SPACECRAFT_ORIENTATION = (0.0,-1.0,0.0)
^MEX_ORIENTATION_DESC = "MEX_ORIENTATION_DESC.TXT"
SPACECRAFT_POINTING_MODE = ACROSSTRACK
^MEX_POINTING_DESC = "MEX_POINTING_DESC.TXT"
RIGHT_ASCENSION = -1e+32
DECLINATION = -1e+32
OFFSET_ANGLE = 1.145
SPACECRAFT_SOLAR_DISTANCE = 2.06674e+08
TARGET_NAME = MARS
/* CAMERA DATA ELEMENTS */
DETECTOR_TEMPERATURE = 18.7783
FOCAL_PLANE_TEMPERATURE = 9.195
INST_CMPRS_NAME = "DISCRETE COSINE TRANSFORMATION (DCT)"
INST_CMPRS_RATIO = 7.08166
INST_CMPRS_QUALITY = 0
INST_CMPRS_QUANTZ_TBL_ID = 0
INSTRUMENT_TEMPERATURE = 12.0496
LENS_TEMPERATURE = 9.6028
MACROPIXEL_SIZE = 1
MISSING_FRAMES = 0
PIXEL_SUBSAMPLING_FLAG = N
SIGNAL_CHAIN_ID = 0
/* RADIOMETRIC DATA ELEMENTS */
BANDWIDTH = 177.0
CENTER_FILTER_WAVELENGTH = 677.5
RADIANCE_OFFSET = 3.50819
RADIANCE_SCALING_FACTOR = 0.00925511
REFLECTANCE_SCALING_FACTOR = 0.000210009
MEX:REFLECTANCE_OFFSET = 0.0796048
/* IMAGE OBJECT DEFINITIONS */
OBJECT = IMAGE
  INTERCHANGE_FORMAT = BINARY
  LINES = 35012
  LINE_SAMPLES = 9092
  SAMPLE_TYPE = UNSIGNED_INTEGER
  SAMPLE_BITS = 8
  BANDS = 1
  BAND_STORAGE_TYPE = BAND_SEQUENTIAL
  MAXIMUM = 255
  MEAN = 124.256
  MINIMUM = 1
  STANDARD_DEVIATION = 33.6669
END_OBJECT = IMAGE
/* MAP OBJECT DEFINITIONS */
OBJECT = IMAGE_MAP_PROJECTION
  ^DATA_SET_MAP_PROJECTION_CATALOG= "DSMAP.CAT"
  A_AXIS_RADIUS = 3396.0
  B_AXIS_RADIUS = 3396.0
  C_AXIS_RADIUS = 3396.0
  CENTER_LATITUDE = 0.0
  CENTER_LONGITUDE = 27.0
  COORDINATE_SYSTEM_NAME = PLANETOGRAPHIC
  COORDINATE_SYSTEM_TYPE = "BODY-FIXED ROTATING"
  EASTERNMOST_LONGITUDE = 28.0949
  FIRST_STANDARD_PARALLEL = "N/A"
  LINE_FIRST_PIXEL = 1
  LINE_LAST_PIXEL = 35012
  LINE_PROJECTION_OFFSET = 49329.0
  MAP_PROJECTION_ROTATION = 0.0
  MAP_PROJECTION_TYPE = SINUSOIDAL
  MAP_RESOLUTION = 4741.71043093333
  MAP_SCALE = 0.0125
  MAXIMUM_LATITUDE = 10.4031
  MINIMUM_LATITUDE = 3.0191
  POSITIVE_LONGITUDE_DIRECTION = EAST
  REFERENCE_LATITUDE = "N/A"
  REFERENCE_LONGITUDE = "N/A"
  SAMPLE_FIRST_PIXEL = 1
  SAMPLE_LAST_PIXEL = 9092
  SAMPLE_PROJECTION_OFFSET = 3459.0
  SECOND_STANDARD_PARALLEL = "N/A"
  WESTERNMOST_LONGITUDE = 26.27
END_OBJECT = IMAGE_MAP_PROJECTION
/* The JPEG2000 image data file associated with this label. */
OBJECT = COMPRESSED_FILE
  FILE_NAME = "HB526_0000_ND3.JP2"
  RECORD_TYPE = UNDEFINED
  FILE_RECORDS = UNK
  ENCODING_TYPE = "JP2"
  INTERCHANGE_FORMAT = BINARY
  UNCOMPRESSED_FILE_NAME = "HB526_0000_ND3.IMG"
  REQUIRED_STORAGE_BYTES = "318365472"
  ^DESCRIPTION = "JP2INFO.TXT"
END_OBJECT = COMPRESSED_FILE
END
