PDS_VERSION_ID = PDS3
/* FILE DATA ELEMENTS */
RECORD_TYPE = STREAM
/* POINTERS TO DATA OBJECTS */
^COMPRESSED_FILE = "HB526_0000_P13.JP2"
/* IDENTIFICATION DATA ELEMENTS */
DATA_SET_ID = "MEX-M-HRSC-5-REFDR-MAPPROJECTED-V3.0"
DATA_SET_NAME = "MARS EXPRESS HRSC MAP PROJECTED REFDR V3.0"
DETECTOR_ID = MEX_HRSC_P1
EVENT_TYPE = "MARS-REGIONAL-MAPPING-Im-Fl-La"
INSTRUMENT_HOST_ID = MEX
INSTRUMENT_HOST_NAME = "MARS EXPRESS"
INSTRUMENT_ID = HRSC
INSTRUMENT_NAME = "HIGH RESOLUTION STEREO CAMERA"
MISSION_NAME = "MARS EXPRESS"
MISSION_PHASE_NAME = ME_Phase_27
PROCESSING_LEVEL_ID = 3
PRODUCT_CREATION_TIME = 2016-10-28T05:53:57.000Z
PRODUCT_ID = "HB526_0000_P13.JP2"
RELEASE_ID = 0114
REVISION_ID = 0000
/* QUALITY DATA ELEMENTS */
DATA_QUALITY_ID = 1
DATA_QUALITY_DESC = "Data calculated based on original SPICE kernels"
/* TIME DATA ELEMENTS */
SPACECRAFT_CLOCK_START_COUNT = "1/0306901292.08244"
SPACECRAFT_CLOCK_STOP_COUNT = "1/0306901509.48535"
START_TIME = 2013-01-22T02:21:48.910Z
STOP_TIME = 2013-01-22T02:23:44.752Z
/* ORBITAL DATA ELEMENTS */
ASCENDING_NODE_LONGITUDE = 357.54
MAXIMUM_RESOLUTION = 69.8
FOOTPRINT_POINT_LATITUDE = (10.351,10.3638,10.3762,10.388,10.3993, 10.4101,10.4205,10.2158,9.94009,9.79986 ,9.65988,9.38023,9.17071,8.89098, 8.75111,8.60874,8.46576,8.32308,8.18035 ,8.03693,7.893,7.67873,7.5359,7.31789, 7.1719,6.95349,6.80779,6.66232,6.51746, 6.37184,6.22355,6.0744,5.85104,5.70208, 5.5534,5.33066,5.18046,4.95299,4.8013, 4.64945,4.49798,4.27098,4.04046,3.88618 ,3.73169,3.57713,3.4233,3.26883,3.06551 ,3.0497,3.03879,3.02917,3.02179,3.01324 ,3.00319,2.99023,2.98059,3.1404,3.29457 ,3.52553,3.68004,3.8344,3.98798,4.21955 ,4.37047,4.5222,4.67445,4.82504,4.977, 5.20526,5.35387,5.57673,5.80084,5.94982 ,6.09867,6.32113,6.46647,6.61308, 6.75866,6.97765,7.12378,7.26974,7.41563 ,7.55813,7.70146,7.91619,8.13179, 8.27402,8.41736,8.55981,8.77088,8.91078 ,9.18828,9.32838,9.46952,9.60995, 9.75016,9.96007,10.2337,10.351)
FOOTPRINT_POINT_LONGITUDE = (27.886,27.649,27.4147,27.1834,26.9549, 26.7287,26.5151,26.5103,26.5039,26.5007 ,26.4974,26.4907,26.4856,26.4788, 26.4754,26.4719,26.4683,26.4646,26.461, 26.4575,26.4541,26.4486,26.4449,26.4392 ,26.4353,26.4294,26.4254,26.4214, 26.4173,26.4133,26.4093,26.4052,26.399, 26.3949,26.3907,26.3843,26.38,26.3734, 26.3689,26.3645,26.36,26.3532,26.3463, 26.3416,26.3369,26.3322,26.3273,26.3226 ,26.3163,26.6641,26.8887,27.0986, 27.2611,27.4413,27.6397,27.9058,28.0658 ,28.0631,28.063,28.0634,28.0633,28.0634 ,28.0644,28.0625,28.063,28.0627,28.062, 28.0632,28.0629,28.0614,28.0614,28.0615 ,28.0604,28.0603,28.0604,28.0597, 28.0601,28.0592,28.0595,28.0594,28.0593 ,28.0595,28.0598,28.0601,28.0596, 28.0593,28.0581,28.0591,28.059,28.0599, 28.0609,28.0609,28.0638,28.0638,28.0627 ,28.0625,28.0626,28.0633,28.0636, 27.886)
ORBIT_NUMBER = 11526
ORBITAL_ECCENTRICITY = 0.575
ORBITAL_INCLINATION = 86.88
ORBITAL_SEMIMAJOR_AXIS = 8832.44
PERIAPSIS_ALTITUDE = 362.43
PERIAPSIS_ARGUMENT_ANGLE = 150.24
PERIAPSIS_TIME = 2013-01-22T02:17:11.000Z
SPACECRAFT_ORIENTATION = (0.0,-1.0,0.0)
^MEX_ORIENTATION_DESC = "MEX_ORIENTATION_DESC.TXT"
SPACECRAFT_POINTING_MODE = ACROSSTRACK
^MEX_POINTING_DESC = "MEX_POINTING_DESC.TXT"
RIGHT_ASCENSION = -1e+32
DECLINATION = -1e+32
OFFSET_ANGLE = 1.145
SPACECRAFT_SOLAR_DISTANCE = 2.06674e+08
TARGET_NAME = MARS
/* CAMERA DATA ELEMENTS */
DETECTOR_TEMPERATURE = 17.7588
FOCAL_PLANE_TEMPERATURE = 9.195
INST_CMPRS_NAME = "DISCRETE COSINE TRANSFORMATION (DCT)"
INST_CMPRS_RATIO = 14.1629
INST_CMPRS_QUALITY = 0
INST_CMPRS_QUANTZ_TBL_ID = 0
INSTRUMENT_TEMPERATURE = 12.0496
LENS_TEMPERATURE = 9.6028
MACROPIXEL_SIZE = 4
MISSING_FRAMES = 0
PIXEL_SUBSAMPLING_FLAG = N
SIGNAL_CHAIN_ID = 3
/* RADIOMETRIC DATA ELEMENTS */
BANDWIDTH = 174.0
CENTER_FILTER_WAVELENGTH = 675.0
RADIANCE_OFFSET = 4.02379
RADIANCE_SCALING_FACTOR = 0.00914128
REFLECTANCE_SCALING_FACTOR = 0.000210021
MEX:REFLECTANCE_OFFSET = 0.0924469
/* IMAGE OBJECT DEFINITIONS */
OBJECT = IMAGE
  INTERCHANGE_FORMAT = BINARY
  LINES = 8753
  LINE_SAMPLES = 2273
  SAMPLE_TYPE = UNSIGNED_INTEGER
  SAMPLE_BITS = 8
  BANDS = 1
  BAND_STORAGE_TYPE = BAND_SEQUENTIAL
  MAXIMUM = 255
  MEAN = 119.546
  MINIMUM = 1
  STANDARD_DEVIATION = 32.2974
END_OBJECT = IMAGE
/* MAP OBJECT DEFINITIONS */
OBJECT = IMAGE_MAP_PROJECTION
  ^DATA_SET_MAP_PROJECTION_CATALOG= "DSMAP.CAT"
  A_AXIS_RADIUS = 3396.0
  B_AXIS_RADIUS = 3396.0
  C_AXIS_RADIUS = 3396.0
  CENTER_LATITUDE = 0.0
  CENTER_LONGITUDE = 27.0
  COORDINATE_SYSTEM_NAME = PLANETOGRAPHIC
  COORDINATE_SYSTEM_TYPE = "BODY-FIXED ROTATING"
  EASTERNMOST_LONGITUDE = 28.0658
  FIRST_STANDARD_PARALLEL = "N/A"
  LINE_FIRST_PIXEL = 1
  LINE_LAST_PIXEL = 8753
  LINE_PROJECTION_OFFSET = 12331.875
  MAP_PROJECTION_ROTATION = 0.0
  MAP_PROJECTION_TYPE = SINUSOIDAL
  MAP_RESOLUTION = 1185.42760773333
  MAP_SCALE = 0.05
  MAXIMUM_LATITUDE = 10.4205
  MINIMUM_LATITUDE = 2.98059
  POSITIVE_LONGITUDE_DIRECTION = EAST
  REFERENCE_LATITUDE = "N/A"
  REFERENCE_LONGITUDE = "N/A"
  SAMPLE_FIRST_PIXEL = 1
  SAMPLE_LAST_PIXEL = 2273
  SAMPLE_PROJECTION_OFFSET = 864.375
  SECOND_STANDARD_PARALLEL = "N/A"
  WESTERNMOST_LONGITUDE = 26.3163
END_OBJECT = IMAGE_MAP_PROJECTION
/* The JPEG2000 image data file associated with this label. */
OBJECT = COMPRESSED_FILE
  FILE_NAME = "HB526_0000_P13.JP2"
  RECORD_TYPE = UNDEFINED
  FILE_RECORDS = UNK
  ENCODING_TYPE = "JP2"
  INTERCHANGE_FORMAT = BINARY
  UNCOMPRESSED_FILE_NAME = "HB526_0000_P13.IMG"
  REQUIRED_STORAGE_BYTES = "19918299"
  ^DESCRIPTION = "JP2INFO.TXT"
END_OBJECT = COMPRESSED_FILE
END
