PDS_VERSION_ID = PDS3
/* FILE DATA ELEMENTS */
RECORD_TYPE = STREAM
/* POINTERS TO DATA OBJECTS */
^COMPRESSED_FILE = "HB529_0000_RE3.JP2"
/* IDENTIFICATION DATA ELEMENTS */
DATA_SET_ID = "MEX-M-HRSC-5-REFDR-MAPPROJECTED-V3.0"
DATA_SET_NAME = "MARS EXPRESS HRSC MAP PROJECTED REFDR V3.0"
DETECTOR_ID = MEX_HRSC_RED
EVENT_TYPE = "MARS-REGIONAL-MAPPING-Vo-Fl"
INSTRUMENT_HOST_ID = MEX
INSTRUMENT_HOST_NAME = "MARS EXPRESS"
INSTRUMENT_ID = HRSC
INSTRUMENT_NAME = "HIGH RESOLUTION STEREO CAMERA"
MISSION_NAME = "MARS EXPRESS"
MISSION_PHASE_NAME = ME_Phase_27
PROCESSING_LEVEL_ID = 3
PRODUCT_CREATION_TIME = 2016-10-28T05:53:57.000Z
PRODUCT_ID = "HB529_0000_RE3.JP2"
RELEASE_ID = 0114
REVISION_ID = 0000
/* QUALITY DATA ELEMENTS */
DATA_QUALITY_ID = 1
DATA_QUALITY_DESC = "Data calculated based on original SPICE kernels"
/* TIME DATA ELEMENTS */
SPACECRAFT_CLOCK_START_COUNT = "1/0306976854.09032"
SPACECRAFT_CLOCK_STOP_COUNT = "1/0306977174.30960"
START_TIME = 2013-01-22T23:22:23.854Z
STOP_TIME = 2013-01-22T23:26:01.075Z
/* ORBITAL DATA ELEMENTS */
ASCENDING_NODE_LONGITUDE = 357.47
MAXIMUM_RESOLUTION = 86.5
FOOTPRINT_POINT_LATITUDE = (5.59869,5.60924,5.62017,5.63151, 5.64327,5.65542,5.56035,5.14683,4.7327, 4.52201,4.10141,3.88965,3.67695,3.35802 ,3.14241,2.92683,2.71207,2.49429, 2.27614,2.05841,1.83761,1.61697,1.28472 ,1.06143,0.838566,0.613107,0.272352, -0.0688717,-0.296129,-0.526679,-0.75697 ,-0.988711,-1.22539,-1.45722,-1.81178, -2.16968,-2.40739,-2.64962,-2.88719, -3.12834,-3.37155,-3.61273,-3.86069, -4.10714,-4.35484,-4.60518,-4.85624, -5.1093,-5.36077,-5.61341,-5.78619, -5.79508,-5.80847,-5.82536,-5.83525, -5.85031,-5.86641,-5.88289,-5.49947, -5.12032,-4.74339,-4.49154,-4.11858, -3.74852,-3.5016,-3.13788,-2.89592, -2.65321,-2.41512,-2.1774,-1.82217, -1.58561,-1.23039,-0.996416,-0.648887, -0.417535,-0.188365,0.0374729,0.267415, 0.49322,0.827372,1.05491,1.39332, 1.61359,1.83949,2.06067,2.27788,2.48859 ,2.70552,3.03171,3.24831,3.46094, 3.77895,3.99714,4.20786,4.52327,4.83618 ,5.25281,5.56306,5.59869)
FOOTPRINT_POINT_LONGITUDE = (79.3429,79.0733,78.8019,78.5289, 78.2542,77.9773,77.7442,77.731,77.7176, 77.7106,77.6968,77.6894,77.6817,77.6705 ,77.6628,77.6549,77.6466,77.6383, 77.6299,77.6215,77.6129,77.604,77.5907, 77.5814,77.572,77.5625,77.5493,77.5339, 77.5233,77.5132,77.5024,77.4921,77.483, 77.4713,77.4547,77.4388,77.4267,77.4162 ,77.4023,77.3897,77.3772,77.3629, 77.3513,77.3382,77.3248,77.3118,77.2986 ,77.2853,77.2707,77.2551,77.4089, 77.6655,77.8772,78.1802,78.4345,78.9413 ,79.2855,79.727,79.72,79.7133,79.7068, 79.7028,79.6966,79.6908,79.6871,79.6811 ,79.6776,79.6741,79.6704,79.6667, 79.6616,79.6582,79.6539,79.6508,79.6462 ,79.6432,79.6404,79.637,79.6345,79.6317 ,79.6271,79.6249,79.6213,79.6187, 79.6166,79.6143,79.6117,79.6085,79.6061 ,79.6029,79.6006,79.5984,79.5949, 79.5933,79.5912,79.5881,79.585,79.5811, 79.5782,79.3429)
ORBIT_NUMBER = 11529
ORBITAL_ECCENTRICITY = 0.575
ORBITAL_INCLINATION = 86.9
ORBITAL_SEMIMAJOR_AXIS = 8834.11
PERIAPSIS_ALTITUDE = 361.89
PERIAPSIS_ARGUMENT_ANGLE = 149.71
PERIAPSIS_TIME = 2013-01-22T23:15:11.000Z
SPACECRAFT_ORIENTATION = (0.0,-1.0,0.0)
^MEX_ORIENTATION_DESC = "MEX_ORIENTATION_DESC.TXT"
SPACECRAFT_POINTING_MODE = ACROSSTRACK
^MEX_POINTING_DESC = "MEX_POINTING_DESC.TXT"
RIGHT_ASCENSION = -1e+32
DECLINATION = -1e+32
OFFSET_ANGLE = -0.73
SPACECRAFT_SOLAR_DISTANCE = 2.06671e+08
TARGET_NAME = MARS
/* CAMERA DATA ELEMENTS */
DETECTOR_TEMPERATURE = 19.1861
FOCAL_PLANE_TEMPERATURE = 9.195
INST_CMPRS_NAME = "DISCRETE COSINE TRANSFORMATION (DCT)"
INST_CMPRS_RATIO = 15.1839
INST_CMPRS_QUALITY = 0
INST_CMPRS_QUANTZ_TBL_ID = 0
INSTRUMENT_TEMPERATURE = 12.2535
LENS_TEMPERATURE = 9.3989
MACROPIXEL_SIZE = 4
MISSING_FRAMES = 0
PIXEL_SUBSAMPLING_FLAG = N
SIGNAL_CHAIN_ID = 2
/* RADIOMETRIC DATA ELEMENTS */
BANDWIDTH = 48.0
CENTER_FILTER_WAVELENGTH = 748.0
RADIANCE_OFFSET = 0.899301
RADIANCE_SCALING_FACTOR = 0.00281487
REFLECTANCE_SCALING_FACTOR = 0.000274373
MEX:REFLECTANCE_OFFSET = 0.0876575
/* IMAGE OBJECT DEFINITIONS */
OBJECT = IMAGE
  INTERCHANGE_FORMAT = BINARY
  LINES = 6805
  LINE_SAMPLES = 1376
  SAMPLE_TYPE = UNSIGNED_INTEGER
  SAMPLE_BITS = 8
  BANDS = 1
  BAND_STORAGE_TYPE = BAND_SEQUENTIAL
  MAXIMUM = 255
  MEAN = 103.283
  MINIMUM = 1
  STANDARD_DEVIATION = 29.7924
END_OBJECT = IMAGE
/* MAP OBJECT DEFINITIONS */
OBJECT = IMAGE_MAP_PROJECTION
  ^DATA_SET_MAP_PROJECTION_CATALOG= "DSMAP.CAT"
  A_AXIS_RADIUS = 3396.0
  B_AXIS_RADIUS = 3396.0
  C_AXIS_RADIUS = 3396.0
  CENTER_LATITUDE = 0.0
  CENTER_LONGITUDE = 79.0
  COORDINATE_SYSTEM_NAME = PLANETOGRAPHIC
  COORDINATE_SYSTEM_TYPE = "BODY-FIXED ROTATING"
  EASTERNMOST_LONGITUDE = 79.727
  FIRST_STANDARD_PARALLEL = "N/A"
  LINE_FIRST_PIXEL = 1
  LINE_LAST_PIXEL = 6805
  LINE_PROJECTION_OFFSET = 3341.625
  MAP_PROJECTION_ROTATION = 0.0
  MAP_PROJECTION_TYPE = SINUSOIDAL
  MAP_RESOLUTION = 592.713803866667
  MAP_SCALE = 0.1
  MAXIMUM_LATITUDE = 5.65542
  MINIMUM_LATITUDE = -5.88289
  POSITIVE_LONGITUDE_DIRECTION = EAST
  REFERENCE_LATITUDE = "N/A"
  REFERENCE_LONGITUDE = "N/A"
  SAMPLE_FIRST_PIXEL = 1
  SAMPLE_LAST_PIXEL = 1376
  SAMPLE_PROJECTION_OFFSET = 1001.125
  SECOND_STANDARD_PARALLEL = "N/A"
  WESTERNMOST_LONGITUDE = 77.2551
END_OBJECT = IMAGE_MAP_PROJECTION
/* The JPEG2000 image data file associated with this label. */
OBJECT = COMPRESSED_FILE
  FILE_NAME = "HB529_0000_RE3.JP2"
  RECORD_TYPE = UNDEFINED
  FILE_RECORDS = UNK
  ENCODING_TYPE = "JP2"
  INTERCHANGE_FORMAT = BINARY
  UNCOMPRESSED_FILE_NAME = "HB529_0000_RE3.IMG"
  REQUIRED_STORAGE_BYTES = "9382944"
  ^DESCRIPTION = "JP2INFO.TXT"
END_OBJECT = COMPRESSED_FILE
END
