PDS_VERSION_ID = PDS3
/* FILE DATA ELEMENTS */
RECORD_TYPE = STREAM
/* POINTERS TO DATA OBJECTS */
^COMPRESSED_FILE = "HB531_0000_BL3.JP2"
/* IDENTIFICATION DATA ELEMENTS */
DATA_SET_ID = "MEX-M-HRSC-5-REFDR-MAPPROJECTED-V3.0"
DATA_SET_NAME = "MARS EXPRESS HRSC MAP PROJECTED REFDR V3.0"
DETECTOR_ID = MEX_HRSC_BLUE
EVENT_TYPE = "MARS-REGIONAL-MAPPING-Vo-Mw"
INSTRUMENT_HOST_ID = MEX
INSTRUMENT_HOST_NAME = "MARS EXPRESS"
INSTRUMENT_ID = HRSC
INSTRUMENT_NAME = "HIGH RESOLUTION STEREO CAMERA"
MISSION_NAME = "MARS EXPRESS"
MISSION_PHASE_NAME = ME_Phase_27
PROCESSING_LEVEL_ID = 3
PRODUCT_CREATION_TIME = 2016-10-28T05:53:57.000Z
PRODUCT_ID = "HB531_0000_BL3.JP2"
RELEASE_ID = 0114
REVISION_ID = 0000
/* QUALITY DATA ELEMENTS */
DATA_QUALITY_ID = 1
DATA_QUALITY_DESC = "Data calculated based on original SPICE kernels"
/* TIME DATA ELEMENTS */
SPACECRAFT_CLOCK_START_COUNT = "1/0307026965.07298"
SPACECRAFT_CLOCK_STOP_COUNT = "1/0307027126.32024"
START_TIME = 2013-01-23T13:16:49.286Z
STOP_TIME = 2013-01-23T13:18:13.668Z
/* ORBITAL DATA ELEMENTS */
ASCENDING_NODE_LONGITUDE = 357.44
MAXIMUM_RESOLUTION = 123.9
FOOTPRINT_POINT_LATITUDE = (19.2877,19.2894,19.2909,19.2922, 19.2933,19.2942,19.2932,19.1895,19.0856 ,18.9815,18.8777,18.7742,18.6188, 18.5151,18.4115,18.2563,18.1527,18.0493 ,17.8943,17.7393,17.5843,17.481,17.3261 ,17.1716,17.0685,16.9654,16.8624, 16.7594,16.5536,16.4506,16.3474,16.1419 ,15.9884,15.7321,15.5271,15.3223, 15.1649,15.0598,14.9548,14.8498,14.7449 ,14.64,14.5352,14.4304,14.3257,14.221, 14.1164,14.0118,14.0068,14.0052,14.0041 ,14.0029,14.0018,14.0001,13.9989, 13.9977,13.9952,13.9938,13.9924,14.151, 14.3083,14.4132,14.5181,14.6231,14.7282 ,14.8332,14.9384,15.0435,15.1487, 15.3064,15.5116,15.7169,15.9224,16.1281 ,16.3855,16.4884,16.5914,16.6945, 16.8492,16.9524,17.0557,17.1587,17.3138 ,17.4171,17.5721,17.6753,17.7787, 17.8824,17.9864,18.09,18.1936,18.3489, 18.5047,18.6603,18.7641,18.8679,18.9718 ,19.1277,19.2316,19.2877)
FOOTPRINT_POINT_LONGITUDE = (235.103,234.892,234.68,234.466,234.252 ,234.035,233.768,233.768,233.768, 233.769,233.769,233.768,233.767,233.767 ,233.767,233.766,233.766,233.765, 233.764,233.763,233.763,233.762,233.762 ,233.76,233.759,233.759,233.758,233.757 ,233.756,233.755,233.755,233.754, 233.751,233.748,233.746,233.743,233.742 ,233.741,233.739,233.738,233.737, 233.736,233.734,233.733,233.732,233.73, 233.729,233.728,233.84,234.026,234.14, 234.253,234.366,234.52,234.633,234.744, 234.953,235.064,235.174,235.224,235.223 ,235.222,235.222,235.221,235.221,235.22 ,235.22,235.219,235.218,235.217,235.216 ,235.215,235.214,235.213,235.212, 235.211,235.21,235.21,235.209,235.208, 235.208,235.207,235.206,235.206,235.205 ,235.204,235.203,235.203,235.202, 235.202,235.201,235.2,235.199,235.198, 235.198,235.197,235.197,235.196,235.195 ,235.103)
ORBIT_NUMBER = 11531
ORBITAL_ECCENTRICITY = 0.575
ORBITAL_INCLINATION = 86.89
ORBITAL_SEMIMAJOR_AXIS = 8836.42
PERIAPSIS_ALTITUDE = 362.3
PERIAPSIS_ARGUMENT_ANGLE = 149.34
PERIAPSIS_TIME = 2013-01-23T13:13:47.000Z
SPACECRAFT_ORIENTATION = (0.0,-1.0,0.0)
^MEX_ORIENTATION_DESC = "MEX_ORIENTATION_DESC.TXT"
SPACECRAFT_POINTING_MODE = ACROSSTRACK
^MEX_POINTING_DESC = "MEX_POINTING_DESC.TXT"
RIGHT_ASCENSION = -1e+32
DECLINATION = -1e+32
OFFSET_ANGLE = -0.6
SPACECRAFT_SOLAR_DISTANCE = 2.06669e+08
TARGET_NAME = MARS
/* CAMERA DATA ELEMENTS */
DETECTOR_TEMPERATURE = 18.9822
FOCAL_PLANE_TEMPERATURE = 9.3989
INST_CMPRS_NAME = "DISCRETE COSINE TRANSFORMATION (DCT)"
INST_CMPRS_RATIO = 7.64471
INST_CMPRS_QUALITY = 0
INST_CMPRS_QUANTZ_TBL_ID = 0
INSTRUMENT_TEMPERATURE = 12.0496
LENS_TEMPERATURE = 9.8067
MACROPIXEL_SIZE = 8
MISSING_FRAMES = 0
PIXEL_SUBSAMPLING_FLAG = N
SIGNAL_CHAIN_ID = 2
/* RADIOMETRIC DATA ELEMENTS */
BANDWIDTH = 76.0
CENTER_FILTER_WAVELENGTH = 444.0
RADIANCE_OFFSET = 0.483938
RADIANCE_SCALING_FACTOR = 0.00120495
REFLECTANCE_SCALING_FACTOR = 5.28781e-05
MEX:REFLECTANCE_OFFSET = 0.0212372
/* IMAGE OBJECT DEFINITIONS */
OBJECT = IMAGE
  INTERCHANGE_FORMAT = BINARY
  LINES = 3146
  LINE_SAMPLES = 918
  SAMPLE_TYPE = UNSIGNED_INTEGER
  SAMPLE_BITS = 8
  BANDS = 1
  BAND_STORAGE_TYPE = BAND_SEQUENTIAL
  MAXIMUM = 255
  MEAN = 117.583
  MINIMUM = 2
  STANDARD_DEVIATION = 37.2587
END_OBJECT = IMAGE
/* MAP OBJECT DEFINITIONS */
OBJECT = IMAGE_MAP_PROJECTION
  ^DATA_SET_MAP_PROJECTION_CATALOG= "DSMAP.CAT"
  A_AXIS_RADIUS = 3396.0
  B_AXIS_RADIUS = 3396.0
  C_AXIS_RADIUS = 3396.0
  CENTER_LATITUDE = 0.0
  CENTER_LONGITUDE = 234.0
  COORDINATE_SYSTEM_NAME = PLANETOGRAPHIC
  COORDINATE_SYSTEM_TYPE = "BODY-FIXED ROTATING"
  EASTERNMOST_LONGITUDE = 235.224
  FIRST_STANDARD_PARALLEL = "N/A"
  LINE_FIRST_PIXEL = 1
  LINE_LAST_PIXEL = 3146
  LINE_PROJECTION_OFFSET = 11442.8125
  MAP_PROJECTION_ROTATION = 0.0
  MAP_PROJECTION_TYPE = SINUSOIDAL
  MAP_RESOLUTION = 592.713803866667
  MAP_SCALE = 0.1
  MAXIMUM_LATITUDE = 19.2942
  MINIMUM_LATITUDE = 13.9924
  POSITIVE_LONGITUDE_DIRECTION = EAST
  REFERENCE_LATITUDE = "N/A"
  REFERENCE_LONGITUDE = "N/A"
  SAMPLE_FIRST_PIXEL = 1
  SAMPLE_LAST_PIXEL = 918
  SAMPLE_PROJECTION_OFFSET = 210.6875
  SECOND_STANDARD_PARALLEL = "N/A"
  WESTERNMOST_LONGITUDE = 233.728
END_OBJECT = IMAGE_MAP_PROJECTION
/* The JPEG2000 image data file associated with this label. */
OBJECT = COMPRESSED_FILE
  FILE_NAME = "HB531_0000_BL3.JP2"
  RECORD_TYPE = UNDEFINED
  FILE_RECORDS = UNK
  ENCODING_TYPE = "JP2"
  INTERCHANGE_FORMAT = BINARY
  UNCOMPRESSED_FILE_NAME = "HB531_0000_BL3.IMG"
  REQUIRED_STORAGE_BYTES = "2906388"
  ^DESCRIPTION = "JP2INFO.TXT"
END_OBJECT = COMPRESSED_FILE
END
