PDS_VERSION_ID = PDS3
/* FILE DATA ELEMENTS */
RECORD_TYPE = STREAM
/* POINTERS TO DATA OBJECTS */
^COMPRESSED_FILE = "HB531_0000_GR3.JP2"
/* IDENTIFICATION DATA ELEMENTS */
DATA_SET_ID = "MEX-M-HRSC-5-REFDR-MAPPROJECTED-V3.0"
DATA_SET_NAME = "MARS EXPRESS HRSC MAP PROJECTED REFDR V3.0"
DETECTOR_ID = MEX_HRSC_GREEN
EVENT_TYPE = "MARS-REGIONAL-MAPPING-Vo-Mw"
INSTRUMENT_HOST_ID = MEX
INSTRUMENT_HOST_NAME = "MARS EXPRESS"
INSTRUMENT_ID = HRSC
INSTRUMENT_NAME = "HIGH RESOLUTION STEREO CAMERA"
MISSION_NAME = "MARS EXPRESS"
MISSION_PHASE_NAME = ME_Phase_27
PROCESSING_LEVEL_ID = 3
PRODUCT_CREATION_TIME = 2016-10-28T05:53:57.000Z
PRODUCT_ID = "HB531_0000_GR3.JP2"
RELEASE_ID = 0114
REVISION_ID = 0000
/* QUALITY DATA ELEMENTS */
DATA_QUALITY_ID = 1
DATA_QUALITY_DESC = "Data calculated based on original SPICE kernels"
/* TIME DATA ELEMENTS */
SPACECRAFT_CLOCK_START_COUNT = "1/0307026965.07298"
SPACECRAFT_CLOCK_STOP_COUNT = "1/0307027126.32024"
START_TIME = 2013-01-23T13:16:37.162Z
STOP_TIME = 2013-01-23T13:18:00.697Z
/* ORBITAL DATA ELEMENTS */
ASCENDING_NODE_LONGITUDE = 357.44
MAXIMUM_RESOLUTION = 122.7
FOOTPRINT_POINT_LATITUDE = (19.3048,19.3042,19.3032,19.302,19.3005 ,19.2987,19.2946,19.1896,19.0848, 18.9278,18.8229,18.7179,18.5608,18.456, 18.3512,18.2465,18.0895,17.9324,17.8278 ,17.671,17.5663,17.4618,17.3575,17.2528 ,17.1483,17.0438,16.9394,16.8351, 16.6785,16.5221,16.418,16.3139,16.2094, 16.0531,15.9489,15.7926,15.6885,15.5844 ,15.4804,15.3764,15.1685,14.9608, 14.7532,14.5457,14.4405,14.334,14.2276, 14.1212,14.0149,13.9911,13.9915,13.9917 ,13.9919,13.9921,13.9921,13.992,13.9918 ,13.9916,13.9913,14.0464,14.2061, 14.3127,14.4193,14.5252,14.7329,14.8369 ,14.9928,15.1489,15.305,15.4091,15.5653 ,15.6694,15.8258,15.9822,16.0864,16.243 ,16.3995,16.5039,16.6606,16.7651, 16.8695,17.0264,17.1311,17.2879,17.445, 17.6022,17.7069,17.8637,17.9683,18.0736 ,18.1784,18.2833,18.388,18.5451,18.7025 ,18.86,19.0176,19.1226,19.2277,19.3048)
FOOTPRINT_POINT_LONGITUDE = (235.031,234.822,234.598,234.386, 234.173,233.957,233.773,233.773,233.773 ,233.774,233.774,233.773,233.773, 233.773,233.772,233.772,233.771,233.771 ,233.77,233.77,233.769,233.768,233.769, 233.767,233.767,233.766,233.765,233.765 ,233.764,233.763,233.762,233.762,233.76 ,233.759,233.758,233.756,233.755, 233.754,233.753,233.752,233.75,233.748, 233.745,233.743,233.742,233.74,233.739, 233.738,233.737,233.932,234.059,234.171 ,234.283,234.464,234.657,234.781, 234.891,235.001,235.11,235.214,235.213, 235.213,235.212,235.212,235.211,235.21, 235.209,235.209,235.208,235.207,235.207 ,235.206,235.205,235.205,235.204, 235.203,235.202,235.202,235.201,235.201 ,235.2,235.199,235.199,235.198,235.197, 235.196,235.196,235.195,235.195,235.194 ,235.193,235.193,235.192,235.192, 235.191,235.19,235.189,235.189,235.188, 235.031)
ORBIT_NUMBER = 11531
ORBITAL_ECCENTRICITY = 0.575
ORBITAL_INCLINATION = 86.89
ORBITAL_SEMIMAJOR_AXIS = 8836.42
PERIAPSIS_ALTITUDE = 362.3
PERIAPSIS_ARGUMENT_ANGLE = 149.34
PERIAPSIS_TIME = 2013-01-23T13:13:47.000Z
SPACECRAFT_ORIENTATION = (0.0,-1.0,0.0)
^MEX_ORIENTATION_DESC = "MEX_ORIENTATION_DESC.TXT"
SPACECRAFT_POINTING_MODE = ACROSSTRACK
^MEX_POINTING_DESC = "MEX_POINTING_DESC.TXT"
RIGHT_ASCENSION = -1e+32
DECLINATION = -1e+32
OFFSET_ANGLE = -0.6
SPACECRAFT_SOLAR_DISTANCE = 2.06669e+08
TARGET_NAME = MARS
/* CAMERA DATA ELEMENTS */
DETECTOR_TEMPERATURE = 18.9822
FOCAL_PLANE_TEMPERATURE = 9.3989
INST_CMPRS_NAME = "DISCRETE COSINE TRANSFORMATION (DCT)"
INST_CMPRS_RATIO = 8.16474
INST_CMPRS_QUALITY = 0
INST_CMPRS_QUANTZ_TBL_ID = 0
INSTRUMENT_TEMPERATURE = 12.0496
LENS_TEMPERATURE = 9.8067
MACROPIXEL_SIZE = 8
MISSING_FRAMES = 0
PIXEL_SUBSAMPLING_FLAG = N
SIGNAL_CHAIN_ID = 2
/* RADIOMETRIC DATA ELEMENTS */
BANDWIDTH = 88.0
CENTER_FILTER_WAVELENGTH = 538.0
RADIANCE_OFFSET = 1.19688
RADIANCE_SCALING_FACTOR = 0.00339541
REFLECTANCE_SCALING_FACTOR = 0.000124863
MEX:REFLECTANCE_OFFSET = 0.0440141
/* IMAGE OBJECT DEFINITIONS */
OBJECT = IMAGE
  INTERCHANGE_FORMAT = BINARY
  LINES = 3146
  LINE_SAMPLES = 918
  SAMPLE_TYPE = UNSIGNED_INTEGER
  SAMPLE_BITS = 8
  BANDS = 1
  BAND_STORAGE_TYPE = BAND_SEQUENTIAL
  MAXIMUM = 255
  MEAN = 109.113
  MINIMUM = 2
  STANDARD_DEVIATION = 36.1088
END_OBJECT = IMAGE
/* MAP OBJECT DEFINITIONS */
OBJECT = IMAGE_MAP_PROJECTION
  ^DATA_SET_MAP_PROJECTION_CATALOG= "DSMAP.CAT"
  A_AXIS_RADIUS = 3396.0
  B_AXIS_RADIUS = 3396.0
  C_AXIS_RADIUS = 3396.0
  CENTER_LATITUDE = 0.0
  CENTER_LONGITUDE = 234.0
  COORDINATE_SYSTEM_NAME = PLANETOGRAPHIC
  COORDINATE_SYSTEM_TYPE = "BODY-FIXED ROTATING"
  EASTERNMOST_LONGITUDE = 235.214
  FIRST_STANDARD_PARALLEL = "N/A"
  LINE_FIRST_PIXEL = 1
  LINE_LAST_PIXEL = 3146
  LINE_PROJECTION_OFFSET = 11442.8125
  MAP_PROJECTION_ROTATION = 0.0
  MAP_PROJECTION_TYPE = SINUSOIDAL
  MAP_RESOLUTION = 592.713803866667
  MAP_SCALE = 0.1
  MAXIMUM_LATITUDE = 19.3048
  MINIMUM_LATITUDE = 13.9911
  POSITIVE_LONGITUDE_DIRECTION = EAST
  REFERENCE_LATITUDE = "N/A"
  REFERENCE_LONGITUDE = "N/A"
  SAMPLE_FIRST_PIXEL = 1
  SAMPLE_LAST_PIXEL = 918
  SAMPLE_PROJECTION_OFFSET = 210.6875
  SECOND_STANDARD_PARALLEL = "N/A"
  WESTERNMOST_LONGITUDE = 233.737
END_OBJECT = IMAGE_MAP_PROJECTION
/* The JPEG2000 image data file associated with this label. */
OBJECT = COMPRESSED_FILE
  FILE_NAME = "HB531_0000_GR3.JP2"
  RECORD_TYPE = UNDEFINED
  FILE_RECORDS = UNK
  ENCODING_TYPE = "JP2"
  INTERCHANGE_FORMAT = BINARY
  UNCOMPRESSED_FILE_NAME = "HB531_0000_GR3.IMG"
  REQUIRED_STORAGE_BYTES = "2906388"
  ^DESCRIPTION = "JP2INFO.TXT"
END_OBJECT = COMPRESSED_FILE
END
