PDS_VERSION_ID = PDS3
/* FILE DATA ELEMENTS */
RECORD_TYPE = STREAM
/* POINTERS TO DATA OBJECTS */
^COMPRESSED_FILE = "HB532_0000_ND3.JP2"
/* IDENTIFICATION DATA ELEMENTS */
DATA_SET_ID = "MEX-M-HRSC-5-REFDR-MAPPROJECTED-V3.0"
DATA_SET_NAME = "MARS EXPRESS HRSC MAP PROJECTED REFDR V3.0"
DETECTOR_ID = MEX_HRSC_NADIR
EVENT_TYPE = "MARS-LOCAL-STEREO-Vo-Ot"
INSTRUMENT_HOST_ID = MEX
INSTRUMENT_HOST_NAME = "MARS EXPRESS"
INSTRUMENT_ID = HRSC
INSTRUMENT_NAME = "HIGH RESOLUTION STEREO CAMERA"
MISSION_NAME = "MARS EXPRESS"
MISSION_PHASE_NAME = ME_Phase_27
PROCESSING_LEVEL_ID = 3
PRODUCT_CREATION_TIME = 2016-10-28T05:53:57.000Z
PRODUCT_ID = "HB532_0000_ND3.JP2"
RELEASE_ID = 0114
REVISION_ID = 0000
/* QUALITY DATA ELEMENTS */
DATA_QUALITY_ID = 1
DATA_QUALITY_DESC = "Data calculated based on original SPICE kernels"
/* TIME DATA ELEMENTS */
SPACECRAFT_CLOCK_START_COUNT = "1/0307052325.07294"
SPACECRAFT_CLOCK_STOP_COUNT = "1/0307052573.47994"
START_TIME = 2013-01-23T20:19:29.196Z
STOP_TIME = 2013-01-23T20:21:59.198Z
/* ORBITAL DATA ELEMENTS */
ASCENDING_NODE_LONGITUDE = 357.42
MAXIMUM_RESOLUTION = 20.1
FOOTPRINT_POINT_LATITUDE = (7.26573,7.25312,7.24072,7.22853, 7.21656,7.20651,6.7445,6.37287,5.99569, 5.61854,5.42794,5.23553,5.04312,4.85072 ,4.65832,4.46298,4.26673,4.07048, 3.77612,3.47693,3.27681,3.07668,2.77419 ,2.5702,2.26422,2.0595,1.85165,1.64384, 1.43595,1.22623,0.90842,0.696497, 0.483253,0.267408,0.0515615,-0.16453, -0.384313,-0.604153,-0.824002,-1.04731, -1.27096,-1.49482,-1.72189,-1.94975, -2.29229,-2.52393,-2.75562,-2.98974, -3.12528,-3.11341,-3.09939,-3.09203, -3.0818,-3.073,-3.06388,-3.05313, -3.03852,-2.68536,-2.33897,-2.10792, -1.88083,-1.65289,-1.42634,-1.20282, -0.979425,-0.756137,-0.536602,-0.317208 ,0.010573,0.22605,0.441606,0.656947, 0.868483,1.18574,1.50103,1.70864, 1.91626,2.22681,2.43054,2.63426,2.93982 ,3.14043,3.34028,3.64004,3.83928, 4.03527,4.23127,4.42726,4.62326,4.81681 ,5.00898,5.20115,5.39333,5.68015, 5.96269,6.15105,6.33943,6.62054,7.26658 ,7.26573)
FOOTPRINT_POINT_LONGITUDE = (136.469,136.142,135.825,135.518,135.22 ,134.938,134.953,134.965,134.978, 134.991,134.997,135.004,135.011,135.018 ,135.025,135.033,135.04,135.048,135.059 ,135.071,135.08,135.088,135.101,135.109 ,135.122,135.131,135.14,135.149,135.158 ,135.169,135.184,135.194,135.205, 135.215,135.226,135.237,135.248,135.26, 135.271,135.283,135.295,135.307,135.319 ,135.332,135.349,135.362,135.375, 135.389,135.577,135.899,136.277,136.47, 136.74,136.965,137.193,137.51,137.901, 137.851,137.814,137.788,137.764,137.735 ,137.713,137.687,137.663,137.638, 137.614,137.591,137.557,137.535,137.512 ,137.49,137.469,137.439,137.409,137.389 ,137.37,137.341,137.323,137.305,137.278 ,137.26,137.243,137.218,137.202,137.186 ,137.17,137.154,137.139,137.124,137.109 ,137.095,137.081,137.059,137.039, 137.026,137.012,136.992,136.949, 136.469)
ORBIT_NUMBER = 11532
ORBITAL_ECCENTRICITY = 0.575
ORBITAL_INCLINATION = 86.88
ORBITAL_SEMIMAJOR_AXIS = 8830.71
PERIAPSIS_ALTITUDE = 363.08
PERIAPSIS_ARGUMENT_ANGLE = 149.2
PERIAPSIS_TIME = 2013-01-23T20:13:12.000Z
SPACECRAFT_ORIENTATION = (0.0,-1.0,0.0)
^MEX_ORIENTATION_DESC = "MEX_ORIENTATION_DESC.TXT"
SPACECRAFT_POINTING_MODE = INERT
^MEX_POINTING_DESC = "MEX_POINTING_DESC.TXT"
RIGHT_ASCENSION = 64.267
DECLINATION = -26.588
OFFSET_ANGLE = -1e+32
SPACECRAFT_SOLAR_DISTANCE = 2.06669e+08
TARGET_NAME = MARS
/* CAMERA DATA ELEMENTS */
DETECTOR_TEMPERATURE = 18.3705
FOCAL_PLANE_TEMPERATURE = 9.6028
INST_CMPRS_NAME = "DISCRETE COSINE TRANSFORMATION (DCT)"
INST_CMPRS_RATIO = 7.00454
INST_CMPRS_QUALITY = 0
INST_CMPRS_QUANTZ_TBL_ID = 0
INSTRUMENT_TEMPERATURE = 11.4379
LENS_TEMPERATURE = 8.9911
MACROPIXEL_SIZE = 1
MISSING_FRAMES = 0
PIXEL_SUBSAMPLING_FLAG = N
SIGNAL_CHAIN_ID = 0
/* RADIOMETRIC DATA ELEMENTS */
BANDWIDTH = 177.0
CENTER_FILTER_WAVELENGTH = 677.5
RADIANCE_OFFSET = 3.89933
RADIANCE_SCALING_FACTOR = 0.0111927
REFLECTANCE_SCALING_FACTOR = 0.000253963
MEX:REFLECTANCE_OFFSET = 0.0884757
/* IMAGE OBJECT DEFINITIONS */
OBJECT = IMAGE
  INTERCHANGE_FORMAT = BINARY
  LINES = 24679
  LINE_SAMPLES = 7451
  SAMPLE_TYPE = UNSIGNED_INTEGER
  SAMPLE_BITS = 8
  BANDS = 1
  BAND_STORAGE_TYPE = BAND_SEQUENTIAL
  MAXIMUM = 255
  MEAN = 97.9814
  MINIMUM = 1
  STANDARD_DEVIATION = 35.627
END_OBJECT = IMAGE
/* MAP OBJECT DEFINITIONS */
OBJECT = IMAGE_MAP_PROJECTION
  ^DATA_SET_MAP_PROJECTION_CATALOG= "DSMAP.CAT"
  A_AXIS_RADIUS = 3396.0
  B_AXIS_RADIUS = 3396.0
  C_AXIS_RADIUS = 3396.0
  CENTER_LATITUDE = 0.0
  CENTER_LONGITUDE = 136.0
  COORDINATE_SYSTEM_NAME = PLANETOGRAPHIC
  COORDINATE_SYSTEM_TYPE = "BODY-FIXED ROTATING"
  EASTERNMOST_LONGITUDE = 137.901
  FIRST_STANDARD_PARALLEL = "N/A"
  LINE_FIRST_PIXEL = 1
  LINE_LAST_PIXEL = 24679
  LINE_PROJECTION_OFFSET = 17266.0
  MAP_PROJECTION_ROTATION = 0.0
  MAP_PROJECTION_TYPE = SINUSOIDAL
  MAP_RESOLUTION = 2370.85521546667
  MAP_SCALE = 0.025
  MAXIMUM_LATITUDE = 7.26658
  MINIMUM_LATITUDE = -3.12528
  POSITIVE_LONGITUDE_DIRECTION = EAST
  REFERENCE_LATITUDE = "N/A"
  REFERENCE_LONGITUDE = "N/A"
  SAMPLE_FIRST_PIXEL = 1
  SAMPLE_LAST_PIXEL = 7451
  SAMPLE_PROJECTION_OFFSET = 2536.0
  SECOND_STANDARD_PARALLEL = "N/A"
  WESTERNMOST_LONGITUDE = 134.938
END_OBJECT = IMAGE_MAP_PROJECTION
/* The JPEG2000 image data file associated with this label. */
OBJECT = COMPRESSED_FILE
  FILE_NAME = "HB532_0000_ND3.JP2"
  RECORD_TYPE = UNDEFINED
  FILE_RECORDS = UNK
  ENCODING_TYPE = "JP2"
  INTERCHANGE_FORMAT = BINARY
  UNCOMPRESSED_FILE_NAME = "HB532_0000_ND3.IMG"
  REQUIRED_STORAGE_BYTES = "183913033"
  ^DESCRIPTION = "JP2INFO.TXT"
END_OBJECT = COMPRESSED_FILE
END
