PDS_VERSION_ID = PDS3
/* FILE DATA ELEMENTS */
RECORD_TYPE = STREAM
/* POINTERS TO DATA OBJECTS */
^COMPRESSED_FILE = "HB535_0000_S13.JP2"
/* IDENTIFICATION DATA ELEMENTS */
DATA_SET_ID = "MEX-M-HRSC-5-REFDR-MAPPROJECTED-V3.0"
DATA_SET_NAME = "MARS EXPRESS HRSC MAP PROJECTED REFDR V3.0"
DETECTOR_ID = MEX_HRSC_S1
EVENT_TYPE = "MARS-REGIONAL-MAPPING-Vo-Fl-Eo"
INSTRUMENT_HOST_ID = MEX
INSTRUMENT_HOST_NAME = "MARS EXPRESS"
INSTRUMENT_ID = HRSC
INSTRUMENT_NAME = "HIGH RESOLUTION STEREO CAMERA"
MISSION_NAME = "MARS EXPRESS"
MISSION_PHASE_NAME = ME_Phase_27
PROCESSING_LEVEL_ID = 3
PRODUCT_CREATION_TIME = 2016-10-28T05:53:57.000Z
PRODUCT_ID = "HB535_0000_S13.JP2"
RELEASE_ID = 0114
REVISION_ID = 0000
/* QUALITY DATA ELEMENTS */
DATA_QUALITY_ID = 1
DATA_QUALITY_DESC = "Data calculated based on original SPICE kernels"
/* TIME DATA ELEMENTS */
SPACECRAFT_CLOCK_START_COUNT = "1/0307127747.08382"
SPACECRAFT_CLOCK_STOP_COUNT = "1/0307127967.04679"
START_TIME = 2013-01-24T17:15:50.605Z
STOP_TIME = 2013-01-24T17:17:43.984Z
/* ORBITAL DATA ELEMENTS */
ASCENDING_NODE_LONGITUDE = 357.36
MAXIMUM_RESOLUTION = 36.6
FOOTPRINT_POINT_LATITUDE = (10.9929,11.0058,11.0239,11.0412, 11.0578,11.0736,11.0888,11.0028,10.7292 ,10.5895,10.3815,10.2427,9.96604, 9.68884,9.55056,9.33886,9.19727,8.98509 ,8.77313,8.63016,8.41712,8.27548, 8.13064,7.98676,7.84198,7.69591,7.55094 ,7.40657,7.19096,6.9704,6.8228,6.60159, 6.3789,6.15663,6.01132,5.78474,5.63405, 5.48176,5.25342,5.10258,4.95184,4.79825 ,4.64417,4.49018,4.33628,4.18363, 4.02895,3.87522,3.74557,3.73049,3.72005 ,3.70314,3.68298,3.66794,3.6498,3.63469 ,3.79677,3.95022,4.18006,4.33415, 4.48835,4.64259,4.87286,5.02374,5.17478 ,5.32587,5.47701,5.70489,5.85716, 6.00499,6.15234,6.29973,6.44866,6.59575 ,6.74459,6.96748,7.11412,7.25888, 7.40269,7.54753,7.76591,7.9118,8.05576, 8.19954,8.34026,8.48177,8.62349,8.76526 ,8.97823,9.12027,9.26194,9.47375, 9.61234,9.81975,9.95835,10.1664,10.3742 ,10.5825,10.7901,10.9929)
FOOTPRINT_POINT_LONGITUDE = (188.102,187.93,187.682,187.438,187.196 ,186.957,186.721,186.543,186.536, 186.533,186.528,186.524,186.518,186.511 ,186.507,186.502,186.498,186.493, 186.487,186.483,186.478,186.474,186.47, 186.466,186.462,186.458,186.454,186.45, 186.444,186.438,186.434,186.427,186.421 ,186.415,186.41,186.404,186.399,186.395 ,186.388,186.384,186.379,186.374,186.37 ,186.365,186.36,186.355,186.35,186.345, 186.407,186.658,186.86,187.115,187.407, 187.616,187.895,188.114,188.114,188.115 ,188.115,188.115,188.115,188.115, 188.115,188.115,188.115,188.115,188.115 ,188.114,188.113,188.114,188.114, 188.115,188.114,188.115,188.115,188.114 ,188.114,188.114,188.115,188.115, 188.115,188.115,188.116,188.116,188.117 ,188.118,188.118,188.118,188.119, 188.119,188.12,188.12,188.12,188.121, 188.122,188.123,188.123,188.124,188.125 ,188.102)
ORBIT_NUMBER = 11535
ORBITAL_ECCENTRICITY = 0.574
ORBITAL_INCLINATION = 86.9
ORBITAL_SEMIMAJOR_AXIS = 8822.14
PERIAPSIS_ALTITUDE = 363.44
PERIAPSIS_ARGUMENT_ANGLE = 148.67
PERIAPSIS_TIME = 2013-01-24T17:11:12.000Z
SPACECRAFT_ORIENTATION = (0.0,-1.0,0.0)
^MEX_ORIENTATION_DESC = "MEX_ORIENTATION_DESC.TXT"
SPACECRAFT_POINTING_MODE = ACROSSTRACK
^MEX_POINTING_DESC = "MEX_POINTING_DESC.TXT"
RIGHT_ASCENSION = -1e+32
DECLINATION = -1e+32
OFFSET_ANGLE = 1.078
SPACECRAFT_SOLAR_DISTANCE = 2.06669e+08
TARGET_NAME = MARS
/* CAMERA DATA ELEMENTS */
DETECTOR_TEMPERATURE = 17.9627
FOCAL_PLANE_TEMPERATURE = 8.7872
INST_CMPRS_NAME = "DISCRETE COSINE TRANSFORMATION (DCT)"
INST_CMPRS_RATIO = 10.6463
INST_CMPRS_QUALITY = 0
INST_CMPRS_QUANTZ_TBL_ID = 0
INSTRUMENT_TEMPERATURE = 12.0496
LENS_TEMPERATURE = 9.6028
MACROPIXEL_SIZE = 2
MISSING_FRAMES = 1
PIXEL_SUBSAMPLING_FLAG = N
SIGNAL_CHAIN_ID = 1
/* RADIOMETRIC DATA ELEMENTS */
BANDWIDTH = 180.0
CENTER_FILTER_WAVELENGTH = 677.0
RADIANCE_OFFSET = 5.24017
RADIANCE_SCALING_FACTOR = 0.00934076
REFLECTANCE_SCALING_FACTOR = 0.000208149
MEX:REFLECTANCE_OFFSET = 0.116771
/* IMAGE OBJECT DEFINITIONS */
OBJECT = IMAGE
  INTERCHANGE_FORMAT = BINARY
  LINES = 17419
  LINE_SAMPLES = 4627
  SAMPLE_TYPE = UNSIGNED_INTEGER
  SAMPLE_BITS = 8
  BANDS = 1
  BAND_STORAGE_TYPE = BAND_SEQUENTIAL
  MAXIMUM = 255
  MEAN = 98.7039
  MINIMUM = 1
  STANDARD_DEVIATION = 34.9937
END_OBJECT = IMAGE
/* MAP OBJECT DEFINITIONS */
OBJECT = IMAGE_MAP_PROJECTION
  ^DATA_SET_MAP_PROJECTION_CATALOG= "DSMAP.CAT"
  A_AXIS_RADIUS = 3396.0
  B_AXIS_RADIUS = 3396.0
  C_AXIS_RADIUS = 3396.0
  CENTER_LATITUDE = 0.0
  CENTER_LONGITUDE = 187.0
  COORDINATE_SYSTEM_NAME = PLANETOGRAPHIC
  COORDINATE_SYSTEM_TYPE = "BODY-FIXED ROTATING"
  EASTERNMOST_LONGITUDE = 188.125
  FIRST_STANDARD_PARALLEL = "N/A"
  LINE_FIRST_PIXEL = 1
  LINE_LAST_PIXEL = 17419
  LINE_PROJECTION_OFFSET = 26226.25
  MAP_PROJECTION_ROTATION = 0.0
  MAP_PROJECTION_TYPE = SINUSOIDAL
  MAP_RESOLUTION = 2370.85521546667
  MAP_SCALE = 0.025
  MAXIMUM_LATITUDE = 11.0888
  MINIMUM_LATITUDE = 3.63469
  POSITIVE_LONGITUDE_DIRECTION = EAST
  REFERENCE_LATITUDE = "N/A"
  REFERENCE_LONGITUDE = "N/A"
  SAMPLE_FIRST_PIXEL = 1
  SAMPLE_LAST_PIXEL = 4627
  SAMPLE_PROJECTION_OFFSET = 1713.75
  SECOND_STANDARD_PARALLEL = "N/A"
  WESTERNMOST_LONGITUDE = 186.345
END_OBJECT = IMAGE_MAP_PROJECTION
/* The JPEG2000 image data file associated with this label. */
OBJECT = COMPRESSED_FILE
  FILE_NAME = "HB535_0000_S13.JP2"
  RECORD_TYPE = UNDEFINED
  FILE_RECORDS = UNK
  ENCODING_TYPE = "JP2"
  INTERCHANGE_FORMAT = BINARY
  UNCOMPRESSED_FILE_NAME = "HB535_0000_S13.IMG"
  REQUIRED_STORAGE_BYTES = "80620848"
  ^DESCRIPTION = "JP2INFO.TXT"
END_OBJECT = COMPRESSED_FILE
END
