PDS_VERSION_ID = PDS3
/* FILE DATA ELEMENTS */
RECORD_TYPE = STREAM
/* POINTERS TO DATA OBJECTS */
^COMPRESSED_FILE = "HB537_0000_S13.JP2"
/* IDENTIFICATION DATA ELEMENTS */
DATA_SET_ID = "MEX-M-HRSC-5-REFDR-MAPPROJECTED-V3.0"
DATA_SET_NAME = "MARS EXPRESS HRSC MAP PROJECTED REFDR V3.0"
DETECTOR_ID = MEX_HRSC_S1
EVENT_TYPE = "MARS-REGIONAL-MAPPING-Fl-La"
INSTRUMENT_HOST_ID = MEX
INSTRUMENT_HOST_NAME = "MARS EXPRESS"
INSTRUMENT_ID = HRSC
INSTRUMENT_NAME = "HIGH RESOLUTION STEREO CAMERA"
MISSION_NAME = "MARS EXPRESS"
MISSION_PHASE_NAME = ME_Phase_27
PROCESSING_LEVEL_ID = 3
PRODUCT_CREATION_TIME = 2016-10-28T05:53:57.000Z
PRODUCT_ID = "HB537_0000_S13.JP2"
RELEASE_ID = 0114
REVISION_ID = 0000
/* QUALITY DATA ELEMENTS */
DATA_QUALITY_ID = 1
DATA_QUALITY_DESC = "Data calculated based on original SPICE kernels"
/* TIME DATA ELEMENTS */
SPACECRAFT_CLOCK_START_COUNT = "1/0307178002.09035"
SPACECRAFT_CLOCK_STOP_COUNT = "1/0307178241.50545"
START_TIME = 2013-01-25T07:13:25.622Z
STOP_TIME = 2013-01-25T07:15:45.699Z
/* ORBITAL DATA ELEMENTS */
ASCENDING_NODE_LONGITUDE = 357.33
MAXIMUM_RESOLUTION = 34.3
FOOTPRINT_POINT_LATITUDE = (15.4691,15.4626,15.4555,15.4479, 15.4397,15.4309,15.4215,15.2213,14.8827 ,14.7115,14.5408,14.2018,14.027,13.853, 13.6729,13.4102,13.2345,13.0594,12.8866 ,12.5503,12.3713,12.1036,11.9281, 11.7495,11.5702,11.3868,11.2063,11.0314 ,10.8508,10.6684,10.3926,10.116,9.93168 ,9.65861,9.3801,9.19164,9.00362,8.72221 ,8.53422,8.25214,8.06159,7.86818, 7.57774,7.38655,7.19603,6.99775,6.6992, 6.5085,6.31105,6.31627,6.31952,6.32529, 6.3396,6.34501,6.6386,6.93622,7.13374, 7.326,7.5179,7.71032,7.903,8.09578, 8.28747,8.47558,8.66359,8.85126,9.03948 ,9.22782,9.41589,9.6947,9.87877,10.0627 ,10.2459,10.4301,10.6141,10.8886,11.068 ,11.2478,11.4274,11.6074,11.7876, 11.9694,12.1526,12.3292,12.5036,12.7595 ,12.9339,13.1124,13.291,13.4663,13.7259 ,13.9853,14.1589,14.3287,14.4998, 14.7558,14.9267,15.0969,15.2673, 15.4691)
FOOTPRINT_POINT_LONGITUDE = (341.817,341.593,341.368,341.142, 340.914,340.684,340.452,340.385,340.384 ,340.382,340.38,340.378,340.373,340.369 ,340.363,340.359,340.357,340.355, 340.354,340.357,340.352,340.346,340.346 ,340.344,340.341,340.336,340.332, 340.331,340.328,340.324,340.319,340.313 ,340.309,340.305,340.299,340.295, 340.291,340.285,340.281,340.274,340.271 ,340.266,340.258,340.253,340.25,340.242 ,340.233,340.231,340.376,340.736, 341.013,341.225,341.516,341.789,341.905 ,341.904,341.903,341.902,341.902, 341.901,341.9,341.899,341.899,341.898, 341.898,341.897,341.896,341.896,341.895 ,341.894,341.893,341.893,341.892, 341.891,341.891,341.89,341.889,341.888, 341.888,341.887,341.887,341.886,341.885 ,341.885,341.884,341.883,341.883, 341.882,341.881,341.88,341.88,341.879, 341.878,341.877,341.877,341.876,341.875 ,341.874,341.874,341.817)
ORBIT_NUMBER = 11537
ORBITAL_ECCENTRICITY = 0.575
ORBITAL_INCLINATION = 86.89
ORBITAL_SEMIMAJOR_AXIS = 8823.32
PERIAPSIS_ALTITUDE = 363.61
PERIAPSIS_ARGUMENT_ANGLE = 148.3
PERIAPSIS_TIME = 2013-01-25T07:09:49.000Z
SPACECRAFT_ORIENTATION = (0.0,-1.0,0.0)
^MEX_ORIENTATION_DESC = "MEX_ORIENTATION_DESC.TXT"
SPACECRAFT_POINTING_MODE = ACROSSTRACK
^MEX_POINTING_DESC = "MEX_POINTING_DESC.TXT"
RIGHT_ASCENSION = -1e+32
DECLINATION = -1e+32
OFFSET_ANGLE = -0.65
SPACECRAFT_SOLAR_DISTANCE = 2.06669e+08
TARGET_NAME = MARS
/* CAMERA DATA ELEMENTS */
DETECTOR_TEMPERATURE = 18.1666
FOCAL_PLANE_TEMPERATURE = 9.195
INST_CMPRS_NAME = "DISCRETE COSINE TRANSFORMATION (DCT)"
INST_CMPRS_RATIO = 9.07368
INST_CMPRS_QUALITY = 0
INST_CMPRS_QUANTZ_TBL_ID = 0
INSTRUMENT_TEMPERATURE = 11.8457
LENS_TEMPERATURE = 9.6028
MACROPIXEL_SIZE = 2
MISSING_FRAMES = 0
PIXEL_SUBSAMPLING_FLAG = N
SIGNAL_CHAIN_ID = 1
/* RADIOMETRIC DATA ELEMENTS */
BANDWIDTH = 180.0
CENTER_FILTER_WAVELENGTH = 677.0
RADIANCE_OFFSET = 4.14484
RADIANCE_SCALING_FACTOR = 0.0114579
REFLECTANCE_SCALING_FACTOR = 0.000255329
MEX:REFLECTANCE_OFFSET = 0.0923639
/* IMAGE OBJECT DEFINITIONS */
OBJECT = IMAGE
  INTERCHANGE_FORMAT = BINARY
  LINES = 21579
  LINE_SAMPLES = 4331
  SAMPLE_TYPE = UNSIGNED_INTEGER
  SAMPLE_BITS = 8
  BANDS = 1
  BAND_STORAGE_TYPE = BAND_SEQUENTIAL
  MAXIMUM = 255
  MEAN = 96.3559
  MINIMUM = 1
  STANDARD_DEVIATION = 37.3067
END_OBJECT = IMAGE
/* MAP OBJECT DEFINITIONS */
OBJECT = IMAGE_MAP_PROJECTION
  ^DATA_SET_MAP_PROJECTION_CATALOG= "DSMAP.CAT"
  A_AXIS_RADIUS = 3396.0
  B_AXIS_RADIUS = 3396.0
  C_AXIS_RADIUS = 3396.0
  CENTER_LATITUDE = 0.0
  CENTER_LONGITUDE = 341.0
  COORDINATE_SYSTEM_NAME = PLANETOGRAPHIC
  COORDINATE_SYSTEM_TYPE = "BODY-FIXED ROTATING"
  EASTERNMOST_LONGITUDE = 341.905
  FIRST_STANDARD_PARALLEL = "N/A"
  LINE_FIRST_PIXEL = 1
  LINE_LAST_PIXEL = 21579
  LINE_PROJECTION_OFFSET = 36631.25
  MAP_PROJECTION_ROTATION = 0.0
  MAP_PROJECTION_TYPE = SINUSOIDAL
  MAP_RESOLUTION = 2370.85521546667
  MAP_SCALE = 0.025
  MAXIMUM_LATITUDE = 15.4691
  MINIMUM_LATITUDE = 6.31105
  POSITIVE_LONGITUDE_DIRECTION = EAST
  REFERENCE_LATITUDE = "N/A"
  REFERENCE_LONGITUDE = "N/A"
  SAMPLE_FIRST_PIXEL = 1
  SAMPLE_LAST_PIXEL = 4331
  SAMPLE_PROJECTION_OFFSET = 2064.25
  SECOND_STANDARD_PARALLEL = "N/A"
  WESTERNMOST_LONGITUDE = 340.231
END_OBJECT = IMAGE_MAP_PROJECTION
/* The JPEG2000 image data file associated with this label. */
OBJECT = COMPRESSED_FILE
  FILE_NAME = "HB537_0000_S13.JP2"
  RECORD_TYPE = UNDEFINED
  FILE_RECORDS = UNK
  ENCODING_TYPE = "JP2"
  INTERCHANGE_FORMAT = BINARY
  UNCOMPRESSED_FILE_NAME = "HB537_0000_S13.IMG"
  REQUIRED_STORAGE_BYTES = "93484635"
  ^DESCRIPTION = "JP2INFO.TXT"
END_OBJECT = COMPRESSED_FILE
END
