PDS_VERSION_ID = PDS3
/* FILE DATA ELEMENTS */
RECORD_TYPE = STREAM
/* POINTERS TO DATA OBJECTS */
^COMPRESSED_FILE = "HB553_0000_P23.JP2"
/* IDENTIFICATION DATA ELEMENTS */
DATA_SET_ID = "MEX-M-HRSC-5-REFDR-MAPPROJECTED-V3.0"
DATA_SET_NAME = "MARS EXPRESS HRSC MAP PROJECTED REFDR V3.0"
DETECTOR_ID = MEX_HRSC_P2
EVENT_TYPE = "MARS-LOCAL-STEREO-Vo-Ot"
INSTRUMENT_HOST_ID = MEX
INSTRUMENT_HOST_NAME = "MARS EXPRESS"
INSTRUMENT_ID = HRSC
INSTRUMENT_NAME = "HIGH RESOLUTION STEREO CAMERA"
MISSION_NAME = "MARS EXPRESS"
MISSION_PHASE_NAME = ME_Phase_27
PROCESSING_LEVEL_ID = 3
PRODUCT_CREATION_TIME = 2016-10-28T05:53:57.000Z
PRODUCT_ID = "HB553_0000_P23.JP2"
RELEASE_ID = 0114
REVISION_ID = 0000
/* QUALITY DATA ELEMENTS */
DATA_QUALITY_ID = 1
DATA_QUALITY_DESC = "Data calculated based on original SPICE kernels"
/* TIME DATA ELEMENTS */
SPACECRAFT_CLOCK_START_COUNT = "1/0307580734.09035"
SPACECRAFT_CLOCK_STOP_COUNT = "1/0307580960.39683"
START_TIME = 2013-01-29T23:06:57.965Z
STOP_TIME = 2013-01-29T23:08:56.979Z
/* ORBITAL DATA ELEMENTS */
ASCENDING_NODE_LONGITUDE = 357.02
MAXIMUM_RESOLUTION = 43.9
FOOTPRINT_POINT_LATITUDE = (8.4038,8.4091,8.41447,8.41988,8.42538, 8.43094,8.43657,8.44229,8.4481,8.45397, 8.45991,8.46591,8.472,8.36922,8.12521, 7.88183,7.63466,7.38728,7.14089,6.95291 ,6.70255,6.32588,6.07209,5.8188,5.69057 ,5.49993,5.30543,5.17732,5.04765, 4.91744,4.78745,4.65766,4.52808,4.39662 ,4.26493,4.13343,3.93623,3.73665, 3.60355,3.4706,3.33783,3.20314,3.06901, 2.93449,2.80016,2.66445,2.5282,2.39204, 2.25605,2.11903,2.00512,1.9963,1.98872, 1.9764,1.96895,1.96165,1.95432,1.9472, 1.93778,1.93131,1.92495,1.91863,2.12354 ,2.25973,2.39616,2.53278,2.66958, 2.80427,2.93913,3.07415,3.27648,3.40965 ,3.54302,3.6766,3.87634,4.00801,4.13982 ,4.27182,4.46931,4.59937,4.72957, 4.85975,4.99038,5.12012,5.24862,5.3773, 5.50613,5.6351,5.76315,6.01712,6.1443, 6.39838,6.64876,6.89999,7.08797,7.33517 ,7.583,7.89115,8.13534,8.4038)
FOOTPRINT_POINT_LONGITUDE = (146.247,146.103,145.959,145.814, 145.669,145.523,145.376,145.229,145.081 ,144.933,144.784,144.634,144.483, 144.365,144.358,144.35,144.342,144.335, 144.327,144.32,144.312,144.299,144.29, 144.281,144.277,144.268,144.263,144.258 ,144.253,144.248,144.243,144.239, 144.234,144.228,144.223,144.218,144.211 ,144.203,144.197,144.192,144.186, 144.181,144.175,144.169,144.163,144.158 ,144.152,144.146,144.14,144.134,144.195 ,144.394,144.569,144.853,145.026, 145.199,145.372,145.544,145.779,145.95, 146.119,146.289,146.357,146.356,146.354 ,146.352,146.35,146.349,146.347,146.345 ,146.343,146.341,146.339,146.338, 146.335,146.334,146.332,146.331,146.328 ,146.327,146.325,146.324,146.322,146.32 ,146.319,146.318,146.316,146.315, 146.313,146.31,146.309,146.306,146.303, 146.3,146.298,146.295,146.293,146.289, 146.287,146.247)
ORBIT_NUMBER = 11553
ORBITAL_ECCENTRICITY = 0.574
ORBITAL_INCLINATION = 86.88
ORBITAL_SEMIMAJOR_AXIS = 8823.02
PERIAPSIS_ALTITUDE = 365.95
PERIAPSIS_ARGUMENT_ANGLE = 145.57
PERIAPSIS_TIME = 2013-01-29T22:59:30.000Z
SPACECRAFT_ORIENTATION = (0.0,-1.0,0.0)
^MEX_ORIENTATION_DESC = "MEX_ORIENTATION_DESC.TXT"
SPACECRAFT_POINTING_MODE = ACROSSTRACK
^MEX_POINTING_DESC = "MEX_POINTING_DESC.TXT"
RIGHT_ASCENSION = -1e+32
DECLINATION = -1e+32
OFFSET_ANGLE = -0.916
SPACECRAFT_SOLAR_DISTANCE = 2.06702e+08
TARGET_NAME = MARS
/* CAMERA DATA ELEMENTS */
DETECTOR_TEMPERATURE = 18.5744
FOCAL_PLANE_TEMPERATURE = 8.7872
INST_CMPRS_NAME = "DISCRETE COSINE TRANSFORMATION (DCT)"
INST_CMPRS_RATIO = 7.38356
INST_CMPRS_QUALITY = 0
INST_CMPRS_QUANTZ_TBL_ID = 0
INSTRUMENT_TEMPERATURE = 9.3989
LENS_TEMPERATURE = 8.5833
MACROPIXEL_SIZE = 2
MISSING_FRAMES = 0
PIXEL_SUBSAMPLING_FLAG = N
SIGNAL_CHAIN_ID = 3
/* RADIOMETRIC DATA ELEMENTS */
BANDWIDTH = 177.0
CENTER_FILTER_WAVELENGTH = 676.5
RADIANCE_OFFSET = 5.00938
RADIANCE_SCALING_FACTOR = 0.0113049
REFLECTANCE_SCALING_FACTOR = 0.000256104
MEX:REFLECTANCE_OFFSET = 0.113484
/* IMAGE OBJECT DEFINITIONS */
OBJECT = IMAGE
  INTERCHANGE_FORMAT = BINARY
  LINES = 7734
  LINE_SAMPLES = 2566
  SAMPLE_TYPE = UNSIGNED_INTEGER
  SAMPLE_BITS = 8
  BANDS = 1
  BAND_STORAGE_TYPE = BAND_SEQUENTIAL
  MAXIMUM = 255
  MEAN = 135.904
  MINIMUM = 1
  STANDARD_DEVIATION = 31.2242
END_OBJECT = IMAGE
/* MAP OBJECT DEFINITIONS */
OBJECT = IMAGE_MAP_PROJECTION
  ^DATA_SET_MAP_PROJECTION_CATALOG= "DSMAP.CAT"
  A_AXIS_RADIUS = 3396.0
  B_AXIS_RADIUS = 3396.0
  C_AXIS_RADIUS = 3396.0
  CENTER_LATITUDE = 0.0
  CENTER_LONGITUDE = 145.0
  COORDINATE_SYSTEM_NAME = PLANETOGRAPHIC
  COORDINATE_SYSTEM_TYPE = "BODY-FIXED ROTATING"
  EASTERNMOST_LONGITUDE = 146.357
  FIRST_STANDARD_PARALLEL = "N/A"
  LINE_FIRST_PIXEL = 1
  LINE_LAST_PIXEL = 7734
  LINE_PROJECTION_OFFSET = 10003.25
  MAP_PROJECTION_ROTATION = 0.0
  MAP_PROJECTION_TYPE = SINUSOIDAL
  MAP_RESOLUTION = 1185.42760773333
  MAP_SCALE = 0.05
  MAXIMUM_LATITUDE = 8.472
  MINIMUM_LATITUDE = 1.91863
  POSITIVE_LONGITUDE_DIRECTION = EAST
  REFERENCE_LATITUDE = "N/A"
  REFERENCE_LONGITUDE = "N/A"
  SAMPLE_FIRST_PIXEL = 1
  SAMPLE_LAST_PIXEL = 2566
  SAMPLE_PROJECTION_OFFSET = 1026.75
  SECOND_STANDARD_PARALLEL = "N/A"
  WESTERNMOST_LONGITUDE = 144.134
END_OBJECT = IMAGE_MAP_PROJECTION
/* The JPEG2000 image data file associated with this label. */
OBJECT = COMPRESSED_FILE
  FILE_NAME = "HB553_0000_P23.JP2"
  RECORD_TYPE = UNDEFINED
  FILE_RECORDS = UNK
  ENCODING_TYPE = "JP2"
  INTERCHANGE_FORMAT = BINARY
  UNCOMPRESSED_FILE_NAME = "HB553_0000_P23.IMG"
  REQUIRED_STORAGE_BYTES = "19865972"
  ^DESCRIPTION = "JP2INFO.TXT"
END_OBJECT = COMPRESSED_FILE
END
