PDS_VERSION_ID = PDS3
/* FILE DATA ELEMENTS */
RECORD_TYPE = STREAM
/* POINTERS TO DATA OBJECTS */
^COMPRESSED_FILE = "HB553_0000_S13.JP2"
/* IDENTIFICATION DATA ELEMENTS */
DATA_SET_ID = "MEX-M-HRSC-5-REFDR-MAPPROJECTED-V3.0"
DATA_SET_NAME = "MARS EXPRESS HRSC MAP PROJECTED REFDR V3.0"
DETECTOR_ID = MEX_HRSC_S1
EVENT_TYPE = "MARS-LOCAL-STEREO-Vo-Ot"
INSTRUMENT_HOST_ID = MEX
INSTRUMENT_HOST_NAME = "MARS EXPRESS"
INSTRUMENT_ID = HRSC
INSTRUMENT_NAME = "HIGH RESOLUTION STEREO CAMERA"
MISSION_NAME = "MARS EXPRESS"
MISSION_PHASE_NAME = ME_Phase_27
PROCESSING_LEVEL_ID = 3
PRODUCT_CREATION_TIME = 2016-10-28T05:53:57.000Z
PRODUCT_ID = "HB553_0000_S13.JP2"
RELEASE_ID = 0114
REVISION_ID = 0000
/* QUALITY DATA ELEMENTS */
DATA_QUALITY_ID = 1
DATA_QUALITY_DESC = "Data calculated based on original SPICE kernels"
/* TIME DATA ELEMENTS */
SPACECRAFT_CLOCK_START_COUNT = "1/0307580734.09035"
SPACECRAFT_CLOCK_STOP_COUNT = "1/0307580960.39683"
START_TIME = 2013-01-29T23:05:37.620Z
STOP_TIME = 2013-01-29T23:07:19.710Z
/* ORBITAL DATA ELEMENTS */
ASCENDING_NODE_LONGITUDE = 357.02
MAXIMUM_RESOLUTION = 20.3
FOOTPRINT_POINT_LATITUDE = (8.45125,8.44721,8.443,8.43868,8.43418, 8.42951,8.42464,8.4196,8.41438,8.40898, 8.40335,8.39756,8.39158,8.30394,8.12243 ,7.87855,7.63139,7.44621,7.19917, 6.88889,6.63666,6.25872,6.06998,5.87836 ,5.75014,5.62124,5.48802,5.23678, 4.91253,4.78171,4.651,4.5203,4.38965, 4.25913,4.12748,3.92811,3.79504,3.66202 ,3.52902,3.39616,3.26181,3.12627, 2.99039,2.85482,2.65178,2.51652,2.37879 ,2.24127,2.10387,1.96673,1.87996,1.8846 ,1.88842,1.89391,1.89768,1.90186, 1.90598,1.91173,1.91552,1.9189,1.92208, 1.92511,2.13362,2.27164,2.4097,2.61593, 2.75146,2.88706,3.02275,3.15836,3.29414 ,3.42924,3.56235,3.69559,3.82885, 3.96217,4.09558,4.29469,4.42548,4.55634 ,4.6873,4.81842,5.01483,5.21036,5.33877 ,5.46728,5.59579,5.7244,5.85301,5.98169 ,6.23582,6.42533,6.74086,6.99347, 7.24163,7.42731,7.67492,8.04641,8.22816 ,8.45125)
FOOTPRINT_POINT_LONGITUDE = (146.19,146.058,145.926,145.793,145.659 ,145.525,145.39,145.255,145.119,144.982 ,144.845,144.707,144.568,144.457, 144.452,144.446,144.44,144.435,144.429, 144.42,144.414,144.403,144.398,144.392, 144.389,144.385,144.378,144.374,144.364 ,144.36,144.356,144.352,144.347,144.343 ,144.339,144.333,144.329,144.324,144.32 ,144.316,144.311,144.306,144.302, 144.297,144.29,144.285,144.28,144.276, 144.271,144.266,144.401,144.559,144.696 ,144.891,145.027,145.182,145.336, 145.548,145.7,145.853,146.004,146.155, 146.22,146.219,146.218,146.217,146.217, 146.216,146.215,146.215,146.214,146.213 ,146.213,146.212,146.212,146.211,146.21 ,146.209,146.209,146.208,146.207, 146.207,146.206,146.205,146.204,146.204 ,146.203,146.202,146.202,146.201,146.2, 146.199,146.197,146.196,146.195,146.194 ,146.193,146.191,146.19,146.19)
ORBIT_NUMBER = 11553
ORBITAL_ECCENTRICITY = 0.574
ORBITAL_INCLINATION = 86.88
ORBITAL_SEMIMAJOR_AXIS = 8823.02
PERIAPSIS_ALTITUDE = 365.95
PERIAPSIS_ARGUMENT_ANGLE = 145.57
PERIAPSIS_TIME = 2013-01-29T22:59:30.000Z
SPACECRAFT_ORIENTATION = (0.0,-1.0,0.0)
^MEX_ORIENTATION_DESC = "MEX_ORIENTATION_DESC.TXT"
SPACECRAFT_POINTING_MODE = ACROSSTRACK
^MEX_POINTING_DESC = "MEX_POINTING_DESC.TXT"
RIGHT_ASCENSION = -1e+32
DECLINATION = -1e+32
OFFSET_ANGLE = -0.916
SPACECRAFT_SOLAR_DISTANCE = 2.06702e+08
TARGET_NAME = MARS
/* CAMERA DATA ELEMENTS */
DETECTOR_TEMPERATURE = 15.9237
FOCAL_PLANE_TEMPERATURE = 8.7872
INST_CMPRS_NAME = "DISCRETE COSINE TRANSFORMATION (DCT)"
INST_CMPRS_RATIO = 9.37622
INST_CMPRS_QUALITY = 0
INST_CMPRS_QUANTZ_TBL_ID = 0
INSTRUMENT_TEMPERATURE = 9.3989
LENS_TEMPERATURE = 8.5833
MACROPIXEL_SIZE = 1
MISSING_FRAMES = 0
PIXEL_SUBSAMPLING_FLAG = N
SIGNAL_CHAIN_ID = 2
/* RADIOMETRIC DATA ELEMENTS */
BANDWIDTH = 180.0
CENTER_FILTER_WAVELENGTH = 677.0
RADIANCE_OFFSET = 5.35873
RADIANCE_SCALING_FACTOR = 0.0120084
REFLECTANCE_SCALING_FACTOR = 0.00026768
MEX:REFLECTANCE_OFFSET = 0.119452
/* IMAGE OBJECT DEFINITIONS */
OBJECT = IMAGE
  INTERCHANGE_FORMAT = BINARY
  LINES = 15468
  LINE_SAMPLES = 5131
  SAMPLE_TYPE = UNSIGNED_INTEGER
  SAMPLE_BITS = 8
  BANDS = 1
  BAND_STORAGE_TYPE = BAND_SEQUENTIAL
  MAXIMUM = 255
  MEAN = 138.585
  MINIMUM = 1
  STANDARD_DEVIATION = 26.9897
END_OBJECT = IMAGE
/* MAP OBJECT DEFINITIONS */
OBJECT = IMAGE_MAP_PROJECTION
  ^DATA_SET_MAP_PROJECTION_CATALOG= "DSMAP.CAT"
  A_AXIS_RADIUS = 3396.0
  B_AXIS_RADIUS = 3396.0
  C_AXIS_RADIUS = 3396.0
  CENTER_LATITUDE = 0.0
  CENTER_LONGITUDE = 145.0
  COORDINATE_SYSTEM_NAME = PLANETOGRAPHIC
  COORDINATE_SYSTEM_TYPE = "BODY-FIXED ROTATING"
  EASTERNMOST_LONGITUDE = 146.22
  FIRST_STANDARD_PARALLEL = "N/A"
  LINE_FIRST_PIXEL = 1
  LINE_LAST_PIXEL = 15468
  LINE_PROJECTION_OFFSET = 20007.0
  MAP_PROJECTION_ROTATION = 0.0
  MAP_PROJECTION_TYPE = SINUSOIDAL
  MAP_RESOLUTION = 2370.85521546667
  MAP_SCALE = 0.025
  MAXIMUM_LATITUDE = 8.45125
  MINIMUM_LATITUDE = 1.87996
  POSITIVE_LONGITUDE_DIRECTION = EAST
  REFERENCE_LATITUDE = "N/A"
  REFERENCE_LONGITUDE = "N/A"
  SAMPLE_FIRST_PIXEL = 1
  SAMPLE_LAST_PIXEL = 5131
  SAMPLE_PROJECTION_OFFSET = 2054.0
  SECOND_STANDARD_PARALLEL = "N/A"
  WESTERNMOST_LONGITUDE = 144.266
END_OBJECT = IMAGE_MAP_PROJECTION
/* The JPEG2000 image data file associated with this label. */
OBJECT = COMPRESSED_FILE
  FILE_NAME = "HB553_0000_S13.JP2"
  RECORD_TYPE = UNDEFINED
  FILE_RECORDS = UNK
  ENCODING_TYPE = "JP2"
  INTERCHANGE_FORMAT = BINARY
  UNCOMPRESSED_FILE_NAME = "HB553_0000_S13.IMG"
  REQUIRED_STORAGE_BYTES = "79391963"
  ^DESCRIPTION = "JP2INFO.TXT"
END_OBJECT = COMPRESSED_FILE
END
