PDS_VERSION_ID = PDS3
/* FILE DATA ELEMENTS */
RECORD_TYPE = STREAM
/* POINTERS TO DATA OBJECTS */
^COMPRESSED_FILE = "HB558_0000_S13.JP2"
/* IDENTIFICATION DATA ELEMENTS */
DATA_SET_ID = "MEX-M-HRSC-5-REFDR-MAPPROJECTED-V3.0"
DATA_SET_NAME = "MARS EXPRESS HRSC MAP PROJECTED REFDR V3.0"
DETECTOR_ID = MEX_HRSC_S1
EVENT_TYPE = "MARS-REGIONAL-MAPPING-Im-Fl-La"
INSTRUMENT_HOST_ID = MEX
INSTRUMENT_HOST_NAME = "MARS EXPRESS"
INSTRUMENT_ID = HRSC
INSTRUMENT_NAME = "HIGH RESOLUTION STEREO CAMERA"
MISSION_NAME = "MARS EXPRESS"
MISSION_PHASE_NAME = ME_Phase_27
PROCESSING_LEVEL_ID = 3
PRODUCT_CREATION_TIME = 2016-10-28T05:53:57.000Z
PRODUCT_ID = "HB558_0000_S13.JP2"
RELEASE_ID = 0114
REVISION_ID = 0000
/* QUALITY DATA ELEMENTS */
DATA_QUALITY_ID = 1
DATA_QUALITY_DESC = "Data calculated based on original SPICE kernels"
/* TIME DATA ELEMENTS */
SPACECRAFT_CLOCK_START_COUNT = "1/0307706342.09057"
SPACECRAFT_CLOCK_STOP_COUNT = "1/0307706630.57704"
START_TIME = 2013-01-31T09:59:05.637Z
STOP_TIME = 2013-01-31T10:02:12.090Z
/* ORBITAL DATA ELEMENTS */
ASCENDING_NODE_LONGITUDE = 356.93
MAXIMUM_RESOLUTION = 33.6
FOOTPRINT_POINT_LATITUDE = (21.8233,21.8498,21.8751,21.8992, 21.9222,21.9441,21.8209,21.4821,21.2563 ,21.0308,20.6925,20.4669,20.2396, 20.0154,19.7879,19.5641,19.3329,19.0958 ,18.7497,18.5245,18.2893,18.0611,17.829 ,17.4756,17.1196,16.8809,16.5266, 16.2899,15.9293,15.686,15.4443,15.2011, 14.957,14.7156,14.4688,14.2225,13.974, 13.7261,13.3442,13.0885,12.8343,12.5808 ,12.334,11.9556,11.6965,11.3085,10.9178 ,10.5227,10.258,9.86079,9.79846,9.75919 ,9.72846,9.68728,9.65988,9.92554, 10.3228,10.7208,10.9787,11.2381,11.4975 ,11.7573,12.0134,12.2676,12.6492, 12.9035,13.1561,13.4048,13.6532,13.9022 ,14.15,14.522,14.7647,15.0085,15.2514, 15.4941,15.7374,15.9798,16.2162,16.4539 ,16.6918,16.928,17.1654,17.5212,17.7541 ,17.9854,18.3324,18.565,18.9124,19.1364 ,19.3691,19.7095,19.9409,20.1666,20.392 ,20.618,20.9564,21.1822,21.5212, 21.8233)
FOOTPRINT_POINT_LONGITUDE = (357.814,357.56,357.31,357.066,356.826, 356.59,356.367,356.361,356.357,356.353, 356.347,356.343,356.339,356.334,356.33, 356.325,356.32,356.318,356.31,356.303, 356.3,356.293,356.289,356.281,356.273, 356.268,356.259,356.253,356.245,356.239 ,356.233,356.227,356.222,356.215, 356.209,356.202,356.196,356.189,356.183 ,356.177,356.17,356.163,356.154,356.142 ,356.135,356.123,356.113,356.101, 356.093,356.082,356.393,356.83,357.158, 357.58,357.857,357.857,357.859,357.86, 357.862,357.864,357.865,357.867,357.868 ,357.869,357.871,357.873,357.875, 357.877,357.878,357.88,357.883,357.885, 357.887,357.888,357.89,357.893,357.895, 357.897,357.9,357.902,357.904,357.907, 357.91,357.914,357.916,357.919,357.923, 357.924,357.928,357.939,357.941,357.943 ,357.94,357.943,357.946,357.949,357.953 ,357.956,357.96,357.814)
ORBIT_NUMBER = 11558
ORBITAL_ECCENTRICITY = 0.574
ORBITAL_INCLINATION = 86.89
ORBITAL_SEMIMAJOR_AXIS = 8819.49
PERIAPSIS_ALTITUDE = 366.26
PERIAPSIS_ARGUMENT_ANGLE = 144.67
PERIAPSIS_TIME = 2013-01-31T09:56:13.000Z
SPACECRAFT_ORIENTATION = (0.0,-1.0,0.0)
^MEX_ORIENTATION_DESC = "MEX_ORIENTATION_DESC.TXT"
SPACECRAFT_POINTING_MODE = ACROSSTRACK
^MEX_POINTING_DESC = "MEX_POINTING_DESC.TXT"
RIGHT_ASCENSION = -1e+32
DECLINATION = -1e+32
OFFSET_ANGLE = 1.65
SPACECRAFT_SOLAR_DISTANCE = 2.06722e+08
TARGET_NAME = MARS
/* CAMERA DATA ELEMENTS */
DETECTOR_TEMPERATURE = 18.3705
FOCAL_PLANE_TEMPERATURE = 8.5833
INST_CMPRS_NAME = "DISCRETE COSINE TRANSFORMATION (DCT)"
INST_CMPRS_RATIO = 9.07753
INST_CMPRS_QUALITY = 0
INST_CMPRS_QUANTZ_TBL_ID = 0
INSTRUMENT_TEMPERATURE = 12.2535
LENS_TEMPERATURE = 9.3989
MACROPIXEL_SIZE = 2
MISSING_FRAMES = 0
PIXEL_SUBSAMPLING_FLAG = N
SIGNAL_CHAIN_ID = 1
/* RADIOMETRIC DATA ELEMENTS */
BANDWIDTH = 180.0
CENTER_FILTER_WAVELENGTH = 677.0
RADIANCE_OFFSET = 4.05064
RADIANCE_SCALING_FACTOR = 0.01276
REFLECTANCE_SCALING_FACTOR = 0.000284489
MEX:REFLECTANCE_OFFSET = 0.0903109
/* IMAGE OBJECT DEFINITIONS */
OBJECT = IMAGE
  INTERCHANGE_FORMAT = BINARY
  LINES = 28765
  LINE_SAMPLES = 4680
  SAMPLE_TYPE = UNSIGNED_INTEGER
  SAMPLE_BITS = 8
  BANDS = 1
  BAND_STORAGE_TYPE = BAND_SEQUENTIAL
  MAXIMUM = 255
  MEAN = 101.22
  MINIMUM = 1
  STANDARD_DEVIATION = 42.0978
END_OBJECT = IMAGE
/* MAP OBJECT DEFINITIONS */
OBJECT = IMAGE_MAP_PROJECTION
  ^DATA_SET_MAP_PROJECTION_CATALOG= "DSMAP.CAT"
  A_AXIS_RADIUS = 3396.0
  B_AXIS_RADIUS = 3396.0
  C_AXIS_RADIUS = 3396.0
  CENTER_LATITUDE = 0.0
  CENTER_LONGITUDE = 357.0
  COORDINATE_SYSTEM_NAME = PLANETOGRAPHIC
  COORDINATE_SYSTEM_TYPE = "BODY-FIXED ROTATING"
  EASTERNMOST_LONGITUDE = 357.96
  FIRST_STANDARD_PARALLEL = "N/A"
  LINE_FIRST_PIXEL = 1
  LINE_LAST_PIXEL = 28765
  LINE_PROJECTION_OFFSET = 51882.25
  MAP_PROJECTION_ROTATION = 0.0
  MAP_PROJECTION_TYPE = SINUSOIDAL
  MAP_RESOLUTION = 2370.85521546667
  MAP_SCALE = 0.025
  MAXIMUM_LATITUDE = 21.9441
  MINIMUM_LATITUDE = 9.659879999999999
  POSITIVE_LONGITUDE_DIRECTION = EAST
  REFERENCE_LATITUDE = "N/A"
  REFERENCE_LONGITUDE = "N/A"
  SAMPLE_FIRST_PIXEL = 1
  SAMPLE_LAST_PIXEL = 4680
  SAMPLE_PROJECTION_OFFSET = 2310.25
  SECOND_STANDARD_PARALLEL = "N/A"
  WESTERNMOST_LONGITUDE = 356.082
END_OBJECT = IMAGE_MAP_PROJECTION
/* The JPEG2000 image data file associated with this label. */
OBJECT = COMPRESSED_FILE
  FILE_NAME = "HB558_0000_S13.JP2"
  RECORD_TYPE = UNDEFINED
  FILE_RECORDS = UNK
  ENCODING_TYPE = "JP2"
  INTERCHANGE_FORMAT = BINARY
  UNCOMPRESSED_FILE_NAME = "HB558_0000_S13.IMG"
  REQUIRED_STORAGE_BYTES = "134643600"
  ^DESCRIPTION = "JP2INFO.TXT"
END_OBJECT = COMPRESSED_FILE
END
