PDS_VERSION_ID = PDS3
/* FILE DATA ELEMENTS */
RECORD_TYPE = STREAM
/* POINTERS TO DATA OBJECTS */
^COMPRESSED_FILE = "HB592_0000_IR3.JP2"
/* IDENTIFICATION DATA ELEMENTS */
DATA_SET_ID = "MEX-M-HRSC-5-REFDR-MAPPROJECTED-V3.0"
DATA_SET_NAME = "MARS EXPRESS HRSC MAP PROJECTED REFDR V3.0"
DETECTOR_ID = MEX_HRSC_IR
EVENT_TYPE = "MARS-REGIONAL-MAPPING-Vo-Fl-Pf"
INSTRUMENT_HOST_ID = MEX
INSTRUMENT_HOST_NAME = "MARS EXPRESS"
INSTRUMENT_ID = HRSC
INSTRUMENT_NAME = "HIGH RESOLUTION STEREO CAMERA"
MISSION_NAME = "MARS EXPRESS"
MISSION_PHASE_NAME = ME_Phase_27
PROCESSING_LEVEL_ID = 3
PRODUCT_CREATION_TIME = 2016-10-28T05:53:57.000Z
PRODUCT_ID = "HB592_0000_IR3.JP2"
RELEASE_ID = 0114
REVISION_ID = 0000
/* QUALITY DATA ELEMENTS */
DATA_QUALITY_ID = 1
DATA_QUALITY_DESC = "Data calculated based on original SPICE kernels"
/* TIME DATA ELEMENTS */
SPACECRAFT_CLOCK_START_COUNT = "1/0308561526.09043"
SPACECRAFT_CLOCK_STOP_COUNT = "1/0308561848.16680"
START_TIME = 2013-02-10T07:32:15.722Z
STOP_TIME = 2013-02-10T07:36:22.519Z
/* ORBITAL DATA ELEMENTS */
ASCENDING_NODE_LONGITUDE = 356.28
MAXIMUM_RESOLUTION = 62.3
FOOTPRINT_POINT_LATITUDE = (45.1149,45.1108,45.1028,45.0943, 45.0869,44.9968,44.6614,44.3258,43.9895 ,43.6528,43.3159,42.9789,42.641,42.303, 41.9642,41.4938,41.0675,40.7832,40.4983 ,40.2132,39.9282,39.6431,39.3581, 39.0723,38.786,38.5,38.071,37.7847, 37.3556,37.0691,36.6385,36.3514,36.0644 ,35.7772,35.4899,35.1719,34.829,34.4855 ,33.9705,33.6269,33.1114,32.5956, 32.2516,31.9074,31.3909,31.0465,30.53, 30.1859,29.6699,29.3257,29.1171,29.1207 ,29.1244,29.1256,29.1269,29.4717,29.989 ,30.3339,30.8512,31.1961,31.5408, 31.8855,32.4024,32.7471,33.0915,33.4359 ,33.9524,34.2966,34.6412,34.9849, 35.4813,35.7691,36.057,36.4888,36.7762, 37.0636,37.3508,37.638,38.0683,38.3551, 38.6418,38.9287,39.2145,39.5008,39.7875 ,40.217,40.5022,40.9295,41.3566,41.6416 ,41.9643,42.3037,42.6428,43.151,43.4892 ,43.8268,44.1643,44.5016,44.8383, 45.1149)
FOOTPRINT_POINT_LONGITUDE = (120.597,120.342,119.935,119.579, 119.308,118.746,118.769,118.791,118.813 ,118.834,118.854,118.875,118.894, 118.913,118.931,118.955,118.976,118.99, 119.003,119.016,119.028,119.041,119.053 ,119.064,119.075,119.086,119.102, 119.112,119.127,119.136,119.15,119.158, 119.166,119.174,119.182,119.19,119.199, 119.207,119.219,119.226,119.236,119.245 ,119.251,119.256,119.263,119.267, 119.273,119.277,119.282,119.285,119.461 ,119.768,120.236,120.631,120.855, 120.852,120.848,120.845,120.841,120.838 ,120.835,120.831,120.827,120.823,120.82 ,120.817,120.811,120.808,120.804,120.8, 120.794,120.791,120.787,120.782,120.778 ,120.775,120.771,120.767,120.761, 120.757,120.753,120.749,120.745,120.74, 120.736,120.728,120.724,120.717,120.71, 120.705,120.699,120.693,120.686,120.676 ,120.67,120.663,120.656,120.649,120.641 ,120.597)
ORBIT_NUMBER = 11592
ORBITAL_ECCENTRICITY = 0.574
ORBITAL_INCLINATION = 86.89
ORBITAL_SEMIMAJOR_AXIS = 8816.8
PERIAPSIS_ALTITUDE = 369.53
PERIAPSIS_ARGUMENT_ANGLE = 138.8
PERIAPSIS_TIME = 2013-02-10T07:33:44.000Z
SPACECRAFT_ORIENTATION = (0.0,-1.0,0.0)
^MEX_ORIENTATION_DESC = "MEX_ORIENTATION_DESC.TXT"
SPACECRAFT_POINTING_MODE = NADIR
^MEX_POINTING_DESC = "MEX_POINTING_DESC.TXT"
RIGHT_ASCENSION = -1e+32
DECLINATION = -1e+32
OFFSET_ANGLE = -1e+32
SPACECRAFT_SOLAR_DISTANCE = 2.06978e+08
TARGET_NAME = MARS
/* CAMERA DATA ELEMENTS */
DETECTOR_TEMPERATURE = 17.7588
FOCAL_PLANE_TEMPERATURE = 8.7872
INST_CMPRS_NAME = "DISCRETE COSINE TRANSFORMATION (DCT)"
INST_CMPRS_RATIO = 7.51048
INST_CMPRS_QUALITY = 0
INST_CMPRS_QUANTZ_TBL_ID = 0
INSTRUMENT_TEMPERATURE = 11.234
LENS_TEMPERATURE = 9.195
MACROPIXEL_SIZE = 4
MISSING_FRAMES = 0
PIXEL_SUBSAMPLING_FLAG = N
SIGNAL_CHAIN_ID = 2
/* RADIOMETRIC DATA ELEMENTS */
BANDWIDTH = 81.0
CENTER_FILTER_WAVELENGTH = 955.5
RADIANCE_OFFSET = 0.287207
RADIANCE_SCALING_FACTOR = 0.00453409
REFLECTANCE_SCALING_FACTOR = 0.00041905
MEX:REFLECTANCE_OFFSET = 0.0265443
/* IMAGE OBJECT DEFINITIONS */
OBJECT = IMAGE
  INTERCHANGE_FORMAT = BINARY
  LINES = 18891
  LINE_SAMPLES = 1988
  SAMPLE_TYPE = UNSIGNED_INTEGER
  SAMPLE_BITS = 8
  BANDS = 1
  BAND_STORAGE_TYPE = BAND_SEQUENTIAL
  MAXIMUM = 255
  MEAN = 126.971
  MINIMUM = 1
  STANDARD_DEVIATION = 55.9952
END_OBJECT = IMAGE
/* MAP OBJECT DEFINITIONS */
OBJECT = IMAGE_MAP_PROJECTION
  ^DATA_SET_MAP_PROJECTION_CATALOG= "DSMAP.CAT"
  A_AXIS_RADIUS = 3396.0
  B_AXIS_RADIUS = 3396.0
  C_AXIS_RADIUS = 3396.0
  CENTER_LATITUDE = 0.0
  CENTER_LONGITUDE = 120.0
  COORDINATE_SYSTEM_NAME = PLANETOGRAPHIC
  COORDINATE_SYSTEM_TYPE = "BODY-FIXED ROTATING"
  EASTERNMOST_LONGITUDE = 120.855
  FIRST_STANDARD_PARALLEL = "N/A"
  LINE_FIRST_PIXEL = 1
  LINE_LAST_PIXEL = 18891
  LINE_PROJECTION_OFFSET = 53427.625
  MAP_PROJECTION_ROTATION = 0.0
  MAP_PROJECTION_TYPE = SINUSOIDAL
  MAP_RESOLUTION = 1185.42760773333
  MAP_SCALE = 0.05
  MAXIMUM_LATITUDE = 45.1149
  MINIMUM_LATITUDE = 29.1171
  POSITIVE_LONGITUDE_DIRECTION = EAST
  REFERENCE_LATITUDE = "N/A"
  REFERENCE_LONGITUDE = "N/A"
  SAMPLE_FIRST_PIXEL = 1
  SAMPLE_LAST_PIXEL = 1988
  SAMPLE_PROJECTION_OFFSET = 1067.625
  SECOND_STANDARD_PARALLEL = "N/A"
  WESTERNMOST_LONGITUDE = 118.746
END_OBJECT = IMAGE_MAP_PROJECTION
/* The JPEG2000 image data file associated with this label. */
OBJECT = COMPRESSED_FILE
  FILE_NAME = "HB592_0000_IR3.JP2"
  RECORD_TYPE = UNDEFINED
  FILE_RECORDS = UNK
  ENCODING_TYPE = "JP2"
  INTERCHANGE_FORMAT = BINARY
  UNCOMPRESSED_FILE_NAME = "HB592_0000_IR3.IMG"
  REQUIRED_STORAGE_BYTES = "37575188"
  ^DESCRIPTION = "JP2INFO.TXT"
END_OBJECT = COMPRESSED_FILE
END
