PDS_VERSION_ID = PDS3
/* FILE DATA ELEMENTS */
RECORD_TYPE = STREAM
/* POINTERS TO DATA OBJECTS */
^COMPRESSED_FILE = "HB592_0000_P13.JP2"
/* IDENTIFICATION DATA ELEMENTS */
DATA_SET_ID = "MEX-M-HRSC-5-REFDR-MAPPROJECTED-V3.0"
DATA_SET_NAME = "MARS EXPRESS HRSC MAP PROJECTED REFDR V3.0"
DETECTOR_ID = MEX_HRSC_P1
EVENT_TYPE = "MARS-REGIONAL-MAPPING-Vo-Fl-Pf"
INSTRUMENT_HOST_ID = MEX
INSTRUMENT_HOST_NAME = "MARS EXPRESS"
INSTRUMENT_ID = HRSC
INSTRUMENT_NAME = "HIGH RESOLUTION STEREO CAMERA"
MISSION_NAME = "MARS EXPRESS"
MISSION_PHASE_NAME = ME_Phase_27
PROCESSING_LEVEL_ID = 3
PRODUCT_CREATION_TIME = 2016-10-28T05:53:57.000Z
PRODUCT_ID = "HB592_0000_P13.JP2"
RELEASE_ID = 0114
REVISION_ID = 0000
/* QUALITY DATA ELEMENTS */
DATA_QUALITY_ID = 1
DATA_QUALITY_DESC = "Data calculated based on original SPICE kernels"
/* TIME DATA ELEMENTS */
SPACECRAFT_CLOCK_START_COUNT = "1/0308561526.09043"
SPACECRAFT_CLOCK_STOP_COUNT = "1/0308561848.16680"
START_TIME = 2013-02-10T07:32:21.536Z
STOP_TIME = 2013-02-10T07:36:28.403Z
/* ORBITAL DATA ELEMENTS */
ASCENDING_NODE_LONGITUDE = 356.28
MAXIMUM_RESOLUTION = 30.6
FOOTPRINT_POINT_LATITUDE = (45.1102,45.1032,45.0927,45.0851, 45.0778,45.0109,44.6743,44.1685,43.831, 43.493,43.1549,42.6472,42.3082,41.8423, 41.5577,41.2729,40.8456,40.5607,40.2751 ,39.9896,39.7043,39.4187,39.1329, 38.8467,38.4173,38.1311,37.8449,37.5587 ,37.2724,36.9858,36.6988,36.2685, 35.8381,35.5153,35.1727,34.8301,34.4871 ,33.973,33.6299,33.1154,32.6008,32.2577 ,31.7428,31.3996,30.8848,30.3702, 30.0273,29.8517,29.509,29.1662,29.131, 29.1335,29.1359,29.1373,29.1379,29.4814 ,29.8248,30.1725,30.5161,30.8599, 31.3755,31.7192,32.0628,32.5784,33.0939 ,33.4375,33.7812,34.1248,34.4688, 34.8122,35.1556,35.4987,35.8286,36.1163 ,36.4039,36.6913,37.1221,37.553,37.9834 ,38.2705,38.5573,38.9875,39.2737, 39.5606,39.8473,40.2766,40.7049,41.1331 ,41.4188,41.8466,42.1371,42.4771, 42.9869,43.3264,43.6654,44.004,44.3426, 44.6809,45.0184,45.1102)
FOOTPRINT_POINT_LONGITUDE = (120.417,120.047,119.59,119.309,119.063 ,118.742,118.765,118.799,118.82,118.841 ,118.861,118.89,118.909,118.933,118.948 ,118.962,118.983,118.996,119.009, 119.022,119.034,119.046,119.058,119.069 ,119.085,119.095,119.105,119.115, 119.125,119.134,119.143,119.156,119.168 ,119.176,119.185,119.194,119.202, 119.213,119.22,119.23,119.239,119.244, 119.252,119.257,119.263,119.269,119.272 ,119.274,119.276,119.279,119.63,119.874 ,120.194,120.622,120.857,120.854, 120.851,120.848,120.845,120.842,120.837 ,120.834,120.831,120.826,120.821, 120.817,120.814,120.81,120.806,120.802, 120.798,120.794,120.79,120.786,120.783, 120.779,120.773,120.768,120.762,120.757 ,120.753,120.747,120.742,120.738, 120.733,120.726,120.719,120.712,120.706 ,120.699,120.693,120.687,120.677,120.67 ,120.663,120.656,120.648,120.641, 120.633,120.417)
ORBIT_NUMBER = 11592
ORBITAL_ECCENTRICITY = 0.574
ORBITAL_INCLINATION = 86.89
ORBITAL_SEMIMAJOR_AXIS = 8816.8
PERIAPSIS_ALTITUDE = 369.53
PERIAPSIS_ARGUMENT_ANGLE = 138.8
PERIAPSIS_TIME = 2013-02-10T07:33:44.000Z
SPACECRAFT_ORIENTATION = (0.0,-1.0,0.0)
^MEX_ORIENTATION_DESC = "MEX_ORIENTATION_DESC.TXT"
SPACECRAFT_POINTING_MODE = NADIR
^MEX_POINTING_DESC = "MEX_POINTING_DESC.TXT"
RIGHT_ASCENSION = -1e+32
DECLINATION = -1e+32
OFFSET_ANGLE = -1e+32
SPACECRAFT_SOLAR_DISTANCE = 2.06978e+08
TARGET_NAME = MARS
/* CAMERA DATA ELEMENTS */
DETECTOR_TEMPERATURE = 17.7588
FOCAL_PLANE_TEMPERATURE = 8.7872
INST_CMPRS_NAME = "DISCRETE COSINE TRANSFORMATION (DCT)"
INST_CMPRS_RATIO = 10.1215
INST_CMPRS_QUALITY = 0
INST_CMPRS_QUANTZ_TBL_ID = 0
INSTRUMENT_TEMPERATURE = 11.234
LENS_TEMPERATURE = 9.195
MACROPIXEL_SIZE = 2
MISSING_FRAMES = 1
PIXEL_SUBSAMPLING_FLAG = N
SIGNAL_CHAIN_ID = 3
/* RADIOMETRIC DATA ELEMENTS */
BANDWIDTH = 174.0
CENTER_FILTER_WAVELENGTH = 675.0
RADIANCE_OFFSET = 1.53773
RADIANCE_SCALING_FACTOR = 0.0157353
REFLECTANCE_SCALING_FACTOR = 0.000362583
MEX:REFLECTANCE_OFFSET = 0.0354333
/* IMAGE OBJECT DEFINITIONS */
OBJECT = IMAGE
  INTERCHANGE_FORMAT = BINARY
  LINES = 37782
  LINE_SAMPLES = 3976
  SAMPLE_TYPE = UNSIGNED_INTEGER
  SAMPLE_BITS = 8
  BANDS = 1
  BAND_STORAGE_TYPE = BAND_SEQUENTIAL
  MAXIMUM = 255
  MEAN = 122.502
  MINIMUM = 1
  STANDARD_DEVIATION = 59.1941
END_OBJECT = IMAGE
/* MAP OBJECT DEFINITIONS */
OBJECT = IMAGE_MAP_PROJECTION
  ^DATA_SET_MAP_PROJECTION_CATALOG= "DSMAP.CAT"
  A_AXIS_RADIUS = 3396.0
  B_AXIS_RADIUS = 3396.0
  C_AXIS_RADIUS = 3396.0
  CENTER_LATITUDE = 0.0
  CENTER_LONGITUDE = 120.0
  COORDINATE_SYSTEM_NAME = PLANETOGRAPHIC
  COORDINATE_SYSTEM_TYPE = "BODY-FIXED ROTATING"
  EASTERNMOST_LONGITUDE = 120.857
  FIRST_STANDARD_PARALLEL = "N/A"
  LINE_FIRST_PIXEL = 1
  LINE_LAST_PIXEL = 37782
  LINE_PROJECTION_OFFSET = 106855.75
  MAP_PROJECTION_ROTATION = 0.0
  MAP_PROJECTION_TYPE = SINUSOIDAL
  MAP_RESOLUTION = 2370.85521546667
  MAP_SCALE = 0.025
  MAXIMUM_LATITUDE = 45.1102
  MINIMUM_LATITUDE = 29.131
  POSITIVE_LONGITUDE_DIRECTION = EAST
  REFERENCE_LATITUDE = "N/A"
  REFERENCE_LONGITUDE = "N/A"
  SAMPLE_FIRST_PIXEL = 1
  SAMPLE_LAST_PIXEL = 3976
  SAMPLE_PROJECTION_OFFSET = 2135.75
  SECOND_STANDARD_PARALLEL = "N/A"
  WESTERNMOST_LONGITUDE = 118.742
END_OBJECT = IMAGE_MAP_PROJECTION
/* The JPEG2000 image data file associated with this label. */
OBJECT = COMPRESSED_FILE
  FILE_NAME = "HB592_0000_P13.JP2"
  RECORD_TYPE = UNDEFINED
  FILE_RECORDS = UNK
  ENCODING_TYPE = "JP2"
  INTERCHANGE_FORMAT = BINARY
  UNCOMPRESSED_FILE_NAME = "HB592_0000_P13.IMG"
  REQUIRED_STORAGE_BYTES = "150245088"
  ^DESCRIPTION = "JP2INFO.TXT"
END_OBJECT = COMPRESSED_FILE
END
