PDS_VERSION_ID = PDS3
/* FILE DATA ELEMENTS */
RECORD_TYPE = STREAM
/* POINTERS TO DATA OBJECTS */
^COMPRESSED_FILE = "HB592_0000_S23.JP2"
/* IDENTIFICATION DATA ELEMENTS */
DATA_SET_ID = "MEX-M-HRSC-5-REFDR-MAPPROJECTED-V3.0"
DATA_SET_NAME = "MARS EXPRESS HRSC MAP PROJECTED REFDR V3.0"
DETECTOR_ID = MEX_HRSC_S2
EVENT_TYPE = "MARS-REGIONAL-MAPPING-Vo-Fl-Pf"
INSTRUMENT_HOST_ID = MEX
INSTRUMENT_HOST_NAME = "MARS EXPRESS"
INSTRUMENT_ID = HRSC
INSTRUMENT_NAME = "HIGH RESOLUTION STEREO CAMERA"
MISSION_NAME = "MARS EXPRESS"
MISSION_PHASE_NAME = ME_Phase_27
PROCESSING_LEVEL_ID = 3
PRODUCT_CREATION_TIME = 2016-10-28T05:53:57.000Z
PRODUCT_ID = "HB592_0000_S23.JP2"
RELEASE_ID = 0114
REVISION_ID = 0000
/* QUALITY DATA ELEMENTS */
DATA_QUALITY_ID = 1
DATA_QUALITY_DESC = "Data calculated based on original SPICE kernels"
/* TIME DATA ELEMENTS */
SPACECRAFT_CLOCK_START_COUNT = "1/0308561526.09043"
SPACECRAFT_CLOCK_STOP_COUNT = "1/0308561848.16680"
START_TIME = 2013-02-10T07:33:17.919Z
STOP_TIME = 2013-02-10T07:37:29.784Z
/* ORBITAL DATA ELEMENTS */
ASCENDING_NODE_LONGITUDE = 356.28
MAXIMUM_RESOLUTION = 31.9
FOOTPRINT_POINT_LATITUDE = (44.9869,44.9769,45.05,44.6134,44.3224, 44.0321,43.7417,43.4517,43.0166,42.5824 ,42.293,42.0045,41.7158,41.4274,41.1389 ,40.8508,40.4194,39.9883,39.5574, 39.0786,38.7377,38.3965,38.0555,37.7147 ,37.2043,36.865,36.5266,36.1883,35.8501 ,35.5128,35.1757,34.8391,34.5033, 34.1673,33.8328,33.4985,33.1644,32.8312 ,32.4987,32.1666,31.8353,31.5048, 31.1749,30.8455,30.5164,30.188,29.8601, 29.5326,29.1734,29.1752,29.1766,29.1782 ,29.5051,29.833,30.1612,30.4902,30.8195 ,31.1495,31.4803,31.8118,32.1439, 32.4765,32.8097,33.1436,33.4779,33.8128 ,34.1482,34.4837,34.8202,35.1573, 35.4954,35.8333,36.1715,36.5104,36.85, 37.19,37.5304,37.8715,38.2127,38.5544, 39.0676,39.4096,39.6964,39.9831,40.4157 ,40.7045,40.9935,41.2828,41.5716, 42.0061,42.4408,42.7306,43.0209,43.3112 ,43.602,44.0387,44.3298,44.6211,45.0589 ,44.9869)
FOOTPRINT_POINT_LONGITUDE = (119.909,119.422,118.747,118.775, 118.793,118.811,118.828,118.844,118.869 ,118.892,118.907,118.921,118.935, 118.948,118.962,118.974,118.993,119.01, 119.027,119.045,119.057,119.069,119.08, 119.091,119.107,119.116,119.125,119.134 ,119.142,119.15,119.158,119.165,119.172 ,119.178,119.184,119.19,119.195,119.2, 119.204,119.209,119.212,119.216,119.219 ,119.221,119.224,119.226,119.228,119.23 ,119.441,119.862,120.283,120.904,120.9, 120.896,120.892,120.888,120.884,120.88, 120.876,120.871,120.867,120.863,120.858 ,120.854,120.849,120.845,120.84,120.835 ,120.83,120.825,120.82,120.815,120.809, 120.804,120.798,120.793,120.787,120.781 ,120.775,120.769,120.76,120.753,120.748 ,120.742,120.733,120.727,120.722, 120.716,120.709,120.7,120.69,120.683, 120.676,120.669,120.662,120.652,120.644 ,120.636,120.625,119.909)
ORBIT_NUMBER = 11592
ORBITAL_ECCENTRICITY = 0.574
ORBITAL_INCLINATION = 86.89
ORBITAL_SEMIMAJOR_AXIS = 8816.8
PERIAPSIS_ALTITUDE = 369.53
PERIAPSIS_ARGUMENT_ANGLE = 138.8
PERIAPSIS_TIME = 2013-02-10T07:33:44.000Z
SPACECRAFT_ORIENTATION = (0.0,-1.0,0.0)
^MEX_ORIENTATION_DESC = "MEX_ORIENTATION_DESC.TXT"
SPACECRAFT_POINTING_MODE = NADIR
^MEX_POINTING_DESC = "MEX_POINTING_DESC.TXT"
RIGHT_ASCENSION = -1e+32
DECLINATION = -1e+32
OFFSET_ANGLE = -1e+32
SPACECRAFT_SOLAR_DISTANCE = 2.06978e+08
TARGET_NAME = MARS
/* CAMERA DATA ELEMENTS */
DETECTOR_TEMPERATURE = 18.9822
FOCAL_PLANE_TEMPERATURE = 8.7872
INST_CMPRS_NAME = "DISCRETE COSINE TRANSFORMATION (DCT)"
INST_CMPRS_RATIO = 12.7043
INST_CMPRS_QUALITY = 0
INST_CMPRS_QUANTZ_TBL_ID = 0
INSTRUMENT_TEMPERATURE = 11.234
LENS_TEMPERATURE = 9.195
MACROPIXEL_SIZE = 2
MISSING_FRAMES = 0
PIXEL_SUBSAMPLING_FLAG = N
SIGNAL_CHAIN_ID = 1
/* RADIOMETRIC DATA ELEMENTS */
BANDWIDTH = 178.0
CENTER_FILTER_WAVELENGTH = 679.0
RADIANCE_OFFSET = 1.37375
RADIANCE_SCALING_FACTOR = 0.0161618
REFLECTANCE_SCALING_FACTOR = 0.000366662
MEX:REFLECTANCE_OFFSET = 0.0311663
/* IMAGE OBJECT DEFINITIONS */
OBJECT = IMAGE
  INTERCHANGE_FORMAT = BINARY
  LINES = 37782
  LINE_SAMPLES = 3976
  SAMPLE_TYPE = UNSIGNED_INTEGER
  SAMPLE_BITS = 8
  BANDS = 1
  BAND_STORAGE_TYPE = BAND_SEQUENTIAL
  MAXIMUM = 255
  MEAN = 126.304
  MINIMUM = 1
  STANDARD_DEVIATION = 58.3408
END_OBJECT = IMAGE
/* MAP OBJECT DEFINITIONS */
OBJECT = IMAGE_MAP_PROJECTION
  ^DATA_SET_MAP_PROJECTION_CATALOG= "DSMAP.CAT"
  A_AXIS_RADIUS = 3396.0
  B_AXIS_RADIUS = 3396.0
  C_AXIS_RADIUS = 3396.0
  CENTER_LATITUDE = 0.0
  CENTER_LONGITUDE = 120.0
  COORDINATE_SYSTEM_NAME = PLANETOGRAPHIC
  COORDINATE_SYSTEM_TYPE = "BODY-FIXED ROTATING"
  EASTERNMOST_LONGITUDE = 120.904
  FIRST_STANDARD_PARALLEL = "N/A"
  LINE_FIRST_PIXEL = 1
  LINE_LAST_PIXEL = 37782
  LINE_PROJECTION_OFFSET = 106855.75
  MAP_PROJECTION_ROTATION = 0.0
  MAP_PROJECTION_TYPE = SINUSOIDAL
  MAP_RESOLUTION = 2370.85521546667
  MAP_SCALE = 0.025
  MAXIMUM_LATITUDE = 45.0589
  MINIMUM_LATITUDE = 29.1734
  POSITIVE_LONGITUDE_DIRECTION = EAST
  REFERENCE_LATITUDE = "N/A"
  REFERENCE_LONGITUDE = "N/A"
  SAMPLE_FIRST_PIXEL = 1
  SAMPLE_LAST_PIXEL = 3976
  SAMPLE_PROJECTION_OFFSET = 2135.75
  SECOND_STANDARD_PARALLEL = "N/A"
  WESTERNMOST_LONGITUDE = 118.747
END_OBJECT = IMAGE_MAP_PROJECTION
/* The JPEG2000 image data file associated with this label. */
OBJECT = COMPRESSED_FILE
  FILE_NAME = "HB592_0000_S23.JP2"
  RECORD_TYPE = UNDEFINED
  FILE_RECORDS = UNK
  ENCODING_TYPE = "JP2"
  INTERCHANGE_FORMAT = BINARY
  UNCOMPRESSED_FILE_NAME = "HB592_0000_S23.IMG"
  REQUIRED_STORAGE_BYTES = "150245088"
  ^DESCRIPTION = "JP2INFO.TXT"
END_OBJECT = COMPRESSED_FILE
END
