PDS_VERSION_ID = PDS3
/* FILE DATA ELEMENTS */
RECORD_TYPE = STREAM
/* POINTERS TO DATA OBJECTS */
^COMPRESSED_FILE = "HB605_0000_IR3.JP2"
/* IDENTIFICATION DATA ELEMENTS */
DATA_SET_ID = "MEX-M-HRSC-5-REFDR-MAPPROJECTED-V3.0"
DATA_SET_NAME = "MARS EXPRESS HRSC MAP PROJECTED REFDR V3.0"
DETECTOR_ID = MEX_HRSC_IR
EVENT_TYPE = "MARS-REGIONAL-MAPPING-Vo-Te"
INSTRUMENT_HOST_ID = MEX
INSTRUMENT_HOST_NAME = "MARS EXPRESS"
INSTRUMENT_ID = HRSC
INSTRUMENT_NAME = "HIGH RESOLUTION STEREO CAMERA"
MISSION_NAME = "MARS EXPRESS"
MISSION_PHASE_NAME = ME_Phase_27
PROCESSING_LEVEL_ID = 3
PRODUCT_CREATION_TIME = 2016-10-28T10:09:05.000Z
PRODUCT_ID = "HB605_0000_IR3.JP2"
RELEASE_ID = 0115
REVISION_ID = 0000
/* QUALITY DATA ELEMENTS */
DATA_QUALITY_ID = 1
DATA_QUALITY_DESC = "Data calculated based on original SPICE kernels"
/* TIME DATA ELEMENTS */
SPACECRAFT_CLOCK_START_COUNT = "1/0308889114.09057"
SPACECRAFT_CLOCK_STOP_COUNT = "1/0308889603.01895"
START_TIME = 2013-02-14T02:32:05.923Z
STOP_TIME = 2013-02-14T02:36:55.047Z
/* ORBITAL DATA ELEMENTS */
ASCENDING_NODE_LONGITUDE = 356.04
MAXIMUM_RESOLUTION = 170.5
FOOTPRINT_POINT_LATITUDE = (14.6067,14.6294,14.6492,14.0619, 13.6137,13.315,13.0134,12.7094,12.4057, 11.9428,11.6339,11.1641,10.8502,10.3728 ,10.0541,9.73048,9.40653,8.91604, 8.58796,8.25414,7.92099,7.58302,7.24431 ,6.90225,6.55939,6.2119,5.68786,5.33565 ,4.97819,4.62081,4.25827,3.89359, 3.34114,2.9723,2.59699,2.21938,1.83932, 1.45507,1.06878,0.679512,0.285787, -0.111099,-0.51093,-0.914214,-1.32176, -1.73335,-2.14852,-2.56642,-2.82325, -2.83881,-2.85837,-2.87663,-2.89618, -2.91938,-2.2954,-1.67096,-1.26073, -0.853489,-0.449515,-0.0498157,0.346192 ,0.73935,1.1297,1.51527,2.08938,2.46761 ,2.8436,3.21579,3.58436,3.95176,4.31442 ,4.85297,5.21027,5.5624,5.91661,6.26568 ,6.78419,7.12766,7.46479,7.80436, 8.13812,8.4724,8.80226,9.1333,9.459, 9.78369,10.1058,10.4255,10.7439,11.2147 ,11.5291,11.9926,12.3017,12.606,12.9107 ,13.2133,13.5124,13.812,14.55,14.6067)
FOOTPRINT_POINT_LONGITUDE = (232.314,231.76,231.221,231.203,231.189 ,231.18,231.17,231.16,231.15,231.135, 231.124,231.108,231.097,231.08,231.068, 231.056,231.044,231.025,231.012,230.999 ,230.986,230.973,230.959,230.945,230.93 ,230.916,230.893,230.878,230.862, 230.846,230.83,230.813,230.787,230.77, 230.752,230.734,230.715,230.696,230.677 ,230.657,230.637,230.616,230.595, 230.573,230.551,230.529,230.506,230.482 ,230.735,231.131,231.603,232.027, 232.454,232.934,233.124,233.118,233.115 ,233.112,233.109,233.107,233.104, 233.102,233.1,233.098,233.095,233.093, 233.092,233.09,233.089,233.088,233.086, 233.086,233.085,233.085,233.082,233.081 ,233.079,233.079,233.079,233.078, 233.078,233.077,233.076,233.075,233.074 ,233.073,233.072,233.072,233.072, 233.072,233.071,233.071,233.07,233.07, 233.07,233.07,233.069,233.069,233.069, 232.314)
ORBIT_NUMBER = 11605
ORBITAL_ECCENTRICITY = 0.574
ORBITAL_INCLINATION = 86.9
ORBITAL_SEMIMAJOR_AXIS = 8811.03
PERIAPSIS_ALTITUDE = 370.51
PERIAPSIS_ARGUMENT_ANGLE = 136.53
PERIAPSIS_TIME = 2013-02-14T02:25:06.000Z
SPACECRAFT_ORIENTATION = (0.0,-1.0,0.0)
^MEX_ORIENTATION_DESC = "MEX_ORIENTATION_DESC.TXT"
SPACECRAFT_POINTING_MODE = ACROSSTRACK
^MEX_POINTING_DESC = "MEX_POINTING_DESC.TXT"
RIGHT_ASCENSION = -1e+32
DECLINATION = -1e+32
OFFSET_ANGLE = 0.808
SPACECRAFT_SOLAR_DISTANCE = 2.07131e+08
TARGET_NAME = MARS
/* CAMERA DATA ELEMENTS */
DETECTOR_TEMPERATURE = 17.5549
FOCAL_PLANE_TEMPERATURE = 8.5833
INST_CMPRS_NAME = "DISCRETE COSINE TRANSFORMATION (DCT)"
INST_CMPRS_RATIO = 7.55205
INST_CMPRS_QUALITY = 0
INST_CMPRS_QUANTZ_TBL_ID = 0
INSTRUMENT_TEMPERATURE = 11.8457
LENS_TEMPERATURE = 9.6028
MACROPIXEL_SIZE = 8
MISSING_FRAMES = 0
PIXEL_SUBSAMPLING_FLAG = N
SIGNAL_CHAIN_ID = 2
/* RADIOMETRIC DATA ELEMENTS */
BANDWIDTH = 81.0
CENTER_FILTER_WAVELENGTH = 955.5
RADIANCE_OFFSET = 1.51838
RADIANCE_SCALING_FACTOR = 0.00740132
REFLECTANCE_SCALING_FACTOR = 0.00068506
MEX:REFLECTANCE_OFFSET = 0.14054
/* IMAGE OBJECT DEFINITIONS */
OBJECT = IMAGE
  INTERCHANGE_FORMAT = BINARY
  LINES = 5199
  LINE_SAMPLES = 896
  SAMPLE_TYPE = UNSIGNED_INTEGER
  SAMPLE_BITS = 8
  BANDS = 1
  BAND_STORAGE_TYPE = BAND_SEQUENTIAL
  MAXIMUM = 255
  MEAN = 127.632
  MINIMUM = 1
  STANDARD_DEVIATION = 34.7935
END_OBJECT = IMAGE
/* MAP OBJECT DEFINITIONS */
OBJECT = IMAGE_MAP_PROJECTION
  ^DATA_SET_MAP_PROJECTION_CATALOG= "DSMAP.CAT"
  A_AXIS_RADIUS = 3396.0
  B_AXIS_RADIUS = 3396.0
  C_AXIS_RADIUS = 3396.0
  CENTER_LATITUDE = 0.0
  CENTER_LONGITUDE = 232.0
  COORDINATE_SYSTEM_NAME = PLANETOGRAPHIC
  COORDINATE_SYSTEM_TYPE = "BODY-FIXED ROTATING"
  EASTERNMOST_LONGITUDE = 233.124
  FIRST_STANDARD_PARALLEL = "N/A"
  LINE_FIRST_PIXEL = 1
  LINE_LAST_PIXEL = 5199
  LINE_PROJECTION_OFFSET = 4337.1875
  MAP_PROJECTION_ROTATION = 0.0
  MAP_PROJECTION_TYPE = SINUSOIDAL
  MAP_RESOLUTION = 296.356901933333
  MAP_SCALE = 0.2
  MAXIMUM_LATITUDE = 14.6492
  MINIMUM_LATITUDE = -2.91938
  POSITIVE_LONGITUDE_DIRECTION = EAST
  REFERENCE_LATITUDE = "N/A"
  REFERENCE_LONGITUDE = "N/A"
  SAMPLE_FIRST_PIXEL = 1
  SAMPLE_LAST_PIXEL = 896
  SAMPLE_PROJECTION_OFFSET = 502.9375
  SECOND_STANDARD_PARALLEL = "N/A"
  WESTERNMOST_LONGITUDE = 230.482
END_OBJECT = IMAGE_MAP_PROJECTION
/* The JPEG2000 image data file associated with this label. */
OBJECT = COMPRESSED_FILE
  FILE_NAME = "HB605_0000_IR3.JP2"
  RECORD_TYPE = UNDEFINED
  FILE_RECORDS = UNK
  ENCODING_TYPE = "JP2"
  INTERCHANGE_FORMAT = BINARY
  UNCOMPRESSED_FILE_NAME = "HB605_0000_IR3.IMG"
  REQUIRED_STORAGE_BYTES = "4676224"
  ^DESCRIPTION = "JP2INFO.TXT"
END_OBJECT = COMPRESSED_FILE
END
