PDS_VERSION_ID = PDS3
/* FILE DATA ELEMENTS */
RECORD_TYPE = STREAM
/* POINTERS TO DATA OBJECTS */
^COMPRESSED_FILE = "HB605_0000_P13.JP2"
/* IDENTIFICATION DATA ELEMENTS */
DATA_SET_ID = "MEX-M-HRSC-5-REFDR-MAPPROJECTED-V3.0"
DATA_SET_NAME = "MARS EXPRESS HRSC MAP PROJECTED REFDR V3.0"
DETECTOR_ID = MEX_HRSC_P1
EVENT_TYPE = "MARS-REGIONAL-MAPPING-Vo-Te"
INSTRUMENT_HOST_ID = MEX
INSTRUMENT_HOST_NAME = "MARS EXPRESS"
INSTRUMENT_ID = HRSC
INSTRUMENT_NAME = "HIGH RESOLUTION STEREO CAMERA"
MISSION_NAME = "MARS EXPRESS"
MISSION_PHASE_NAME = ME_Phase_27
PROCESSING_LEVEL_ID = 3
PRODUCT_CREATION_TIME = 2016-10-28T10:09:05.000Z
PRODUCT_ID = "HB605_0000_P13.JP2"
RELEASE_ID = 0115
REVISION_ID = 0000
/* QUALITY DATA ELEMENTS */
DATA_QUALITY_ID = 1
DATA_QUALITY_DESC = "Data calculated based on original SPICE kernels"
/* TIME DATA ELEMENTS */
SPACECRAFT_CLOCK_START_COUNT = "1/0308889114.09057"
SPACECRAFT_CLOCK_STOP_COUNT = "1/0308889603.01895"
START_TIME = 2013-02-14T02:32:14.048Z
STOP_TIME = 2013-02-14T02:37:08.663Z
/* ORBITAL DATA ELEMENTS */
ASCENDING_NODE_LONGITUDE = 356.04
MAXIMUM_RESOLUTION = 42.4
FOOTPRINT_POINT_LATITUDE = (14.616,14.6363,14.6551,14.0657,13.4711 ,13.1706,12.7176,12.4122,12.1072, 11.7971,11.3321,11.017,10.7021,10.2244, 9.90476,9.58097,9.2569,8.92966,8.60106, 8.2689,7.93554,7.59879,7.26016,6.9194, 6.57674,6.23022,5.70686,5.35509,4.99872 ,4.64197,4.28053,3.91715,3.36546, 2.81022,2.24616,1.86718,1.48394,1.09831 ,0.709335,0.318025,-0.0777956,-0.477051 ,-0.879888,-1.28588,-1.69536,-2.10874, -2.5255,-2.82584,-2.84182,-2.85755, -2.87493,-2.88896,-2.90926,-2.71009, -2.29015,-1.87487,-1.46382,-1.05541, -0.650833,-0.249505,0.147312,0.540921, 0.93184,1.31941,1.70355,2.08445,2.46274 ,2.83806,3.20936,3.57835,3.94454, 4.30709,4.66731,5.02415,5.55401,5.90764 ,6.2559,6.77443,7.11735,7.45481,7.79321 ,8.12744,8.46046,8.79047,9.12075, 9.44618,9.77162,10.0921,10.4129,10.7293 ,11.0442,11.5137,11.8237,12.1328, 12.4384,12.8961,13.3473,13.9439,14.5353 ,14.616)
FOOTPRINT_POINT_LONGITUDE = (232.338,231.756,231.193,231.175, 231.156,231.146,231.131,231.121,231.11, 231.099,231.083,231.072,231.06,231.042, 231.03,231.018,231.005,230.992,230.979, 230.966,230.952,230.938,230.924,230.91, 230.895,230.88,230.857,230.841,230.825, 230.809,230.792,230.775,230.748,230.721 ,230.693,230.674,230.655,230.635, 230.615,230.594,230.573,230.551,230.529 ,230.506,230.483,230.46,230.436,230.731 ,231.176,231.596,232.044,232.389,232.87 ,233.147,233.142,233.138,233.135, 233.131,233.128,233.125,233.122,233.119 ,233.116,233.114,233.112,233.11,233.108 ,233.106,233.104,233.102,233.101, 233.099,233.098,233.097,233.097,233.094 ,233.093,233.091,233.09,233.09,233.089, 233.088,233.087,233.086,233.085,233.083 ,233.083,233.082,233.081,233.08,233.08, 233.079,233.079,233.079,233.078,233.077 ,233.077,233.076,233.076,232.338)
ORBIT_NUMBER = 11605
ORBITAL_ECCENTRICITY = 0.574
ORBITAL_INCLINATION = 86.9
ORBITAL_SEMIMAJOR_AXIS = 8811.03
PERIAPSIS_ALTITUDE = 370.51
PERIAPSIS_ARGUMENT_ANGLE = 136.53
PERIAPSIS_TIME = 2013-02-14T02:25:06.000Z
SPACECRAFT_ORIENTATION = (0.0,-1.0,0.0)
^MEX_ORIENTATION_DESC = "MEX_ORIENTATION_DESC.TXT"
SPACECRAFT_POINTING_MODE = ACROSSTRACK
^MEX_POINTING_DESC = "MEX_POINTING_DESC.TXT"
RIGHT_ASCENSION = -1e+32
DECLINATION = -1e+32
OFFSET_ANGLE = 0.808
SPACECRAFT_SOLAR_DISTANCE = 2.07131e+08
TARGET_NAME = MARS
/* CAMERA DATA ELEMENTS */
DETECTOR_TEMPERATURE = 17.5549
FOCAL_PLANE_TEMPERATURE = 8.5833
INST_CMPRS_NAME = "DISCRETE COSINE TRANSFORMATION (DCT)"
INST_CMPRS_RATIO = 6.89798
INST_CMPRS_QUALITY = 0
INST_CMPRS_QUANTZ_TBL_ID = 0
INSTRUMENT_TEMPERATURE = 11.8457
LENS_TEMPERATURE = 9.6028
MACROPIXEL_SIZE = 2
MISSING_FRAMES = 0
PIXEL_SUBSAMPLING_FLAG = N
SIGNAL_CHAIN_ID = 3
/* RADIOMETRIC DATA ELEMENTS */
BANDWIDTH = 174.0
CENTER_FILTER_WAVELENGTH = 675.0
RADIANCE_OFFSET = 5.65321
RADIANCE_SCALING_FACTOR = 0.0259239
REFLECTANCE_SCALING_FACTOR = 0.000598241
MEX:REFLECTANCE_OFFSET = 0.130458
/* IMAGE OBJECT DEFINITIONS */
OBJECT = IMAGE
  INTERCHANGE_FORMAT = BINARY
  LINES = 20794
  LINE_SAMPLES = 3584
  SAMPLE_TYPE = UNSIGNED_INTEGER
  SAMPLE_BITS = 8
  BANDS = 1
  BAND_STORAGE_TYPE = BAND_SEQUENTIAL
  MAXIMUM = 255
  MEAN = 125.366
  MINIMUM = 1
  STANDARD_DEVIATION = 36.0481
END_OBJECT = IMAGE
/* MAP OBJECT DEFINITIONS */
OBJECT = IMAGE_MAP_PROJECTION
  ^DATA_SET_MAP_PROJECTION_CATALOG= "DSMAP.CAT"
  A_AXIS_RADIUS = 3396.0
  B_AXIS_RADIUS = 3396.0
  C_AXIS_RADIUS = 3396.0
  CENTER_LATITUDE = 0.0
  CENTER_LONGITUDE = 232.0
  COORDINATE_SYSTEM_NAME = PLANETOGRAPHIC
  COORDINATE_SYSTEM_TYPE = "BODY-FIXED ROTATING"
  EASTERNMOST_LONGITUDE = 233.147
  FIRST_STANDARD_PARALLEL = "N/A"
  LINE_FIRST_PIXEL = 1
  LINE_LAST_PIXEL = 20794
  LINE_PROJECTION_OFFSET = 17350.25
  MAP_PROJECTION_ROTATION = 0.0
  MAP_PROJECTION_TYPE = SINUSOIDAL
  MAP_RESOLUTION = 1185.42760773333
  MAP_SCALE = 0.05
  MAXIMUM_LATITUDE = 14.6551
  MINIMUM_LATITUDE = -2.90926
  POSITIVE_LONGITUDE_DIRECTION = EAST
  REFERENCE_LATITUDE = "N/A"
  REFERENCE_LONGITUDE = "N/A"
  SAMPLE_FIRST_PIXEL = 1
  SAMPLE_LAST_PIXEL = 3584
  SAMPLE_PROJECTION_OFFSET = 2013.25
  SECOND_STANDARD_PARALLEL = "N/A"
  WESTERNMOST_LONGITUDE = 230.436
END_OBJECT = IMAGE_MAP_PROJECTION
/* The JPEG2000 image data file associated with this label. */
OBJECT = COMPRESSED_FILE
  FILE_NAME = "HB605_0000_P13.JP2"
  RECORD_TYPE = UNDEFINED
  FILE_RECORDS = UNK
  ENCODING_TYPE = "JP2"
  INTERCHANGE_FORMAT = BINARY
  UNCOMPRESSED_FILE_NAME = "HB605_0000_P13.IMG"
  REQUIRED_STORAGE_BYTES = "74547200"
  ^DESCRIPTION = "JP2INFO.TXT"
END_OBJECT = COMPRESSED_FILE
END
