PDS_VERSION_ID = PDS3
/* FILE DATA ELEMENTS */
RECORD_TYPE = STREAM
/* POINTERS TO DATA OBJECTS */
^COMPRESSED_FILE = "HB607_0000_BL3.JP2"
/* IDENTIFICATION DATA ELEMENTS */
DATA_SET_ID = "MEX-M-HRSC-5-REFDR-MAPPROJECTED-V3.0"
DATA_SET_NAME = "MARS EXPRESS HRSC MAP PROJECTED REFDR V3.0"
DETECTOR_ID = MEX_HRSC_BLUE
EVENT_TYPE = "MARS-REGIONAL-MAPPING-Im-Fl"
INSTRUMENT_HOST_ID = MEX
INSTRUMENT_HOST_NAME = "MARS EXPRESS"
INSTRUMENT_ID = HRSC
INSTRUMENT_NAME = "HIGH RESOLUTION STEREO CAMERA"
MISSION_NAME = "MARS EXPRESS"
MISSION_PHASE_NAME = ME_Phase_27
PROCESSING_LEVEL_ID = 3
PRODUCT_CREATION_TIME = 2016-10-28T10:09:05.000Z
PRODUCT_ID = "HB607_0000_BL3.JP2"
RELEASE_ID = 0115
REVISION_ID = 0000
/* QUALITY DATA ELEMENTS */
DATA_QUALITY_ID = 1
DATA_QUALITY_DESC = "Data calculated based on original SPICE kernels"
/* TIME DATA ELEMENTS */
SPACECRAFT_CLOCK_START_COUNT = "1/0308939312.08251"
SPACECRAFT_CLOCK_STOP_COUNT = "1/0308939655.54566"
START_TIME = 2013-02-14T16:29:24.085Z
STOP_TIME = 2013-02-14T16:33:16.487Z
/* ORBITAL DATA ELEMENTS */
ASCENDING_NODE_LONGITUDE = 355.99
MAXIMUM_RESOLUTION = 73.9
FOOTPRINT_POINT_LATITUDE = (23.1066,23.1079,23.109,23.1094,22.8756 ,22.2713,21.7887,21.5426,21.2965, 21.0507,20.805,20.5548,20.1794,19.9296, 19.6766,19.4217,19.1676,18.9137,18.6547 ,18.3967,18.1391,17.8772,17.6148, 17.3533,17.0884,16.821,16.555,16.2863, 16.0155,15.7454,15.3344,15.0601,14.7842 ,14.5065,14.2286,13.9448,13.6628, 13.2352,12.9493,12.516,12.2266,11.9331, 11.64,11.343,11.0456,10.5949,10.1416, 9.83714,9.60063,9.59451,9.58888,9.58487 ,9.57712,9.57138,9.72264,10.0276, 10.3338,10.6356,10.9373,11.2358,11.5347 ,11.8288,12.2685,12.5579,12.8484, 13.1347,13.5644,13.8471,14.2709,14.5495 ,14.9677,15.2424,15.5177,15.9261, 16.1977,16.4678,16.7345,17.0015,17.268, 17.5307,17.7937,18.0574,18.3168,18.5755 ,18.9633,19.2177,19.4724,19.8545, 20.1046,20.3552,20.606,20.8555,21.1015, 21.3476,21.5944,21.84,22.3237,22.566, 22.8085,23.1066)
FOOTPRINT_POINT_LONGITUDE = (27.529,27.2555,26.9177,26.3872,26.0175 ,26.0093,26.0022,25.9982,25.9942, 25.9903,25.9866,25.9823,25.9756,25.9711 ,25.9668,25.9624,25.9573,25.9523, 25.9469,25.9407,25.9344,25.9285,25.9221 ,25.9148,25.9086,25.9032,25.8962, 25.8894,25.8824,25.8752,25.8639,25.8562 ,25.8465,25.8371,25.8288,25.8223, 25.8135,25.7999,25.7907,25.776,25.7661, 25.7561,25.7454,25.7351,25.7246,25.7081 ,25.6903,25.6783,25.7699,26.2018, 26.5508,26.797,27.2693,27.6399,27.8706, 27.8677,27.8665,27.8644,27.8615,27.8602 ,27.8585,27.8558,27.8514,27.8473, 27.8451,27.8428,27.8394,27.8373,27.8344 ,27.8322,27.8285,27.8264,27.8244, 27.8211,27.8199,27.8169,27.8149,27.8126 ,27.8105,27.8085,27.8064,27.8047, 27.8038,27.8016,27.7985,27.7966,27.7943 ,27.7911,27.7891,27.7871,27.7848, 27.7828,27.7807,27.7782,27.7762,27.7744 ,27.77,27.7676,27.7653,27.529)
ORBIT_NUMBER = 11607
ORBITAL_ECCENTRICITY = 0.573
ORBITAL_INCLINATION = 86.89
ORBITAL_SEMIMAJOR_AXIS = 8809.23
PERIAPSIS_ALTITUDE = 371.62
PERIAPSIS_ARGUMENT_ANGLE = 136.21
PERIAPSIS_TIME = 2013-02-14T16:23:51.000Z
SPACECRAFT_ORIENTATION = (0.0,-1.0,0.0)
^MEX_ORIENTATION_DESC = "MEX_ORIENTATION_DESC.TXT"
SPACECRAFT_POINTING_MODE = NADIR
^MEX_POINTING_DESC = "MEX_POINTING_DESC.TXT"
RIGHT_ASCENSION = -1e+32
DECLINATION = -1e+32
OFFSET_ANGLE = -1e+32
SPACECRAFT_SOLAR_DISTANCE = 2.07157e+08
TARGET_NAME = MARS
/* CAMERA DATA ELEMENTS */
DETECTOR_TEMPERATURE = 18.7783
FOCAL_PLANE_TEMPERATURE = 9.195
INST_CMPRS_NAME = "DISCRETE COSINE TRANSFORMATION (DCT)"
INST_CMPRS_RATIO = 16.5238
INST_CMPRS_QUALITY = 0
INST_CMPRS_QUANTZ_TBL_ID = 0
INSTRUMENT_TEMPERATURE = 11.8457
LENS_TEMPERATURE = 9.8067
MACROPIXEL_SIZE = 4
MISSING_FRAMES = 0
PIXEL_SUBSAMPLING_FLAG = N
SIGNAL_CHAIN_ID = 2
/* RADIOMETRIC DATA ELEMENTS */
BANDWIDTH = 76.0
CENTER_FILTER_WAVELENGTH = 444.0
RADIANCE_OFFSET = 0.657313
RADIANCE_SCALING_FACTOR = 0.00149235
REFLECTANCE_SCALING_FACTOR = 6.58002e-05
MEX:REFLECTANCE_OFFSET = 0.028982
/* IMAGE OBJECT DEFINITIONS */
OBJECT = IMAGE
  INTERCHANGE_FORMAT = BINARY
  LINES = 16065
  LINE_SAMPLES = 2631
  SAMPLE_TYPE = UNSIGNED_INTEGER
  SAMPLE_BITS = 8
  BANDS = 1
  BAND_STORAGE_TYPE = BAND_SEQUENTIAL
  MAXIMUM = 255
  MEAN = 131.343
  MINIMUM = 1
  STANDARD_DEVIATION = 28.0556
END_OBJECT = IMAGE
/* MAP OBJECT DEFINITIONS */
OBJECT = IMAGE_MAP_PROJECTION
  ^DATA_SET_MAP_PROJECTION_CATALOG= "DSMAP.CAT"
  A_AXIS_RADIUS = 3396.0
  B_AXIS_RADIUS = 3396.0
  C_AXIS_RADIUS = 3396.0
  CENTER_LATITUDE = 0.0
  CENTER_LONGITUDE = 27.0
  COORDINATE_SYSTEM_NAME = PLANETOGRAPHIC
  COORDINATE_SYSTEM_TYPE = "BODY-FIXED ROTATING"
  EASTERNMOST_LONGITUDE = 27.8706
  FIRST_STANDARD_PARALLEL = "N/A"
  LINE_FIRST_PIXEL = 1
  LINE_LAST_PIXEL = 16065
  LINE_PROJECTION_OFFSET = 27409.625
  MAP_PROJECTION_ROTATION = 0.0
  MAP_PROJECTION_TYPE = SINUSOIDAL
  MAP_RESOLUTION = 1185.42760773333
  MAP_SCALE = 0.05
  MAXIMUM_LATITUDE = 23.1094
  MINIMUM_LATITUDE = 9.57138
  POSITIVE_LONGITUDE_DIRECTION = EAST
  REFERENCE_LATITUDE = "N/A"
  REFERENCE_LONGITUDE = "N/A"
  SAMPLE_FIRST_PIXEL = 1
  SAMPLE_LAST_PIXEL = 2631
  SAMPLE_PROJECTION_OFFSET = 1585.125
  SECOND_STANDARD_PARALLEL = "N/A"
  WESTERNMOST_LONGITUDE = 25.6783
END_OBJECT = IMAGE_MAP_PROJECTION
/* The JPEG2000 image data file associated with this label. */
OBJECT = COMPRESSED_FILE
  FILE_NAME = "HB607_0000_BL3.JP2"
  RECORD_TYPE = UNDEFINED
  FILE_RECORDS = UNK
  ENCODING_TYPE = "JP2"
  INTERCHANGE_FORMAT = BINARY
  UNCOMPRESSED_FILE_NAME = "HB607_0000_BL3.IMG"
  REQUIRED_STORAGE_BYTES = "42288063"
  ^DESCRIPTION = "JP2INFO.TXT"
END_OBJECT = COMPRESSED_FILE
END
