PDS_VERSION_ID = PDS3
/* FILE DATA ELEMENTS */
RECORD_TYPE = STREAM
/* POINTERS TO DATA OBJECTS */
^COMPRESSED_FILE = "HB627_0001_S23.JP2"
/* IDENTIFICATION DATA ELEMENTS */
DATA_SET_ID = "MEX-M-HRSC-5-REFDR-MAPPROJECTED-V3.0"
DATA_SET_NAME = "MARS EXPRESS HRSC MAP PROJECTED REFDR V3.0"
DETECTOR_ID = MEX_HRSC_S2
EVENT_TYPE = "MARS-LOCAL-STEREO-Vo-Pf-Tc"
INSTRUMENT_HOST_ID = MEX
INSTRUMENT_HOST_NAME = "MARS EXPRESS"
INSTRUMENT_ID = HRSC
INSTRUMENT_NAME = "HIGH RESOLUTION STEREO CAMERA"
MISSION_NAME = "MARS EXPRESS"
MISSION_PHASE_NAME = ME_Phase_27
PROCESSING_LEVEL_ID = 3
PRODUCT_CREATION_TIME = 2016-10-28T10:09:05.000Z
PRODUCT_ID = "HB627_0001_S23.JP2"
RELEASE_ID = 0115
REVISION_ID = 0000
/* QUALITY DATA ELEMENTS */
DATA_QUALITY_ID = 1
DATA_QUALITY_DESC = "Data calculated based on original SPICE kernels"
/* TIME DATA ELEMENTS */
SPACECRAFT_CLOCK_START_COUNT = "1/0309442883.08396"
SPACECRAFT_CLOCK_STOP_COUNT = "1/0309443174.31576"
START_TIME = 2013-02-20T12:23:52.905Z
STOP_TIME = 2013-02-20T12:26:16.034Z
/* ORBITAL DATA ELEMENTS */
ASCENDING_NODE_LONGITUDE = 355.61
MAXIMUM_RESOLUTION = 37
FOOTPRINT_POINT_LATITUDE = (5.26332,5.30599,5.34939,5.39355, 5.43853,5.48434,5.53101,5.57858,5.62706 ,5.67648,5.72691,5.77837,5.75635, 5.58916,5.42222,5.25604,5.00629,4.83957 ,4.6735,4.50711,4.25785,4.00901,3.76036 ,3.59458,3.42897,3.2635,3.0981,2.93302, 2.76805,2.60298,2.43798,2.19053,1.77909 ,1.53219,1.20308,0.955944,0.628859, 0.464107,-0.024854,-0.351645,-0.760328, -1.08579,-1.2533,-1.49313,-1.81803, -2.14293,-2.43126,-2.49295,-2.54156, -2.57759,-2.62808,-2.66149,-2.71718, -2.76007,-2.8142,-2.86622,-2.90428, -2.9346,-2.98143,-3.02674,-2.96556, -2.79909,-2.47752,-2.22942,-2.06372, -1.73531,-1.48792,-1.1594,-0.912865, -0.584246,-0.25511,-0.00833084,0.156908 ,0.486463,0.652099,0.899004,1.22915, 1.39483,1.56031,1.72603,1.89191,2.05825 ,2.22425,2.39017,2.55625,2.72249, 2.88829,3.05458,3.22154,3.47248,3.64015 ,3.8067,3.97378,4.22452,4.39148,4.64249 ,4.80987,4.97761,5.22912,5.26332)
FOOTPRINT_POINT_LONGITUDE = (140.843,140.602,140.359,140.113, 139.864,139.614,139.36,139.104,138.846, 138.584,138.319,138.05,137.838,137.826, 137.815,137.802,137.784,137.772,137.76, 137.747,137.729,137.71,137.691,137.678, 137.665,137.652,137.639,137.626,137.612 ,137.599,137.586,137.566,137.531,137.51 ,137.483,137.463,137.433,137.419, 137.374,137.344,137.307,137.275,137.265 ,137.237,137.205,137.173,137.302, 137.643,137.908,138.096,138.39,138.574, 138.868,139.088,139.408,139.693,139.968 ,140.143,140.388,140.663,140.818, 140.822,140.836,140.844,140.849,140.86, 140.868,140.879,140.888,140.899,140.91, 140.918,140.923,140.934,140.939,140.948 ,140.958,140.964,140.969,140.974, 140.979,140.984,140.989,140.994,140.999 ,141.004,141.01,141.015,141.019,141.026 ,141.031,141.036,141.041,141.048, 141.053,141.06,141.065,141.069,141.076, 140.843)
ORBIT_NUMBER = 11627
ORBITAL_ECCENTRICITY = 0.573
ORBITAL_INCLINATION = 86.89
ORBITAL_SEMIMAJOR_AXIS = 8802.53
PERIAPSIS_ALTITUDE = 374.01
PERIAPSIS_ARGUMENT_ANGLE = 132.76
PERIAPSIS_TIME = 2013-02-20T12:10:41.000Z
SPACECRAFT_ORIENTATION = (0.0,-1.0,0.0)
^MEX_ORIENTATION_DESC = "MEX_ORIENTATION_DESC.TXT"
SPACECRAFT_POINTING_MODE = INERT
^MEX_POINTING_DESC = "MEX_POINTING_DESC.TXT"
RIGHT_ASCENSION = 76.394
DECLINATION = -39.777
OFFSET_ANGLE = -1e+32
SPACECRAFT_SOLAR_DISTANCE = 2.07458e+08
TARGET_NAME = MARS
/* CAMERA DATA ELEMENTS */
DETECTOR_TEMPERATURE = 18.9822
FOCAL_PLANE_TEMPERATURE = 9.3989
INST_CMPRS_NAME = "DISCRETE COSINE TRANSFORMATION (DCT)"
INST_CMPRS_RATIO = 8.15458
INST_CMPRS_QUALITY = 0
INST_CMPRS_QUANTZ_TBL_ID = 0
INSTRUMENT_TEMPERATURE = 11.4379
LENS_TEMPERATURE = 9.6028
MACROPIXEL_SIZE = 1
MISSING_FRAMES = 0
PIXEL_SUBSAMPLING_FLAG = N
SIGNAL_CHAIN_ID = 1
/* RADIOMETRIC DATA ELEMENTS */
BANDWIDTH = 178.0
CENTER_FILTER_WAVELENGTH = 679.0
RADIANCE_OFFSET = 7.22366
RADIANCE_SCALING_FACTOR = 0.0206795
REFLECTANCE_SCALING_FACTOR = 0.000471337
MEX:REFLECTANCE_OFFSET = 0.164645
/* IMAGE OBJECT DEFINITIONS */
OBJECT = IMAGE
  INTERCHANGE_FORMAT = BINARY
  LINES = 20232
  LINE_SAMPLES = 9186
  SAMPLE_TYPE = UNSIGNED_INTEGER
  SAMPLE_BITS = 8
  BANDS = 1
  BAND_STORAGE_TYPE = BAND_SEQUENTIAL
  MAXIMUM = 255
  MEAN = 126.281
  MINIMUM = 1
  STANDARD_DEVIATION = 24.4751
END_OBJECT = IMAGE
/* MAP OBJECT DEFINITIONS */
OBJECT = IMAGE_MAP_PROJECTION
  ^DATA_SET_MAP_PROJECTION_CATALOG= "DSMAP.CAT"
  A_AXIS_RADIUS = 3396.0
  B_AXIS_RADIUS = 3396.0
  C_AXIS_RADIUS = 3396.0
  CENTER_LATITUDE = 0.0
  CENTER_LONGITUDE = 139.0
  COORDINATE_SYSTEM_NAME = PLANETOGRAPHIC
  COORDINATE_SYSTEM_TYPE = "BODY-FIXED ROTATING"
  EASTERNMOST_LONGITUDE = 141.076
  FIRST_STANDARD_PARALLEL = "N/A"
  LINE_FIRST_PIXEL = 1
  LINE_LAST_PIXEL = 20232
  LINE_PROJECTION_OFFSET = 13348.0
  MAP_PROJECTION_ROTATION = 0.0
  MAP_PROJECTION_TYPE = SINUSOIDAL
  MAP_RESOLUTION = 2370.85521546667
  MAP_SCALE = 0.025
  MAXIMUM_LATITUDE = 5.77837
  MINIMUM_LATITUDE = -3.02674
  POSITIVE_LONGITUDE_DIRECTION = EAST
  REFERENCE_LATITUDE = "N/A"
  REFERENCE_LONGITUDE = "N/A"
  SAMPLE_FIRST_PIXEL = 1
  SAMPLE_LAST_PIXEL = 9186
  SAMPLE_PROJECTION_OFFSET = 4792.0
  SECOND_STANDARD_PARALLEL = "N/A"
  WESTERNMOST_LONGITUDE = 137.173
END_OBJECT = IMAGE_MAP_PROJECTION
/* The JPEG2000 image data file associated with this label. */
OBJECT = COMPRESSED_FILE
  FILE_NAME = "HB627_0001_S23.JP2"
  RECORD_TYPE = UNDEFINED
  FILE_RECORDS = UNK
  ENCODING_TYPE = "JP2"
  INTERCHANGE_FORMAT = BINARY
  UNCOMPRESSED_FILE_NAME = "HB627_0001_S23.IMG"
  REQUIRED_STORAGE_BYTES = "185887896"
  ^DESCRIPTION = "JP2INFO.TXT"
END_OBJECT = COMPRESSED_FILE
END
