PDS_VERSION_ID = PDS3
/* FILE DATA ELEMENTS */
RECORD_TYPE = STREAM
/* POINTERS TO DATA OBJECTS */
^COMPRESSED_FILE = "HB628_0000_RE3.JP2"
/* IDENTIFICATION DATA ELEMENTS */
DATA_SET_ID = "MEX-M-HRSC-5-REFDR-MAPPROJECTED-V3.0"
DATA_SET_NAME = "MARS EXPRESS HRSC MAP PROJECTED REFDR V3.0"
DETECTOR_ID = MEX_HRSC_RED
EVENT_TYPE = "MARS-REGIONAL-MAPPING-Te-Gl-Mw"
INSTRUMENT_HOST_ID = MEX
INSTRUMENT_HOST_NAME = "MARS EXPRESS"
INSTRUMENT_ID = HRSC
INSTRUMENT_NAME = "HIGH RESOLUTION STEREO CAMERA"
MISSION_NAME = "MARS EXPRESS"
MISSION_PHASE_NAME = ME_Phase_27
PROCESSING_LEVEL_ID = 3
PRODUCT_CREATION_TIME = 2016-10-28T10:09:05.000Z
PRODUCT_ID = "HB628_0000_RE3.JP2"
RELEASE_ID = 0115
REVISION_ID = 0000
/* QUALITY DATA ELEMENTS */
DATA_QUALITY_ID = 1
DATA_QUALITY_DESC = "Data calculated based on original SPICE kernels"
/* TIME DATA ELEMENTS */
SPACECRAFT_CLOCK_START_COUNT = "1/0309467440.08249"
SPACECRAFT_CLOCK_STOP_COUNT = "1/0309467727.56525"
START_TIME = 2013-02-20T19:11:46.755Z
STOP_TIME = 2013-02-20T19:15:21.535Z
/* ORBITAL DATA ELEMENTS */
ASCENDING_NODE_LONGITUDE = 355.59
MAXIMUM_RESOLUTION = 64.1
FOOTPRINT_POINT_LATITUDE = (42.324,42.3214,42.3173,42.1044,41.8404 ,41.5786,41.3162,41.0552,40.7937, 40.4025,40.0097,39.6199,39.3599,39.0989 ,38.8374,38.4531,38.066,37.8076,37.5441 ,37.1576,36.8982,36.6423,36.2585, 35.8748,35.6203,35.3612,35.1068,34.8455 ,34.4537,34.0643,33.8048,33.5452, 33.2803,33.0162,32.6207,32.3563,31.9587 ,31.6878,31.4191,31.1505,30.7479, 30.4729,30.2008,29.9252,29.6523,29.3738 ,29.2237,29.2196,29.2167,29.2138, 29.2093,29.4883,29.7641,30.037,30.3112, 30.5868,30.8594,31.1281,31.3982,31.6683 ,31.9379,32.2041,32.4682,32.7321, 32.9958,33.2674,33.5368,33.7978,34.0567 ,34.3173,34.5791,34.8396,35.0985, 35.3486,35.6036,35.8611,36.1177,36.3748 ,36.7606,37.0187,37.2762,37.5345, 37.7962,38.1838,38.4428,38.7031,38.9648 ,39.2237,39.4848,39.7466,40.008,40.4002 ,40.6621,40.9252,41.1878,41.4507, 41.7136,41.9755,42.2387,42.324)
FOOTPRINT_POINT_LONGITUDE = (39.9524,39.4239,38.8901,38.5999, 38.6153,38.6288,38.6425,38.6549,38.6675 ,38.6855,38.7046,38.7208,38.7317, 38.7432,38.7552,38.7664,38.7798,38.789, 38.8022,38.8149,38.8246,38.8317,38.8421 ,38.8524,38.8584,38.8677,38.8731, 38.8792,38.8881,38.8953,38.9001,38.905, 38.9094,38.9128,38.9176,38.9214,38.9255 ,38.9294,38.9318,38.9342,38.9369, 38.9394,38.94,38.9431,38.9445,38.9459, 39.4145,39.7933,40.1188,40.3917,40.7879 ,40.782,40.7763,40.7704,40.7645,40.7587 ,40.7526,40.7466,40.7407,40.7346, 40.7283,40.7219,40.7156,40.7092,40.7026 ,40.697,40.6911,40.6848,40.678,40.6714, 40.6648,40.6578,40.6505,40.6428,40.6358 ,40.629,40.6219,40.6148,40.6038,40.5964 ,40.5888,40.5811,40.5738,40.5617, 40.5536,40.5455,40.5374,40.5288,40.5202 ,40.5117,40.5028,40.4893,40.4801, 40.4709,40.4615,40.4519,40.4421,40.432, 40.4219,39.9524)
ORBIT_NUMBER = 11628
ORBITAL_ECCENTRICITY = 0.573
ORBITAL_INCLINATION = 86.89
ORBITAL_SEMIMAJOR_AXIS = 8804.24
PERIAPSIS_ALTITUDE = 373.71
PERIAPSIS_ARGUMENT_ANGLE = 132.58
PERIAPSIS_TIME = 2013-02-20T19:10:00.000Z
SPACECRAFT_ORIENTATION = (0.0,-1.0,0.0)
^MEX_ORIENTATION_DESC = "MEX_ORIENTATION_DESC.TXT"
SPACECRAFT_POINTING_MODE = ACROSSTRACK
^MEX_POINTING_DESC = "MEX_POINTING_DESC.TXT"
RIGHT_ASCENSION = -1e+32
DECLINATION = -1e+32
OFFSET_ANGLE = -0.45
SPACECRAFT_SOLAR_DISTANCE = 2.07475e+08
TARGET_NAME = MARS
/* CAMERA DATA ELEMENTS */
DETECTOR_TEMPERATURE = 18.9822
FOCAL_PLANE_TEMPERATURE = 8.7872
INST_CMPRS_NAME = "DISCRETE COSINE TRANSFORMATION (DCT)"
INST_CMPRS_RATIO = 12.7059
INST_CMPRS_QUALITY = 0
INST_CMPRS_QUANTZ_TBL_ID = 0
INSTRUMENT_TEMPERATURE = 11.6418
LENS_TEMPERATURE = 8.7872
MACROPIXEL_SIZE = 4
MISSING_FRAMES = 0
PIXEL_SUBSAMPLING_FLAG = N
SIGNAL_CHAIN_ID = 2
/* RADIOMETRIC DATA ELEMENTS */
BANDWIDTH = 48.0
CENTER_FILTER_WAVELENGTH = 748.0
RADIANCE_OFFSET = 0.671226
RADIANCE_SCALING_FACTOR = 0.00538238
REFLECTANCE_SCALING_FACTOR = 0.000528725
MEX:REFLECTANCE_OFFSET = 0.0659362
/* IMAGE OBJECT DEFINITIONS */
OBJECT = IMAGE
  INTERCHANGE_FORMAT = BINARY
  LINES = 15633
  LINE_SAMPLES = 2043
  SAMPLE_TYPE = UNSIGNED_INTEGER
  SAMPLE_BITS = 8
  BANDS = 1
  BAND_STORAGE_TYPE = BAND_SEQUENTIAL
  MAXIMUM = 255
  MEAN = 123.114
  MINIMUM = 1
  STANDARD_DEVIATION = 54.12
END_OBJECT = IMAGE
/* MAP OBJECT DEFINITIONS */
OBJECT = IMAGE_MAP_PROJECTION
  ^DATA_SET_MAP_PROJECTION_CATALOG= "DSMAP.CAT"
  A_AXIS_RADIUS = 3396.0
  B_AXIS_RADIUS = 3396.0
  C_AXIS_RADIUS = 3396.0
  CENTER_LATITUDE = 0.0
  CENTER_LONGITUDE = 40.0
  COORDINATE_SYSTEM_NAME = PLANETOGRAPHIC
  COORDINATE_SYSTEM_TYPE = "BODY-FIXED ROTATING"
  EASTERNMOST_LONGITUDE = 40.7879
  FIRST_STANDARD_PARALLEL = "N/A"
  LINE_FIRST_PIXEL = 1
  LINE_LAST_PIXEL = 15633
  LINE_PROJECTION_OFFSET = 50259.125
  MAP_PROJECTION_ROTATION = 0.0
  MAP_PROJECTION_TYPE = SINUSOIDAL
  MAP_RESOLUTION = 1185.42760773333
  MAP_SCALE = 0.05
  MAXIMUM_LATITUDE = 42.324
  MINIMUM_LATITUDE = 29.2093
  POSITIVE_LONGITUDE_DIRECTION = EAST
  REFERENCE_LATITUDE = "N/A"
  REFERENCE_LONGITUDE = "N/A"
  SAMPLE_FIRST_PIXEL = 1
  SAMPLE_LAST_PIXEL = 2043
  SAMPLE_PROJECTION_OFFSET = 1260.125
  SECOND_STANDARD_PARALLEL = "N/A"
  WESTERNMOST_LONGITUDE = 38.5999
END_OBJECT = IMAGE_MAP_PROJECTION
/* The JPEG2000 image data file associated with this label. */
OBJECT = COMPRESSED_FILE
  FILE_NAME = "HB628_0000_RE3.JP2"
  RECORD_TYPE = UNDEFINED
  FILE_RECORDS = UNK
  ENCODING_TYPE = "JP2"
  INTERCHANGE_FORMAT = BINARY
  UNCOMPRESSED_FILE_NAME = "HB628_0000_RE3.IMG"
  REQUIRED_STORAGE_BYTES = "31958649"
  ^DESCRIPTION = "JP2INFO.TXT"
END_OBJECT = COMPRESSED_FILE
END
