PDS_VERSION_ID = PDS3
/* FILE DATA ELEMENTS */
RECORD_TYPE = STREAM
/* POINTERS TO DATA OBJECTS */
^COMPRESSED_FILE = "HB648_0000_P13.JP2"
/* IDENTIFICATION DATA ELEMENTS */
DATA_SET_ID = "MEX-M-HRSC-5-REFDR-MAPPROJECTED-V3.0"
DATA_SET_NAME = "MARS EXPRESS HRSC MAP PROJECTED REFDR V3.0"
DETECTOR_ID = MEX_HRSC_P1
EVENT_TYPE = "MARS-REGIONAL-MAPPING-Vo-Te-Pf"
INSTRUMENT_HOST_ID = MEX
INSTRUMENT_HOST_NAME = "MARS EXPRESS"
INSTRUMENT_ID = HRSC
INSTRUMENT_NAME = "HIGH RESOLUTION STEREO CAMERA"
MISSION_NAME = "MARS EXPRESS"
MISSION_PHASE_NAME = ME_Phase_27
PROCESSING_LEVEL_ID = 3
PRODUCT_CREATION_TIME = 2016-10-28T10:09:05.000Z
PRODUCT_ID = "HB648_0000_P13.JP2"
RELEASE_ID = 0115
REVISION_ID = 0000
/* QUALITY DATA ELEMENTS */
DATA_QUALITY_ID = 1
DATA_QUALITY_DESC = "Data calculated based on original SPICE kernels"
/* TIME DATA ELEMENTS */
SPACECRAFT_CLOCK_START_COUNT = "1/0309970694.09058"
SPACECRAFT_CLOCK_STOP_COUNT = "1/0309970966.25170"
START_TIME = 2013-02-26T14:58:29.735Z
STOP_TIME = 2013-02-26T15:01:35.442Z
/* ORBITAL DATA ELEMENTS */
ASCENDING_NODE_LONGITUDE = 355.22
MAXIMUM_RESOLUTION = 31.6
FOOTPRINT_POINT_LATITUDE = (43.6566,43.6604,43.6634,43.6654, 43.6666,43.667,43.4971,43.2616,42.9083, 42.5549,42.3194,41.9662,41.7307,41.3776 ,41.1419,40.7887,40.5532,40.2003, 39.9648,39.6116,39.2586,39.0233,38.7881 ,38.4352,38.2002,37.9652,37.6127, 37.3778,37.143,36.7909,36.4347,36.2001, 35.9656,35.7257,35.4853,35.2446,35.0041 ,34.6434,34.4032,34.1629,33.7943, 33.5482,33.3023,33.0562,32.8106,32.5648 ,32.1876,31.9358,31.6841,31.6628, 31.6571,31.6532,31.6465,31.6408,31.6279 ,31.8799,32.1321,32.5103,32.7565, 33.0029,33.2493,33.6195,33.8662,34.1126 ,34.3534,34.7098,34.9555,35.1961,35.437 ,35.6781,35.9186,36.1539,36.5065, 36.8626,37.2155,37.4509,37.8039,38.0394 ,38.3926,38.6282,38.9816,39.2173,39.453 ,39.6888,39.9247,40.1605,40.3964, 40.6323,40.8681,41.1041,41.34,41.576, 41.9299,42.2841,42.521,42.7537,42.9931, 43.346,43.582,43.6566)
FOOTPRINT_POINT_LONGITUDE = (157.493,157.206,156.92,156.638,156.358 ,156.08,155.948,155.956,155.966,155.976 ,155.982,155.991,155.997,156.005, 156.011,156.018,156.023,156.029,156.034 ,156.04,156.045,156.049,156.052,156.057 ,156.06,156.062,156.066,156.068,156.071 ,156.073,156.076,156.077,156.079,156.08 ,156.081,156.082,156.082,156.083, 156.084,156.084,156.084,156.083,156.083 ,156.082,156.082,156.081,156.079, 156.078,156.077,156.318,156.631,156.876 ,157.177,157.409,157.901,157.9,157.9, 157.899,157.898,157.898,157.897,157.896 ,157.895,157.895,157.894,157.898, 157.892,157.891,157.891,157.89,157.889, 157.888,157.886,157.885,157.884,157.883 ,157.881,157.88,157.878,157.877,157.875 ,157.874,157.872,157.871,157.869, 157.868,157.866,157.865,157.863,157.862 ,157.86,157.858,157.855,157.852,157.849 ,157.851,157.845,157.843,157.84, 157.493)
ORBIT_NUMBER = 11648
ORBITAL_ECCENTRICITY = 0.572
ORBITAL_INCLINATION = 86.89
ORBITAL_SEMIMAJOR_AXIS = 8794.21
PERIAPSIS_ALTITUDE = 376.51
PERIAPSIS_ARGUMENT_ANGLE = 129.13
PERIAPSIS_TIME = 2013-02-26T14:57:00.000Z
SPACECRAFT_ORIENTATION = (0.0,-1.0,0.0)
^MEX_ORIENTATION_DESC = "MEX_ORIENTATION_DESC.TXT"
SPACECRAFT_POINTING_MODE = ACROSSTRACK
^MEX_POINTING_DESC = "MEX_POINTING_DESC.TXT"
RIGHT_ASCENSION = -1e+32
DECLINATION = -1e+32
OFFSET_ANGLE = 0.75
SPACECRAFT_SOLAR_DISTANCE = 2.07848e+08
TARGET_NAME = MARS
/* CAMERA DATA ELEMENTS */
DETECTOR_TEMPERATURE = 17.5549
FOCAL_PLANE_TEMPERATURE = 8.3794
INST_CMPRS_NAME = "DISCRETE COSINE TRANSFORMATION (DCT)"
INST_CMPRS_RATIO = 6.64946
INST_CMPRS_QUALITY = 0
INST_CMPRS_QUANTZ_TBL_ID = 0
INSTRUMENT_TEMPERATURE = 11.234
LENS_TEMPERATURE = 8.7872
MACROPIXEL_SIZE = 2
MISSING_FRAMES = 1
PIXEL_SUBSAMPLING_FLAG = N
SIGNAL_CHAIN_ID = 3
/* RADIOMETRIC DATA ELEMENTS */
BANDWIDTH = 174.0
CENTER_FILTER_WAVELENGTH = 675.0
RADIANCE_OFFSET = 2.43535
RADIANCE_SCALING_FACTOR = 0.0197209
REFLECTANCE_SCALING_FACTOR = 0.000458254
MEX:REFLECTANCE_OFFSET = 0.0565901
/* IMAGE OBJECT DEFINITIONS */
OBJECT = IMAGE
  INTERCHANGE_FORMAT = BINARY
  LINES = 28428
  LINE_SAMPLES = 3899
  SAMPLE_TYPE = UNSIGNED_INTEGER
  SAMPLE_BITS = 8
  BANDS = 1
  BAND_STORAGE_TYPE = BAND_SEQUENTIAL
  MAXIMUM = 255
  MEAN = 106.342
  MINIMUM = 1
  STANDARD_DEVIATION = 37.6584
END_OBJECT = IMAGE
/* MAP OBJECT DEFINITIONS */
OBJECT = IMAGE_MAP_PROJECTION
  ^DATA_SET_MAP_PROJECTION_CATALOG= "DSMAP.CAT"
  A_AXIS_RADIUS = 3396.0
  B_AXIS_RADIUS = 3396.0
  C_AXIS_RADIUS = 3396.0
  CENTER_LATITUDE = 0.0
  CENTER_LONGITUDE = 157.0
  COORDINATE_SYSTEM_NAME = PLANETOGRAPHIC
  COORDINATE_SYSTEM_TYPE = "BODY-FIXED ROTATING"
  EASTERNMOST_LONGITUDE = 157.901
  FIRST_STANDARD_PARALLEL = "N/A"
  LINE_FIRST_PIXEL = 1
  LINE_LAST_PIXEL = 28428
  LINE_PROJECTION_OFFSET = 103467.25
  MAP_PROJECTION_ROTATION = 0.0
  MAP_PROJECTION_TYPE = SINUSOIDAL
  MAP_RESOLUTION = 2370.85521546667
  MAP_SCALE = 0.025
  MAXIMUM_LATITUDE = 43.667
  MINIMUM_LATITUDE = 31.6279
  POSITIVE_LONGITUDE_DIRECTION = EAST
  REFERENCE_LATITUDE = "N/A"
  REFERENCE_LONGITUDE = "N/A"
  SAMPLE_FIRST_PIXEL = 1
  SAMPLE_LAST_PIXEL = 3899
  SAMPLE_PROJECTION_OFFSET = 1927.75
  SECOND_STANDARD_PARALLEL = "N/A"
  WESTERNMOST_LONGITUDE = 155.948
END_OBJECT = IMAGE_MAP_PROJECTION
/* The JPEG2000 image data file associated with this label. */
OBJECT = COMPRESSED_FILE
  FILE_NAME = "HB648_0000_P13.JP2"
  RECORD_TYPE = UNDEFINED
  FILE_RECORDS = UNK
  ENCODING_TYPE = "JP2"
  INTERCHANGE_FORMAT = BINARY
  UNCOMPRESSED_FILE_NAME = "HB648_0000_P13.IMG"
  REQUIRED_STORAGE_BYTES = "110864166"
  ^DESCRIPTION = "JP2INFO.TXT"
END_OBJECT = COMPRESSED_FILE
END
