PDS_VERSION_ID = PDS3
/* FILE DATA ELEMENTS */
RECORD_TYPE = STREAM
/* POINTERS TO DATA OBJECTS */
^COMPRESSED_FILE = "HB651_0000_GR3.JP2"
/* IDENTIFICATION DATA ELEMENTS */
DATA_SET_ID = "MEX-M-HRSC-5-REFDR-MAPPROJECTED-V3.0"
DATA_SET_NAME = "MARS EXPRESS HRSC MAP PROJECTED REFDR V3.0"
DETECTOR_ID = MEX_HRSC_GREEN
EVENT_TYPE = "MARS-REGIONAL-MAPPING-Vo-Te-Pf"
INSTRUMENT_HOST_ID = MEX
INSTRUMENT_HOST_NAME = "MARS EXPRESS"
INSTRUMENT_ID = HRSC
INSTRUMENT_NAME = "HIGH RESOLUTION STEREO CAMERA"
MISSION_NAME = "MARS EXPRESS"
MISSION_PHASE_NAME = ME_Phase_27
PROCESSING_LEVEL_ID = 3
PRODUCT_CREATION_TIME = 2016-10-28T10:09:05.000Z
PRODUCT_ID = "HB651_0000_GR3.JP2"
RELEASE_ID = 0115
REVISION_ID = 0000
/* QUALITY DATA ELEMENTS */
DATA_QUALITY_ID = 1
DATA_QUALITY_DESC = "Data calculated based on original SPICE kernels"
/* TIME DATA ELEMENTS */
SPACECRAFT_CLOCK_START_COUNT = "1/0310046197.07301"
SPACECRAFT_CLOCK_STOP_COUNT = "1/0310046546.52084"
START_TIME = 2013-02-27T11:57:09.902Z
STOP_TIME = 2013-02-27T12:01:26.609Z
/* ORBITAL DATA ELEMENTS */
ASCENDING_NODE_LONGITUDE = 355.16
MAXIMUM_RESOLUTION = 62.7
FOOTPRINT_POINT_LATITUDE = (42.3201,42.3011,42.2843,42.0991,41.797 ,41.4952,41.1936,40.8919,40.5904, 40.2891,39.9879,39.687,39.3862,39.0855, 38.7851,38.4849,37.885,37.286,36.8265, 36.5196,36.213,35.9066,35.6005,35.2893, 34.9756,34.6623,34.3493,34.0367,33.5576 ,33.2378,32.9183,32.5993,32.2729, 31.7836,31.4578,31.128,30.7952,30.4628, 30.1309,29.7916,29.4527,29.1143,28.7707 ,28.4255,28.0808,27.7313,27.3799, 27.0291,26.6722,26.2125,26.2194,26.225, 26.2298,26.5879,27.1235,27.4753,27.8277 ,28.3493,28.6953,29.0417,29.381,29.7206 ,30.2291,30.5619,30.8952,31.3948, 31.7212,32.048,32.3752,32.7006,33.0206, 33.341,33.6616,34.1402,34.4537,34.7676, 35.2389,35.5532,35.86,36.167,36.4743, 36.7819,37.0897,37.3947,37.6949,37.9954 ,38.296,38.5969,38.8979,39.1992,39.5007 ,39.8023,40.1041,40.4061,40.7083, 41.0106,41.313,41.6157,41.9185,42.3201)
FOOTPRINT_POINT_LONGITUDE = (209.328,208.582,208.044,207.475, 207.491,207.508,207.524,207.539,207.554 ,207.568,207.582,207.595,207.608, 207.621,207.633,207.645,207.667,207.687 ,207.702,207.711,207.72,207.729,207.737 ,207.745,207.752,207.759,207.766, 207.773,207.782,207.787,207.793,207.798 ,207.803,207.809,207.813,207.816, 207.819,207.822,207.825,207.827,207.828 ,207.83,207.831,207.831,207.832,207.832 ,207.831,207.83,207.829,207.827,208.326 ,208.912,209.786,209.78,209.77,209.763, 209.757,209.746,209.739,209.732,209.725 ,209.718,209.707,209.7,209.692,209.681, 209.673,209.665,209.657,209.649,209.641 ,209.633,209.624,209.612,209.603, 209.594,209.581,209.572,209.563,209.553 ,209.544,209.534,209.525,209.515, 209.505,209.495,209.485,209.475,209.464 ,209.453,209.442,209.431,209.42,209.409 ,209.397,209.385,209.373,209.36,209.348 ,209.328)
ORBIT_NUMBER = 11651
ORBITAL_ECCENTRICITY = 0.572
ORBITAL_INCLINATION = 86.91
ORBITAL_SEMIMAJOR_AXIS = 8792.21
PERIAPSIS_ALTITUDE = 375.71
PERIAPSIS_ARGUMENT_ANGLE = 128.59
PERIAPSIS_TIME = 2013-02-27T11:54:55.000Z
SPACECRAFT_ORIENTATION = (0.0,-1.0,0.0)
^MEX_ORIENTATION_DESC = "MEX_ORIENTATION_DESC.TXT"
SPACECRAFT_POINTING_MODE = ACROSSTRACK
^MEX_POINTING_DESC = "MEX_POINTING_DESC.TXT"
RIGHT_ASCENSION = -1e+32
DECLINATION = -1e+32
OFFSET_ANGLE = -0.6
SPACECRAFT_SOLAR_DISTANCE = 2.0791e+08
TARGET_NAME = MARS
/* CAMERA DATA ELEMENTS */
DETECTOR_TEMPERATURE = 18.5744
FOCAL_PLANE_TEMPERATURE = 9.6028
INST_CMPRS_NAME = "DISCRETE COSINE TRANSFORMATION (DCT)"
INST_CMPRS_RATIO = 11.7544
INST_CMPRS_QUALITY = 0
INST_CMPRS_QUANTZ_TBL_ID = 0
INSTRUMENT_TEMPERATURE = 11.8457
LENS_TEMPERATURE = 9.6028
MACROPIXEL_SIZE = 4
MISSING_FRAMES = 0
PIXEL_SUBSAMPLING_FLAG = N
SIGNAL_CHAIN_ID = 2
/* RADIOMETRIC DATA ELEMENTS */
BANDWIDTH = 88.0
CENTER_FILTER_WAVELENGTH = 538.0
RADIANCE_OFFSET = 1.30617
RADIANCE_SCALING_FACTOR = 0.0050819
REFLECTANCE_SCALING_FACTOR = 0.000189134
MEX:REFLECTANCE_OFFSET = 0.0486119
/* IMAGE OBJECT DEFINITIONS */
OBJECT = IMAGE
  INTERCHANGE_FORMAT = BINARY
  LINES = 19077
  LINE_SAMPLES = 2240
  SAMPLE_TYPE = UNSIGNED_INTEGER
  SAMPLE_BITS = 8
  BANDS = 1
  BAND_STORAGE_TYPE = BAND_SEQUENTIAL
  MAXIMUM = 255
  MEAN = 136.013
  MINIMUM = 1
  STANDARD_DEVIATION = 60.3782
END_OBJECT = IMAGE
/* MAP OBJECT DEFINITIONS */
OBJECT = IMAGE_MAP_PROJECTION
  ^DATA_SET_MAP_PROJECTION_CATALOG= "DSMAP.CAT"
  A_AXIS_RADIUS = 3396.0
  B_AXIS_RADIUS = 3396.0
  C_AXIS_RADIUS = 3396.0
  CENTER_LATITUDE = 0.0
  CENTER_LONGITUDE = 209.0
  COORDINATE_SYSTEM_NAME = PLANETOGRAPHIC
  COORDINATE_SYSTEM_TYPE = "BODY-FIXED ROTATING"
  EASTERNMOST_LONGITUDE = 209.786
  FIRST_STANDARD_PARALLEL = "N/A"
  LINE_FIRST_PIXEL = 1
  LINE_LAST_PIXEL = 19077
  LINE_PROJECTION_OFFSET = 50154.625
  MAP_PROJECTION_ROTATION = 0.0
  MAP_PROJECTION_TYPE = SINUSOIDAL
  MAP_RESOLUTION = 1185.42760773333
  MAP_SCALE = 0.05
  MAXIMUM_LATITUDE = 42.3201
  MINIMUM_LATITUDE = 26.2125
  POSITIVE_LONGITUDE_DIRECTION = EAST
  REFERENCE_LATITUDE = "N/A"
  REFERENCE_LONGITUDE = "N/A"
  SAMPLE_FIRST_PIXEL = 1
  SAMPLE_LAST_PIXEL = 2240
  SAMPLE_PROJECTION_OFFSET = 1388.125
  SECOND_STANDARD_PARALLEL = "N/A"
  WESTERNMOST_LONGITUDE = 207.475
END_OBJECT = IMAGE_MAP_PROJECTION
/* The JPEG2000 image data file associated with this label. */
OBJECT = COMPRESSED_FILE
  FILE_NAME = "HB651_0000_GR3.JP2"
  RECORD_TYPE = UNDEFINED
  FILE_RECORDS = UNK
  ENCODING_TYPE = "JP2"
  INTERCHANGE_FORMAT = BINARY
  UNCOMPRESSED_FILE_NAME = "HB651_0000_GR3.IMG"
  REQUIRED_STORAGE_BYTES = "42754880"
  ^DESCRIPTION = "JP2INFO.TXT"
END_OBJECT = COMPRESSED_FILE
END
