PDS_VERSION_ID = PDS3
/* FILE DATA ELEMENTS */
RECORD_TYPE = STREAM
/* POINTERS TO DATA OBJECTS */
^COMPRESSED_FILE = "HB655_0000_P13.JP2"
/* IDENTIFICATION DATA ELEMENTS */
DATA_SET_ID = "MEX-M-HRSC-5-REFDR-MAPPROJECTED-V3.0"
DATA_SET_NAME = "MARS EXPRESS HRSC MAP PROJECTED REFDR V3.0"
DETECTOR_ID = MEX_HRSC_P1
EVENT_TYPE = "MARS-REGIONAL-MAPPING-Lc-Pf-Mw"
INSTRUMENT_HOST_ID = MEX
INSTRUMENT_HOST_NAME = "MARS EXPRESS"
INSTRUMENT_ID = HRSC
INSTRUMENT_NAME = "HIGH RESOLUTION STEREO CAMERA"
MISSION_NAME = "MARS EXPRESS"
MISSION_PHASE_NAME = ME_Phase_27
PROCESSING_LEVEL_ID = 3
PRODUCT_CREATION_TIME = 2016-10-28T10:09:05.000Z
PRODUCT_ID = "HB655_0000_P13.JP2"
RELEASE_ID = 0115
REVISION_ID = 0000
/* QUALITY DATA ELEMENTS */
DATA_QUALITY_ID = 1
DATA_QUALITY_DESC = "Data calculated based on original SPICE kernels"
/* TIME DATA ELEMENTS */
SPACECRAFT_CLOCK_START_COUNT = "1/0310146666.09065"
SPACECRAFT_CLOCK_STOP_COUNT = "1/0310146896.15907"
START_TIME = 2013-02-28T15:51:21.675Z
STOP_TIME = 2013-02-28T15:53:58.719Z
/* ORBITAL DATA ELEMENTS */
ASCENDING_NODE_LONGITUDE = 355.08
MAXIMUM_RESOLUTION = 31.2
FOOTPRINT_POINT_LATITUDE = (54.582,54.5693,54.5509,54.5382,54.5261 ,54.5112,54.3423,54.0446,53.8461, 53.6475,53.4487,53.2504,52.9518,52.7527 ,52.4542,52.1552,51.9556,51.7561, 51.5562,51.3565,51.1566,50.9568,50.7569 ,50.5568,50.3567,50.1565,49.9562, 49.6557,49.4552,49.2546,49.0543,48.8537 ,48.6529,48.4522,48.2513,48.0506, 47.8497,47.5483,47.3473,47.0458,46.7442 ,46.3419,46.1405,45.9394,45.738,45.5367 ,45.3355,45.034,44.8323,44.5298,44.3842 ,44.3967,44.409,44.4201,44.4272,44.6287 ,44.8307,45.0329,45.2344,45.5372, 45.8398,46.0416,46.3443,46.5462,46.8488 ,47.0504,47.3529,47.6553,47.857,48.1591 ,48.3607,48.5621,48.7634,48.9648, 49.2665,49.4677,49.6688,49.8702,50.071, 50.2718,50.4728,50.774,50.9748,51.2759, 51.5767,51.7773,51.9776,52.1779,52.3783 ,52.5783,52.7782,52.9781,53.1777, 53.3772,53.577,53.8764,54.0758,54.2751, 54.4743,54.582)
FOOTPRINT_POINT_LONGITUDE = (160.489,160.038,159.48,159.137,158.837 ,158.494,158.455,158.494,158.519, 158.544,158.568,158.592,158.628,158.651 ,158.685,158.718,158.739,158.76,158.781 ,158.802,158.822,158.842,158.861,158.88 ,158.899,158.918,158.936,158.963,158.98 ,158.997,159.014,159.031,159.047, 159.063,159.079,159.094,159.109,159.132 ,159.146,159.167,159.188,159.215, 159.228,159.241,159.253,159.265,159.277 ,159.295,159.307,159.323,159.422, 159.825,160.302,160.833,161.225,161.218 ,161.212,161.205,161.198,161.188, 161.178,161.171,161.16,161.152,161.141, 161.133,161.122,161.11,161.102,161.09, 161.081,161.073,161.064,161.055,161.042 ,161.033,161.024,161.015,161.006, 160.996,160.987,160.972,160.962,160.947 ,160.932,160.921,160.911,160.9,160.889, 160.878,160.867,160.856,160.844,160.833 ,160.821,160.803,160.791,160.779, 160.766,160.489)
ORBIT_NUMBER = 11655
ORBITAL_ECCENTRICITY = 0.572
ORBITAL_INCLINATION = 86.9
ORBITAL_SEMIMAJOR_AXIS = 8791.57
PERIAPSIS_ALTITUDE = 377.16
PERIAPSIS_ARGUMENT_ANGLE = 127.92
PERIAPSIS_TIME = 2013-02-28T15:52:23.000Z
SPACECRAFT_ORIENTATION = (0.0,-1.0,0.0)
^MEX_ORIENTATION_DESC = "MEX_ORIENTATION_DESC.TXT"
SPACECRAFT_POINTING_MODE = NADIR
^MEX_POINTING_DESC = "MEX_POINTING_DESC.TXT"
RIGHT_ASCENSION = -1e+32
DECLINATION = -1e+32
OFFSET_ANGLE = -1e+32
SPACECRAFT_SOLAR_DISTANCE = 2.07995e+08
TARGET_NAME = MARS
/* CAMERA DATA ELEMENTS */
DETECTOR_TEMPERATURE = 17.7588
FOCAL_PLANE_TEMPERATURE = 7.9716
INST_CMPRS_NAME = "DISCRETE COSINE TRANSFORMATION (DCT)"
INST_CMPRS_RATIO = 12.7567
INST_CMPRS_QUALITY = 0
INST_CMPRS_QUANTZ_TBL_ID = 0
INSTRUMENT_TEMPERATURE = 11.6418
LENS_TEMPERATURE = 8.9911
MACROPIXEL_SIZE = 2
MISSING_FRAMES = 0
PIXEL_SUBSAMPLING_FLAG = N
SIGNAL_CHAIN_ID = 3
/* RADIOMETRIC DATA ELEMENTS */
BANDWIDTH = 174.0
CENTER_FILTER_WAVELENGTH = 675.0
RADIANCE_OFFSET = 1.12927
RADIANCE_SCALING_FACTOR = 0.0154527
REFLECTANCE_SCALING_FACTOR = 0.00035958
MEX:REFLECTANCE_OFFSET = 0.0262778
/* IMAGE OBJECT DEFINITIONS */
OBJECT = IMAGE
  INTERCHANGE_FORMAT = BINARY
  LINES = 24003
  LINE_SAMPLES = 4233
  SAMPLE_TYPE = UNSIGNED_INTEGER
  SAMPLE_BITS = 8
  BANDS = 1
  BAND_STORAGE_TYPE = BAND_SEQUENTIAL
  MAXIMUM = 255
  MEAN = 88.6532
  MINIMUM = 1
  STANDARD_DEVIATION = 48.6167
END_OBJECT = IMAGE
/* MAP OBJECT DEFINITIONS */
OBJECT = IMAGE_MAP_PROJECTION
  ^DATA_SET_MAP_PROJECTION_CATALOG= "DSMAP.CAT"
  A_AXIS_RADIUS = 3396.0
  B_AXIS_RADIUS = 3396.0
  C_AXIS_RADIUS = 3396.0
  CENTER_LATITUDE = 0.0
  CENTER_LONGITUDE = 160.0
  COORDINATE_SYSTEM_NAME = PLANETOGRAPHIC
  COORDINATE_SYSTEM_TYPE = "BODY-FIXED ROTATING"
  EASTERNMOST_LONGITUDE = 161.225
  FIRST_STANDARD_PARALLEL = "N/A"
  LINE_FIRST_PIXEL = 1
  LINE_LAST_PIXEL = 24003
  LINE_PROJECTION_OFFSET = 129273.75
  MAP_PROJECTION_ROTATION = 0.0
  MAP_PROJECTION_TYPE = SINUSOIDAL
  MAP_RESOLUTION = 2370.85521546667
  MAP_SCALE = 0.025
  MAXIMUM_LATITUDE = 54.582
  MINIMUM_LATITUDE = 44.3842
  POSITIVE_LONGITUDE_DIRECTION = EAST
  REFERENCE_LATITUDE = "N/A"
  REFERENCE_LONGITUDE = "N/A"
  SAMPLE_FIRST_PIXEL = 1
  SAMPLE_LAST_PIXEL = 4233
  SAMPLE_PROJECTION_OFFSET = 2115.75
  SECOND_STANDARD_PARALLEL = "N/A"
  WESTERNMOST_LONGITUDE = 158.455
END_OBJECT = IMAGE_MAP_PROJECTION
/* The JPEG2000 image data file associated with this label. */
OBJECT = COMPRESSED_FILE
  FILE_NAME = "HB655_0000_P13.JP2"
  RECORD_TYPE = UNDEFINED
  FILE_RECORDS = UNK
  ENCODING_TYPE = "JP2"
  INTERCHANGE_FORMAT = BINARY
  UNCOMPRESSED_FILE_NAME = "HB655_0000_P13.IMG"
  REQUIRED_STORAGE_BYTES = "101630097"
  ^DESCRIPTION = "JP2INFO.TXT"
END_OBJECT = COMPRESSED_FILE
END
