PDS_VERSION_ID = PDS3
/* FILE DATA ELEMENTS */
RECORD_TYPE = STREAM
/* POINTERS TO DATA OBJECTS */
^COMPRESSED_FILE = "HB655_0000_RE3.JP2"
/* IDENTIFICATION DATA ELEMENTS */
DATA_SET_ID = "MEX-M-HRSC-5-REFDR-MAPPROJECTED-V3.0"
DATA_SET_NAME = "MARS EXPRESS HRSC MAP PROJECTED REFDR V3.0"
DETECTOR_ID = MEX_HRSC_RED
EVENT_TYPE = "MARS-REGIONAL-MAPPING-Lc-Pf-Mw"
INSTRUMENT_HOST_ID = MEX
INSTRUMENT_HOST_NAME = "MARS EXPRESS"
INSTRUMENT_ID = HRSC
INSTRUMENT_NAME = "HIGH RESOLUTION STEREO CAMERA"
MISSION_NAME = "MARS EXPRESS"
MISSION_PHASE_NAME = ME_Phase_27
PROCESSING_LEVEL_ID = 3
PRODUCT_CREATION_TIME = 2016-10-28T10:09:05.000Z
PRODUCT_ID = "HB655_0000_RE3.JP2"
RELEASE_ID = 0115
REVISION_ID = 0000
/* QUALITY DATA ELEMENTS */
DATA_QUALITY_ID = 1
DATA_QUALITY_DESC = "Data calculated based on original SPICE kernels"
/* TIME DATA ELEMENTS */
SPACECRAFT_CLOCK_START_COUNT = "1/0310146666.09065"
SPACECRAFT_CLOCK_STOP_COUNT = "1/0310146896.15907"
START_TIME = 2013-02-28T15:52:13.137Z
STOP_TIME = 2013-02-28T15:54:51.626Z
/* ORBITAL DATA ELEMENTS */
ASCENDING_NODE_LONGITUDE = 355.08
MAXIMUM_RESOLUTION = 63.8
FOOTPRINT_POINT_LATITUDE = (54.4465,54.4378,54.4259,54.415,54.3946 ,54.4698,54.1658,53.9632,53.6593, 53.3555,53.1528,52.9506,52.7484,52.5463 ,52.2431,51.9404,51.7386,51.5372, 51.3355,51.1342,50.9328,50.6307,50.4297 ,50.1281,49.9274,49.6262,49.4256, 49.2252,49.0247,48.8243,48.6244,48.4244 ,48.2246,47.9249,47.7254,47.5259, 47.3267,47.1275,46.8289,46.5309,46.3321 ,46.1337,45.9354,45.6382,45.4403, 45.2422,44.9454,44.7485,44.5514,44.4246 ,44.4303,44.4347,44.4417,44.4487, 44.4536,44.6516,44.8496,45.0474,45.246, 45.5434,45.7421,45.9411,46.1398,46.3389 ,46.5381,46.837,47.1363,47.3361,47.536, 47.7361,47.9358,48.1365,48.3367,48.6376 ,48.8384,49.1399,49.341,49.5421,49.7431 ,49.9447,50.2473,50.4488,50.7517, 50.9535,51.2564,51.4587,51.6608,51.8633 ,52.0659,52.471,52.7757,52.9788,53.2837 ,53.4872,53.6903,53.8936,54.0971, 54.3008,54.5044,54.4465)
FOOTPRINT_POINT_LONGITUDE = (160.48,160.153,159.744,159.396,158.803 ,158.447,158.485,158.51,158.547,158.583 ,158.607,158.63,158.652,158.674,158.707 ,158.739,158.759,158.779,158.799, 158.819,158.838,158.866,158.884,158.911 ,158.929,158.954,158.971,158.987, 159.004,159.019,159.035,159.05,159.065, 159.087,159.101,159.115,159.129,159.142 ,159.162,159.181,159.193,159.205, 159.217,159.234,159.246,159.257,159.273 ,159.283,159.293,159.682,159.955,160.21 ,160.52,160.975,161.254,161.247,161.24, 161.233,161.226,161.215,161.207,161.2, 161.192,161.184,161.176,161.164,161.151 ,161.143,161.135,161.126,161.117, 161.108,161.099,161.086,161.076,161.062 ,161.053,161.043,161.033,161.023, 161.008,160.998,160.982,160.971,160.955 ,160.944,160.932,160.921,160.909, 160.886,160.868,160.855,160.837,160.824 ,160.811,160.798,160.785,160.771, 160.757,160.48)
ORBIT_NUMBER = 11655
ORBITAL_ECCENTRICITY = 0.572
ORBITAL_INCLINATION = 86.9
ORBITAL_SEMIMAJOR_AXIS = 8791.57
PERIAPSIS_ALTITUDE = 377.16
PERIAPSIS_ARGUMENT_ANGLE = 127.92
PERIAPSIS_TIME = 2013-02-28T15:52:23.000Z
SPACECRAFT_ORIENTATION = (0.0,-1.0,0.0)
^MEX_ORIENTATION_DESC = "MEX_ORIENTATION_DESC.TXT"
SPACECRAFT_POINTING_MODE = NADIR
^MEX_POINTING_DESC = "MEX_POINTING_DESC.TXT"
RIGHT_ASCENSION = -1e+32
DECLINATION = -1e+32
OFFSET_ANGLE = -1e+32
SPACECRAFT_SOLAR_DISTANCE = 2.07995e+08
TARGET_NAME = MARS
/* CAMERA DATA ELEMENTS */
DETECTOR_TEMPERATURE = 18.5744
FOCAL_PLANE_TEMPERATURE = 7.9716
INST_CMPRS_NAME = "DISCRETE COSINE TRANSFORMATION (DCT)"
INST_CMPRS_RATIO = 28.8721
INST_CMPRS_QUALITY = 0
INST_CMPRS_QUANTZ_TBL_ID = 0
INSTRUMENT_TEMPERATURE = 11.6418
LENS_TEMPERATURE = 8.9911
MACROPIXEL_SIZE = 4
MISSING_FRAMES = 0
PIXEL_SUBSAMPLING_FLAG = N
SIGNAL_CHAIN_ID = 2
/* RADIOMETRIC DATA ELEMENTS */
BANDWIDTH = 48.0
CENTER_FILTER_WAVELENGTH = 748.0
RADIANCE_OFFSET = 0.247539
RADIANCE_SCALING_FACTOR = 0.00422742
REFLECTANCE_SCALING_FACTOR = 0.000417358
MEX:REFLECTANCE_OFFSET = 0.0244386
/* IMAGE OBJECT DEFINITIONS */
OBJECT = IMAGE
  INTERCHANGE_FORMAT = BINARY
  LINES = 12002
  LINE_SAMPLES = 2117
  SAMPLE_TYPE = UNSIGNED_INTEGER
  SAMPLE_BITS = 8
  BANDS = 1
  BAND_STORAGE_TYPE = BAND_SEQUENTIAL
  MAXIMUM = 255
  MEAN = 88.6397
  MINIMUM = 1
  STANDARD_DEVIATION = 48.4983
END_OBJECT = IMAGE
/* MAP OBJECT DEFINITIONS */
OBJECT = IMAGE_MAP_PROJECTION
  ^DATA_SET_MAP_PROJECTION_CATALOG= "DSMAP.CAT"
  A_AXIS_RADIUS = 3396.0
  B_AXIS_RADIUS = 3396.0
  C_AXIS_RADIUS = 3396.0
  CENTER_LATITUDE = 0.0
  CENTER_LONGITUDE = 160.0
  COORDINATE_SYSTEM_NAME = PLANETOGRAPHIC
  COORDINATE_SYSTEM_TYPE = "BODY-FIXED ROTATING"
  EASTERNMOST_LONGITUDE = 161.254
  FIRST_STANDARD_PARALLEL = "N/A"
  LINE_FIRST_PIXEL = 1
  LINE_LAST_PIXEL = 12002
  LINE_PROJECTION_OFFSET = 64636.625
  MAP_PROJECTION_ROTATION = 0.0
  MAP_PROJECTION_TYPE = SINUSOIDAL
  MAP_RESOLUTION = 1185.42760773333
  MAP_SCALE = 0.05
  MAXIMUM_LATITUDE = 54.5044
  MINIMUM_LATITUDE = 44.4246
  POSITIVE_LONGITUDE_DIRECTION = EAST
  REFERENCE_LATITUDE = "N/A"
  REFERENCE_LONGITUDE = "N/A"
  SAMPLE_FIRST_PIXEL = 1
  SAMPLE_LAST_PIXEL = 2117
  SAMPLE_PROJECTION_OFFSET = 1057.625
  SECOND_STANDARD_PARALLEL = "N/A"
  WESTERNMOST_LONGITUDE = 158.447
END_OBJECT = IMAGE_MAP_PROJECTION
/* The JPEG2000 image data file associated with this label. */
OBJECT = COMPRESSED_FILE
  FILE_NAME = "HB655_0000_RE3.JP2"
  RECORD_TYPE = UNDEFINED
  FILE_RECORDS = UNK
  ENCODING_TYPE = "JP2"
  INTERCHANGE_FORMAT = BINARY
  UNCOMPRESSED_FILE_NAME = "HB655_0000_RE3.IMG"
  REQUIRED_STORAGE_BYTES = "25429404"
  ^DESCRIPTION = "JP2INFO.TXT"
END_OBJECT = COMPRESSED_FILE
END
