PDS_VERSION_ID = PDS3
/* FILE DATA ELEMENTS */
RECORD_TYPE = STREAM
/* POINTERS TO DATA OBJECTS */
^COMPRESSED_FILE = "HB690_0000_P13.JP2"
/* IDENTIFICATION DATA ELEMENTS */
DATA_SET_ID = "MEX-M-HRSC-5-REFDR-MAPPROJECTED-V3.0"
DATA_SET_NAME = "MARS EXPRESS HRSC MAP PROJECTED REFDR V3.0"
DETECTOR_ID = MEX_HRSC_P1
EVENT_TYPE = "MARS-REGIONAL-MAPPING-Vo-Pf-Eo"
INSTRUMENT_HOST_ID = MEX
INSTRUMENT_HOST_NAME = "MARS EXPRESS"
INSTRUMENT_ID = HRSC
INSTRUMENT_NAME = "HIGH RESOLUTION STEREO CAMERA"
MISSION_NAME = "MARS EXPRESS"
MISSION_PHASE_NAME = ME_Phase_27
PROCESSING_LEVEL_ID = 3
PRODUCT_CREATION_TIME = 2016-10-28T10:09:05.000Z
PRODUCT_ID = "HB690_0000_P13.JP2"
RELEASE_ID = 0115
REVISION_ID = 0000
/* QUALITY DATA ELEMENTS */
DATA_QUALITY_ID = 1
DATA_QUALITY_DESC = "Data calculated based on original SPICE kernels"
/* TIME DATA ELEMENTS */
SPACECRAFT_CLOCK_START_COUNT = "1/0311027389.07321"
SPACECRAFT_CLOCK_STOP_COUNT = "1/0311027731.16026"
START_TIME = 2013-03-10T20:30:04.377Z
STOP_TIME = 2013-03-10T20:34:17.085Z
/* ORBITAL DATA ELEMENTS */
ASCENDING_NODE_LONGITUDE = 354.42
MAXIMUM_RESOLUTION = 63.1
FOOTPRINT_POINT_LATITUDE = (53.4207,53.4036,53.3787,52.9802, 52.6638,52.3473,52.0306,51.7139,51.3972 ,50.922,50.4463,50.1292,49.6536,49.1778 ,48.7021,48.2264,47.9092,47.5921,47.275 ,46.9578,46.4822,46.1652,45.8482, 45.5313,45.2144,44.8977,44.5811,44.2646 ,43.948,43.6317,43.3154,42.8313,42.5068 ,42.1824,41.8582,41.5341,41.205,40.8727 ,40.5407,40.2089,39.8772,39.539,39.1992 ,38.8598,38.5205,38.1769,37.8297, 37.4829,37.1363,37.093,37.1029,37.108, 37.1123,37.4619,37.8095,38.1575,38.503, 38.8431,39.1833,39.5239,39.8641,40.1965 ,40.5291,40.862,41.195,41.5262,41.8512, 42.1762,42.5013,42.8267,43.3131,43.6301 ,43.9473,44.4234,44.7408,45.0583, 45.3759,45.6937,46.1704,46.4883,46.8063 ,47.1243,47.4425,47.7607,48.0787,48.397 ,48.8741,49.1921,49.6693,49.9875, 50.4647,50.7827,51.1007,51.5777,52.0545 ,52.3724,52.6903,53.0078,53.3253, 53.4207)
FOOTPRINT_POINT_LONGITUDE = (182.704,182.163,181.503,181.209, 181.243,181.276,181.308,181.34,181.37, 181.414,181.456,181.483,181.523,181.56, 181.596,181.63,181.652,181.674,181.694, 181.714,181.743,181.762,181.78,181.797, 181.814,181.83,181.845,181.86,181.875, 181.889,181.902,181.922,181.935,181.947 ,181.958,181.969,181.98,181.99,182.0, 182.01,182.018,182.027,182.035,182.043, 182.05,182.057,182.063,182.069,182.075, 182.41,182.949,183.322,183.806,184.065, 184.057,184.049,184.04,184.032,184.023, 184.014,184.005,183.996,183.987,183.977 ,183.968,183.958,183.948,183.938, 183.928,183.917,183.901,183.89,183.879, 183.862,183.851,183.839,183.827,183.814 ,183.795,183.782,183.769,183.756, 183.742,183.727,183.713,183.698,183.676 ,183.66,183.636,183.62,183.595,183.578, 183.56,183.533,183.505,183.486,183.466, 183.446,183.425,182.704)
ORBIT_NUMBER = 11690
ORBITAL_ECCENTRICITY = 0.572
ORBITAL_INCLINATION = 86.91
ORBITAL_SEMIMAJOR_AXIS = 8780.92
PERIAPSIS_ALTITUDE = 379.76
PERIAPSIS_ARGUMENT_ANGLE = 121.87
PERIAPSIS_TIME = 2013-03-10T20:29:14.000Z
SPACECRAFT_ORIENTATION = (0.0,-1.0,0.0)
^MEX_ORIENTATION_DESC = "MEX_ORIENTATION_DESC.TXT"
SPACECRAFT_POINTING_MODE = NADIR
^MEX_POINTING_DESC = "MEX_POINTING_DESC.TXT"
RIGHT_ASCENSION = -1e+32
DECLINATION = -1e+32
OFFSET_ANGLE = -1e+32
SPACECRAFT_SOLAR_DISTANCE = 2.08851e+08
TARGET_NAME = MARS
/* CAMERA DATA ELEMENTS */
DETECTOR_TEMPERATURE = 17.7588
FOCAL_PLANE_TEMPERATURE = 7.7677
INST_CMPRS_NAME = "DISCRETE COSINE TRANSFORMATION (DCT)"
INST_CMPRS_RATIO = 15.5637
INST_CMPRS_QUALITY = 0
INST_CMPRS_QUANTZ_TBL_ID = 0
INSTRUMENT_TEMPERATURE = 11.6418
LENS_TEMPERATURE = 8.7872
MACROPIXEL_SIZE = 4
MISSING_FRAMES = 0
PIXEL_SUBSAMPLING_FLAG = N
SIGNAL_CHAIN_ID = 3
/* RADIOMETRIC DATA ELEMENTS */
BANDWIDTH = 174.0
CENTER_FILTER_WAVELENGTH = 675.0
RADIANCE_OFFSET = 1.89918
RADIANCE_SCALING_FACTOR = 0.0137967
REFLECTANCE_SCALING_FACTOR = 0.000323694
MEX:REFLECTANCE_OFFSET = 0.0445581
/* IMAGE OBJECT DEFINITIONS */
OBJECT = IMAGE
  INTERCHANGE_FORMAT = BINARY
  LINES = 19290
  LINE_SAMPLES = 2356
  SAMPLE_TYPE = UNSIGNED_INTEGER
  SAMPLE_BITS = 8
  BANDS = 1
  BAND_STORAGE_TYPE = BAND_SEQUENTIAL
  MAXIMUM = 255
  MEAN = 144.478
  MINIMUM = 1
  STANDARD_DEVIATION = 61.4163
END_OBJECT = IMAGE
/* MAP OBJECT DEFINITIONS */
OBJECT = IMAGE_MAP_PROJECTION
  ^DATA_SET_MAP_PROJECTION_CATALOG= "DSMAP.CAT"
  A_AXIS_RADIUS = 3396.0
  B_AXIS_RADIUS = 3396.0
  C_AXIS_RADIUS = 3396.0
  CENTER_LATITUDE = 0.0
  CENTER_LONGITUDE = 183.0
  COORDINATE_SYSTEM_NAME = PLANETOGRAPHIC
  COORDINATE_SYSTEM_TYPE = "BODY-FIXED ROTATING"
  EASTERNMOST_LONGITUDE = 184.065
  FIRST_STANDARD_PARALLEL = "N/A"
  LINE_FIRST_PIXEL = 1
  LINE_LAST_PIXEL = 19290
  LINE_PROJECTION_OFFSET = 63279.125
  MAP_PROJECTION_ROTATION = 0.0
  MAP_PROJECTION_TYPE = SINUSOIDAL
  MAP_RESOLUTION = 1185.42760773333
  MAP_SCALE = 0.05
  MAXIMUM_LATITUDE = 53.4207
  MINIMUM_LATITUDE = 37.093
  POSITIVE_LONGITUDE_DIRECTION = EAST
  REFERENCE_LATITUDE = "N/A"
  REFERENCE_LONGITUDE = "N/A"
  SAMPLE_FIRST_PIXEL = 1
  SAMPLE_LAST_PIXEL = 2356
  SAMPLE_PROJECTION_OFFSET = 1304.375
  SECOND_STANDARD_PARALLEL = "N/A"
  WESTERNMOST_LONGITUDE = 181.209
END_OBJECT = IMAGE_MAP_PROJECTION
/* The JPEG2000 image data file associated with this label. */
OBJECT = COMPRESSED_FILE
  FILE_NAME = "HB690_0000_P13.JP2"
  RECORD_TYPE = UNDEFINED
  FILE_RECORDS = UNK
  ENCODING_TYPE = "JP2"
  INTERCHANGE_FORMAT = BINARY
  UNCOMPRESSED_FILE_NAME = "HB690_0000_P13.IMG"
  REQUIRED_STORAGE_BYTES = "45466088"
  ^DESCRIPTION = "JP2INFO.TXT"
END_OBJECT = COMPRESSED_FILE
END
